Long Tests report for BioC 3.22

See here for how to subscribe to these builds.

This page was generated on 2025-04-26 23:55 -0400 (Sat, 26 Apr 2025).

Approx. Package Snapshot Date/Time (git pull): 2025-04-26 09:55 -0400 (Sat, 26 Apr 2025)
See this page for all the Bioconductor builds and their schedule.

HostnameOSArch (*)R versionInstalled pkgs
nebbiolo2Linux (Ubuntu 24.04.1 LTS)x86_644.5.0 (2025-04-11) -- "How About a Twenty-Six" 4722
palomino8Windows Server 2022 Datacenterx644.5.0 (2025-04-11 ucrt) -- "How About a Twenty-Six" 4494
lconwaymacOS 12.7.1 Montereyx86_644.5.0 Patched (2025-04-21 r88169) -- "How About a Twenty-Six" 4523
Click on any hostname to see more info about the system (e.g. compilers)      (*) as reported by 'uname -p', except on Windows and Mac OS X

Package status is indicated by one of the following glyphs
  TIMEOUT  
CHECK of package took more than 360 minutes
  ERROR  
Bad DESCRIPTION file, or CHECK of package produced errors
  WARNINGS  
CHECK of package produced warnings
  OK  
CHECK of package went OK
  NA  
CHECK result is not available because of an anomaly in the Build System
skipped
CHECK of package was skipped because the BUILD step failed
Click on any glyph in the report below to access the detailed report.

QUICK STATSOS / ArchCHECK
nebbiolo2Linux (Ubuntu 24.04.1 LTS) / x86_64
012414
palomino8Windows Server 2022 Datacenter / x64
013512
lconwaymacOS 12.7.1 Monterey / x86_64
010416
Package 1/30HostnameOS / ArchCHECK
APAlyzer 1.23.0  (landing page)
Ruijia Wang
git_last_commit: 1bff29d
git_last_commit_date: 2025-04-15 11:48:46 -0400
nebbiolo2Linux (Ubuntu 24.04.1 LTS) / x86_64  ERROR  
palomino8Windows Server 2022 Datacenter / x64  ERROR  
lconwaymacOS 12.7.1 Monterey / x86_64  ERROR  
Package 2/30HostnameOS / ArchCHECK
autonomics 1.17.0  (landing page)
Aditya Bhagwat
git_last_commit: f051989
git_last_commit_date: 2025-04-15 12:21:58 -0400
nebbiolo2Linux (Ubuntu 24.04.1 LTS) / x86_64  ERROR  
palomino8Windows Server 2022 Datacenter / x64  ERROR  
lconwaymacOS 12.7.1 Monterey / x86_64  ERROR  
Package 3/30HostnameOS / ArchCHECK
basilisk 1.21.0  (landing page)
Aaron Lun
git_last_commit: c0ae3c0
git_last_commit_date: 2025-04-15 11:54:33 -0400
nebbiolo2Linux (Ubuntu 24.04.1 LTS) / x86_64  OK  
palomino8Windows Server 2022 Datacenter / x64  OK  
lconwaymacOS 12.7.1 Monterey / x86_64  OK  
Package 4/30HostnameOS / ArchCHECK
beachmat 2.25.0  (landing page)
Aaron Lun
git_last_commit: 3616029
git_last_commit_date: 2025-04-15 11:12:29 -0400
nebbiolo2Linux (Ubuntu 24.04.1 LTS) / x86_64  WARNINGS  
palomino8Windows Server 2022 Datacenter / x64  WARNINGS  
lconwaymacOS 12.7.1 Monterey / x86_64  WARNINGS  
Package 5/30HostnameOS / ArchCHECK
biodb 1.17.0  (landing page)
Pierrick Roger
git_last_commit: eaf1a83
git_last_commit_date: 2025-04-15 12:29:47 -0400
nebbiolo2Linux (Ubuntu 24.04.1 LTS) / x86_64  WARNINGS  
palomino8Windows Server 2022 Datacenter / x64  ERROR  
lconwaymacOS 12.7.1 Monterey / x86_64  OK  
Package 6/30HostnameOS / ArchCHECK
biodbChebi 1.15.0  (landing page)
Pierrick Roger
git_last_commit: 1a7ef22
git_last_commit_date: 2025-04-15 12:39:10 -0400
nebbiolo2Linux (Ubuntu 24.04.1 LTS) / x86_64  OK  
palomino8Windows Server 2022 Datacenter / x64  OK  
lconwaymacOS 12.7.1 Monterey / x86_64  OK  
Package 7/30HostnameOS / ArchCHECK
biodbHmdb 1.15.0  (landing page)
Pierrick Roger
git_last_commit: 9920d92
git_last_commit_date: 2025-04-15 12:42:50 -0400
nebbiolo2Linux (Ubuntu 24.04.1 LTS) / x86_64  WARNINGS  
palomino8Windows Server 2022 Datacenter / x64  WARNINGS  
lconwaymacOS 12.7.1 Monterey / x86_64  WARNINGS  
Package 8/30HostnameOS / ArchCHECK
biodbNcbi 1.13.0  (landing page)
Pierrick Roger
git_last_commit: 79256f8
git_last_commit_date: 2025-04-15 12:47:49 -0400
nebbiolo2Linux (Ubuntu 24.04.1 LTS) / x86_64  ERROR  
palomino8Windows Server 2022 Datacenter / x64  WARNINGS  
lconwaymacOS 12.7.1 Monterey / x86_64  WARNINGS  
Package 9/30HostnameOS / ArchCHECK
biodbNci 1.13.0  (landing page)
Pierrick Roger
git_last_commit: 536802f
git_last_commit_date: 2025-04-15 12:47:37 -0400
nebbiolo2Linux (Ubuntu 24.04.1 LTS) / x86_64  OK  
palomino8Windows Server 2022 Datacenter / x64  OK  
lconwaymacOS 12.7.1 Monterey / x86_64  OK  
Package 10/30HostnameOS / ArchCHECK
biodbUniprot 1.15.0  (landing page)
Pierrick Roger
git_last_commit: 4ba9515
git_last_commit_date: 2025-04-15 12:40:38 -0400
nebbiolo2Linux (Ubuntu 24.04.1 LTS) / x86_64  OK  
palomino8Windows Server 2022 Datacenter / x64  OK  
lconwaymacOS 12.7.1 Monterey / x86_64  OK  
Package 11/30HostnameOS / ArchCHECK
cBioPortalData 2.21.0  (landing page)
Marcel Ramos
git_last_commit: 3e5d791
git_last_commit_date: 2025-04-15 11:58:59 -0400
nebbiolo2Linux (Ubuntu 24.04.1 LTS) / x86_64  ERROR  
palomino8Windows Server 2022 Datacenter / x64  ERROR  
lconwaymacOS 12.7.1 Monterey / x86_64  ERROR  
Package 12/30HostnameOS / ArchCHECK
ChromSCape 1.19.0  (landing page)
Pacome Prompsy
git_last_commit: 76b4b21
git_last_commit_date: 2025-04-15 12:10:31 -0400
nebbiolo2Linux (Ubuntu 24.04.1 LTS) / x86_64  ERROR  
palomino8Windows Server 2022 Datacenter / x64  ERROR  
lconwaymacOS 12.7.1 Monterey / x86_64  ERROR  
Package 13/30HostnameOS / ArchCHECK
clusterExperiment 2.29.0  (landing page)
Elizabeth Purdom
git_last_commit: 8c7a71c
git_last_commit_date: 2025-04-15 11:03:22 -0400
nebbiolo2Linux (Ubuntu 24.04.1 LTS) / x86_64  ERROR  
palomino8Windows Server 2022 Datacenter / x64  ERROR  
lconwaymacOS 12.7.1 Monterey / x86_64  ERROR  
Package 14/30HostnameOS / ArchCHECK
CRISPRball 1.5.0  (landing page)
Jared Andrews
git_last_commit: 2d08022
git_last_commit_date: 2025-04-15 13:26:22 -0400
nebbiolo2Linux (Ubuntu 24.04.1 LTS) / x86_64  OK  
palomino8Windows Server 2022 Datacenter / x64  OK  
lconwaymacOS 12.7.1 Monterey / x86_64  OK  
Package 15/30HostnameOS / ArchCHECK
crisprScore 1.13.0  (landing page)
Jean-Philippe Fortin
git_last_commit: 0f6e423
git_last_commit_date: 2025-04-15 12:44:21 -0400
nebbiolo2Linux (Ubuntu 24.04.1 LTS) / x86_64  OK  
palomino8Windows Server 2022 Datacenter / x64  ERROR  
lconwaymacOS 12.7.1 Monterey / x86_64  OK  
Package 16/30HostnameOS / ArchCHECK
DelayedMatrixStats 1.31.0  (landing page)
Peter Hickey
git_last_commit: 70bb294
git_last_commit_date: 2025-04-15 11:15:25 -0400
nebbiolo2Linux (Ubuntu 24.04.1 LTS) / x86_64  OK  
palomino8Windows Server 2022 Datacenter / x64  OK  
lconwaymacOS 12.7.1 Monterey / x86_64  OK  
Package 17/30HostnameOS / ArchCHECK
DropletUtils 1.29.0  (landing page)
Jonathan Griffiths
git_last_commit: 113692c
git_last_commit_date: 2025-04-15 11:17:10 -0400
nebbiolo2Linux (Ubuntu 24.04.1 LTS) / x86_64  OK  
palomino8Windows Server 2022 Datacenter / x64  OK  
lconwaymacOS 12.7.1 Monterey / x86_64  OK  
Package 18/30HostnameOS / ArchCHECK
EpiMix 1.11.0  (landing page)
Yuanning Zheng
git_last_commit: 21976bd
git_last_commit_date: 2025-04-15 12:53:32 -0400
nebbiolo2Linux (Ubuntu 24.04.1 LTS) / x86_64  ERROR  
palomino8Windows Server 2022 Datacenter / x64  ERROR  
lconwaymacOS 12.7.1 Monterey / x86_64  ERROR  
Package 19/30HostnameOS / ArchCHECK
extraChIPs 1.13.0  (landing page)
Stevie Pederson
git_last_commit: 56d2081
git_last_commit_date: 2025-04-15 12:50:15 -0400
nebbiolo2Linux (Ubuntu 24.04.1 LTS) / x86_64  OK  
palomino8Windows Server 2022 Datacenter / x64  OK  
lconwaymacOS 12.7.1 Monterey / x86_64  OK  
Package 20/30HostnameOS / ArchCHECK
GenomicFeatures 1.61.0  (landing page)
H. Pagès
git_last_commit: 4acc8a7
git_last_commit_date: 2025-04-15 09:45:53 -0400
nebbiolo2Linux (Ubuntu 24.04.1 LTS) / x86_64  WARNINGS  
palomino8Windows Server 2022 Datacenter / x64  WARNINGS  
lconwaymacOS 12.7.1 Monterey / x86_64  WARNINGS  
Package 21/30HostnameOS / ArchCHECK
ginmappeR 1.5.0  (landing page)
Fernando Sola
git_last_commit: 1ea1ef8
git_last_commit_date: 2025-04-15 13:30:43 -0400
nebbiolo2Linux (Ubuntu 24.04.1 LTS) / x86_64  ERROR  
palomino8Windows Server 2022 Datacenter / x64  ERROR  
lconwaymacOS 12.7.1 Monterey / x86_64  ERROR  
Package 22/30HostnameOS / ArchCHECK
HDF5Array 1.37.0  (landing page)
Hervé Pagès
git_last_commit: 2d9647e
git_last_commit_date: 2025-04-15 10:58:57 -0400
nebbiolo2Linux (Ubuntu 24.04.1 LTS) / x86_64  OK  
palomino8Windows Server 2022 Datacenter / x64  OK  
lconwaymacOS 12.7.1 Monterey / x86_64  OK  
Package 23/30HostnameOS / ArchCHECK
midasHLA 1.17.0  (landing page)
Maciej Migdał
git_last_commit: 762c63c
git_last_commit_date: 2025-04-15 12:21:05 -0400
nebbiolo2Linux (Ubuntu 24.04.1 LTS) / x86_64  ERROR  
palomino8Windows Server 2022 Datacenter / x64  ERROR  
lconwaymacOS 12.7.1 Monterey / x86_64  ERROR  
Package 24/30HostnameOS / ArchCHECK
mosdef 1.5.0  (landing page)
Federico Marini
git_last_commit: b304351
git_last_commit_date: 2025-04-15 13:34:46 -0400
nebbiolo2Linux (Ubuntu 24.04.1 LTS) / x86_64  OK  
palomino8Windows Server 2022 Datacenter / x64  OK  
lconwaymacOS 12.7.1 Monterey / x86_64  OK  
Package 25/30HostnameOS / ArchCHECK
MungeSumstats 1.17.0  (landing page)
Alan Murphy
git_last_commit: 7ee8365
git_last_commit_date: 2025-04-15 12:26:47 -0400
nebbiolo2Linux (Ubuntu 24.04.1 LTS) / x86_64  ERROR  
palomino8Windows Server 2022 Datacenter / x64  OK  
lconwaymacOS 12.7.1 Monterey / x86_64  ERROR  
Package 26/30HostnameOS / ArchCHECK
rhdf5 2.53.0  (landing page)
Mike Smith
git_last_commit: 0fed373
git_last_commit_date: 2025-04-15 10:12:12 -0400
nebbiolo2Linux (Ubuntu 24.04.1 LTS) / x86_64  OK  
palomino8Windows Server 2022 Datacenter / x64  WARNINGS  
lconwaymacOS 12.7.1 Monterey / x86_64  OK  
Package 27/30HostnameOS / ArchCHECK
SimBu 1.11.0  (landing page)
Alexander Dietrich
git_last_commit: 216793c
git_last_commit_date: 2025-04-15 12:54:44 -0400
nebbiolo2Linux (Ubuntu 24.04.1 LTS) / x86_64  ERROR  
palomino8Windows Server 2022 Datacenter / x64  ERROR  
lconwaymacOS 12.7.1 Monterey / x86_64  OK  
Package 28/30HostnameOS / ArchCHECK
TENxIO 1.11.0  (landing page)
Marcel Ramos
git_last_commit: 742c58f
git_last_commit_date: 2025-04-15 12:57:57 -0400
nebbiolo2Linux (Ubuntu 24.04.1 LTS) / x86_64  OK  
palomino8Windows Server 2022 Datacenter / x64  OK  
lconwaymacOS 12.7.1 Monterey / x86_64  OK  
Package 29/30HostnameOS / ArchCHECK
xcms 4.7.0  (landing page)
Steffen Neumann
git_last_commit: 67d516c
git_last_commit_date: 2025-04-15 09:36:15 -0400
nebbiolo2Linux (Ubuntu 24.04.1 LTS) / x86_64  ERROR  
palomino8Windows Server 2022 Datacenter / x64  ERROR  
lconwaymacOS 12.7.1 Monterey / x86_64  ERROR  
Package 30/30HostnameOS / ArchCHECK
zellkonverter 1.19.0  (landing page)
Luke Zappia
git_last_commit: c17a172
git_last_commit_date: 2025-04-19 07:09:31 -0400
nebbiolo2Linux (Ubuntu 24.04.1 LTS) / x86_64  OK  
palomino8Windows Server 2022 Datacenter / x64  ERROR  
lconwaymacOS 12.7.1 Monterey / x86_64  OK