Back to Multiple platform build/check report for BioC 3.21: simplified long |
|
This page was generated on 2025-04-28 13:01 -0400 (Mon, 28 Apr 2025).
Hostname | OS | Arch (*) | R version | Installed pkgs |
---|---|---|---|---|
nebbiolo1 | Linux (Ubuntu 24.04.1 LTS) | x86_64 | 4.5.0 RC (2025-04-04 r88126) -- "How About a Twenty-Six" | 4832 |
palomino7 | Windows Server 2022 Datacenter | x64 | 4.5.0 RC (2025-04-04 r88126 ucrt) -- "How About a Twenty-Six" | 4574 |
merida1 | macOS 12.7.5 Monterey | x86_64 | 4.5.0 RC (2025-04-04 r88126) -- "How About a Twenty-Six" | 4558 |
kjohnson1 | macOS 13.6.6 Ventura | arm64 | 4.5.0 RC (2025-04-04 r88129) -- "How About a Twenty-Six" | 4553 |
Click on any hostname to see more info about the system (e.g. compilers) (*) as reported by 'uname -p', except on Windows and Mac OS X |
Package 1953/2341 | Hostname | OS / Arch | INSTALL | BUILD | CHECK | BUILD BIN | ||||||||
segmentSeq 2.42.0 (landing page) Samuel Granjeaud
| nebbiolo1 | Linux (Ubuntu 24.04.1 LTS) / x86_64 | OK | OK | OK | ![]() | ||||||||
palomino7 | Windows Server 2022 Datacenter / x64 | OK | OK | OK | OK | ![]() | ||||||||
merida1 | macOS 12.7.5 Monterey / x86_64 | OK | OK | OK | ERROR | |||||||||
kjohnson1 | macOS 13.6.6 Ventura / arm64 | OK | OK | OK | ERROR | |||||||||
To the developers/maintainers of the segmentSeq package: - Allow up to 24 hours (and sometimes 48 hours) for your latest push to git@git.bioconductor.org:packages/segmentSeq.git to reflect on this report. See Troubleshooting Build Report for more information. - Use the following Renviron settings to reproduce errors and warnings. - If 'R CMD check' started to fail recently on the Linux builder(s) over a missing dependency, add the missing dependency to 'Suggests:' in your DESCRIPTION file. See Renviron.bioc for more information. |
Package: segmentSeq |
Version: 2.42.0 |
Command: rm -rf segmentSeq.buildbin-libdir && mkdir segmentSeq.buildbin-libdir && /Users/biocbuild/BBS/utils/build-universal.sh segmentSeq_2.42.0.tar.gz /Library/Frameworks/R.framework/Resources/bin/R segmentSeq.buildbin-libdir |
StartedAt: 2025-04-25 14:31:46 -0400 (Fri, 25 Apr 2025) |
EndedAt: 2025-04-25 14:33:30 -0400 (Fri, 25 Apr 2025) |
EllapsedTime: 104.4 seconds |
RetCode: 1 |
Status: ERROR |
PackageFile: None |
PackageFileSize: NA |
############################################################################## ############################################################################## ### ### Running command: ### ### rm -rf segmentSeq.buildbin-libdir && mkdir segmentSeq.buildbin-libdir && /Users/biocbuild/BBS/utils/build-universal.sh segmentSeq_2.42.0.tar.gz /Library/Frameworks/R.framework/Resources/bin/R segmentSeq.buildbin-libdir ### ############################################################################## ############################################################################## >>>>>>> >>>>>>> INSTALLATION WITH 'R CMD INSTALL --preclean --no-multiarch --library=segmentSeq.buildbin-libdir segmentSeq_2.42.0.tar.gz' >>>>>>> * installing *source* package ‘segmentSeq’ ... ** this is package ‘segmentSeq’ version ‘2.42.0’ ** using staged installation ** R ** data ** inst ** byte-compile and prepare package for lazy loading ** help *** installing help indices ** building package indices ** installing vignettes ** testing if installed package can be loaded from temporary location ** testing if installed package can be loaded from final location ** testing if installed package keeps a record of temporary installation path * DONE (segmentSeq) chown: segmentSeq.buildbin-libdir/segmentSeq/CITATION: Operation not permitted chown: segmentSeq.buildbin-libdir/segmentSeq/extdata/short_13_C24_col_trim.fastq_CG_methCalls.gz: Operation not permitted chown: segmentSeq.buildbin-libdir/segmentSeq/extdata/short_18B_C24_C24_trim.fastq_CG_methCalls.gz: Operation not permitted chown: segmentSeq.buildbin-libdir/segmentSeq/extdata/SL26.txt: Operation not permitted chown: segmentSeq.buildbin-libdir/segmentSeq/extdata/SL32.txt: Operation not permitted chown: segmentSeq.buildbin-libdir/segmentSeq/extdata/short_Sample_28_trimmed.fastq_CG_methCalls.gz: Operation not permitted chown: segmentSeq.buildbin-libdir/segmentSeq/extdata/SL9.txt: Operation not permitted chown: segmentSeq.buildbin-libdir/segmentSeq/extdata/short_Sample_17A_trimmed.fastq_CG_methCalls.gz: Operation not permitted chown: segmentSeq.buildbin-libdir/segmentSeq/extdata/SL10.txt: Operation not permitted chown: segmentSeq.buildbin-libdir/segmentSeq/extdata: Operation not permitted chown: segmentSeq.buildbin-libdir/segmentSeq/R/segmentSeq.rdx: Operation not permitted chown: segmentSeq.buildbin-libdir/segmentSeq/R/segmentSeq.rdb: Operation not permitted chown: segmentSeq.buildbin-libdir/segmentSeq/R/segmentSeq: Operation not permitted chown: segmentSeq.buildbin-libdir/segmentSeq/R: Operation not permitted chown: segmentSeq.buildbin-libdir/segmentSeq/Meta/vignette.rds: Operation not permitted chown: segmentSeq.buildbin-libdir/segmentSeq/Meta/data.rds: Operation not permitted chown: segmentSeq.buildbin-libdir/segmentSeq/Meta/links.rds: Operation not permitted chown: segmentSeq.buildbin-libdir/segmentSeq/Meta/features.rds: Operation not permitted chown: segmentSeq.buildbin-libdir/segmentSeq/Meta/nsInfo.rds: Operation not permitted chown: segmentSeq.buildbin-libdir/segmentSeq/Meta/package.rds: Operation not permitted chown: segmentSeq.buildbin-libdir/segmentSeq/Meta/hsearch.rds: Operation not permitted chown: segmentSeq.buildbin-libdir/segmentSeq/Meta/Rd.rds: Operation not permitted chown: segmentSeq.buildbin-libdir/segmentSeq/Meta: Operation not permitted chown: segmentSeq.buildbin-libdir/segmentSeq/NAMESPACE: Operation not permitted chown: segmentSeq.buildbin-libdir/segmentSeq/html/R.css: Operation not permitted chown: segmentSeq.buildbin-libdir/segmentSeq/html/00Index.html: Operation not permitted chown: segmentSeq.buildbin-libdir/segmentSeq/html: Operation not permitted chown: segmentSeq.buildbin-libdir/segmentSeq/DESCRIPTION: Operation not permitted chown: segmentSeq.buildbin-libdir/segmentSeq/INDEX: Operation not permitted chown: segmentSeq.buildbin-libdir/segmentSeq/doc/segmentSeq.R: Operation not permitted chown: segmentSeq.buildbin-libdir/segmentSeq/doc/segmentSeq.html: Operation not permitted chown: segmentSeq.buildbin-libdir/segmentSeq/doc/index.html: Operation not permitted chown: segmentSeq.buildbin-libdir/segmentSeq/doc/methylationAnalysis.Rmd: Operation not permitted chown: segmentSeq.buildbin-libdir/segmentSeq/doc/segmentSeq.Rmd: Operation not permitted chown: segmentSeq.buildbin-libdir/segmentSeq/doc/methylationAnalysis.html: Operation not permitted chown: segmentSeq.buildbin-libdir/segmentSeq/doc/methylationAnalysis.R: Operation not permitted chown: segmentSeq.buildbin-libdir/segmentSeq/doc: Operation not permitted chown: segmentSeq.buildbin-libdir/segmentSeq/data/hSL.RData: Operation not permitted chown: segmentSeq.buildbin-libdir/segmentSeq/data: Operation not permitted chown: segmentSeq.buildbin-libdir/segmentSeq/help/AnIndex: Operation not permitted chown: segmentSeq.buildbin-libdir/segmentSeq/help/aliases.rds: Operation not permitted chown: segmentSeq.buildbin-libdir/segmentSeq/help/paths.rds: Operation not permitted chown: segmentSeq.buildbin-libdir/segmentSeq/help/segmentSeq.rdx: Operation not permitted chown: segmentSeq.buildbin-libdir/segmentSeq/help/segmentSeq.rdb: Operation not permitted chown: segmentSeq.buildbin-libdir/segmentSeq/help: Operation not permitted chown: segmentSeq.buildbin-libdir/segmentSeq: Operation not permitted