Back to Multiple platform build/check report for BioC 3.21: simplified long |
|
This page was generated on 2025-04-28 13:02 -0400 (Mon, 28 Apr 2025).
Hostname | OS | Arch (*) | R version | Installed pkgs |
---|---|---|---|---|
nebbiolo1 | Linux (Ubuntu 24.04.1 LTS) | x86_64 | 4.5.0 RC (2025-04-04 r88126) -- "How About a Twenty-Six" | 4832 |
palomino7 | Windows Server 2022 Datacenter | x64 | 4.5.0 RC (2025-04-04 r88126 ucrt) -- "How About a Twenty-Six" | 4574 |
merida1 | macOS 12.7.5 Monterey | x86_64 | 4.5.0 RC (2025-04-04 r88126) -- "How About a Twenty-Six" | 4558 |
kjohnson1 | macOS 13.6.6 Ventura | arm64 | 4.5.0 RC (2025-04-04 r88129) -- "How About a Twenty-Six" | 4553 |
Click on any hostname to see more info about the system (e.g. compilers) (*) as reported by 'uname -p', except on Windows and Mac OS X |
Package 1953/2341 | Hostname | OS / Arch | INSTALL | BUILD | CHECK | BUILD BIN | ||||||||
segmentSeq 2.42.0 (landing page) Samuel Granjeaud
| nebbiolo1 | Linux (Ubuntu 24.04.1 LTS) / x86_64 | OK | OK | OK | ![]() | ||||||||
palomino7 | Windows Server 2022 Datacenter / x64 | OK | OK | OK | OK | ![]() | ||||||||
merida1 | macOS 12.7.5 Monterey / x86_64 | OK | OK | OK | ERROR | |||||||||
kjohnson1 | macOS 13.6.6 Ventura / arm64 | OK | OK | OK | ERROR | |||||||||
To the developers/maintainers of the segmentSeq package: - Allow up to 24 hours (and sometimes 48 hours) for your latest push to git@git.bioconductor.org:packages/segmentSeq.git to reflect on this report. See Troubleshooting Build Report for more information. - Use the following Renviron settings to reproduce errors and warnings. - If 'R CMD check' started to fail recently on the Linux builder(s) over a missing dependency, add the missing dependency to 'Suggests:' in your DESCRIPTION file. See Renviron.bioc for more information. |
Package: segmentSeq |
Version: 2.42.0 |
Command: /Library/Frameworks/R.framework/Resources/bin/R CMD check --install=check:segmentSeq.install-out.txt --library=/Library/Frameworks/R.framework/Resources/library --no-vignettes --timings segmentSeq_2.42.0.tar.gz |
StartedAt: 2025-04-26 11:00:27 -0400 (Sat, 26 Apr 2025) |
EndedAt: 2025-04-26 11:07:34 -0400 (Sat, 26 Apr 2025) |
EllapsedTime: 426.8 seconds |
RetCode: 0 |
Status: OK |
CheckDir: segmentSeq.Rcheck |
Warnings: 0 |
############################################################################## ############################################################################## ### ### Running command: ### ### /Library/Frameworks/R.framework/Resources/bin/R CMD check --install=check:segmentSeq.install-out.txt --library=/Library/Frameworks/R.framework/Resources/library --no-vignettes --timings segmentSeq_2.42.0.tar.gz ### ############################################################################## ############################################################################## * using log directory ‘/Users/biocbuild/bbs-3.21-bioc/meat/segmentSeq.Rcheck’ * using R version 4.5.0 RC (2025-04-04 r88129) * using platform: aarch64-apple-darwin20 * R was compiled by Apple clang version 14.0.0 (clang-1400.0.29.202) GNU Fortran (GCC) 14.2.0 * running under: macOS Ventura 13.7.5 * using session charset: UTF-8 * using option ‘--no-vignettes’ * checking for file ‘segmentSeq/DESCRIPTION’ ... OK * checking extension type ... Package * this is package ‘segmentSeq’ version ‘2.42.0’ * checking package namespace information ... OK * checking package dependencies ... OK * checking if this is a source package ... OK * checking if there is a namespace ... OK * checking for hidden files and directories ... OK * checking for portable file names ... OK * checking for sufficient/correct file permissions ... OK * checking whether package ‘segmentSeq’ can be installed ... OK * checking installed package size ... OK * checking package directory ... OK * checking ‘build’ directory ... OK * checking DESCRIPTION meta-information ... OK * checking top-level files ... OK * checking for left-over files ... OK * checking index information ... OK * checking package subdirectories ... OK * checking code files for non-ASCII characters ... OK * checking R files for syntax errors ... OK * checking whether the package can be loaded ... OK * checking whether the package can be loaded with stated dependencies ... OK * checking whether the package can be unloaded cleanly ... OK * checking whether the namespace can be loaded with stated dependencies ... OK * checking whether the namespace can be unloaded cleanly ... OK * checking dependencies in R code ... OK * checking S3 generic/method consistency ... OK * checking replacement functions ... OK * checking foreign function calls ... OK * checking R code for possible problems ... OK * checking Rd files ... OK * checking Rd metadata ... OK * checking Rd cross-references ... NOTE Found the following Rd file(s) with Rd \link{} targets missing package anchors: averageMethylationRegions.Rd: GRanges-class findChunks.Rd: GRanges-class, GRanges lociData-class.Rd: countData, countData-class methData-class.Rd: countData, countData-class Please provide package anchors for all Rd \link{} targets not in the package itself and the base packages. * checking for missing documentation entries ... OK * checking for code/documentation mismatches ... OK * checking Rd \usage sections ... OK * checking Rd contents ... OK * checking for unstated dependencies in examples ... OK * checking contents of ‘data’ directory ... OK * checking data for non-ASCII characters ... OK * checking data for ASCII and uncompressed saves ... OK * checking files in ‘vignettes’ ... OK * checking examples ... OK Examples with CPU (user + system) or elapsed time > 5s user system elapsed classifySeg 42.555 0.265 43.121 lociLikelihoods 20.248 0.109 25.087 heuristicSeg 17.364 0.080 19.253 plotGenome 10.330 0.083 13.199 getCounts 7.742 0.027 7.798 segmentSeq-package 6.234 0.037 7.755 segData-class 6.131 0.062 7.795 processAD 6.097 0.036 7.189 readMethods 5.031 0.027 5.975 getOverlaps 4.975 0.018 5.011 normaliseNC 4.669 0.226 6.102 readMeths 4.416 0.246 5.445 * checking for unstated dependencies in vignettes ... OK * checking package vignettes ... OK * checking running R code from vignettes ... SKIPPED * checking re-building of vignette outputs ... SKIPPED * checking PDF version of manual ... OK * DONE Status: 1 NOTE See ‘/Users/biocbuild/bbs-3.21-bioc/meat/segmentSeq.Rcheck/00check.log’ for details.
segmentSeq.Rcheck/00install.out
############################################################################## ############################################################################## ### ### Running command: ### ### /Library/Frameworks/R.framework/Resources/bin/R CMD INSTALL segmentSeq ### ############################################################################## ############################################################################## * installing to library ‘/Library/Frameworks/R.framework/Versions/4.5-arm64/Resources/library’ * installing *source* package ‘segmentSeq’ ... ** this is package ‘segmentSeq’ version ‘2.42.0’ ** using staged installation ** R ** data ** inst ** byte-compile and prepare package for lazy loading ** help *** installing help indices ** building package indices ** installing vignettes ** testing if installed package can be loaded from temporary location ** testing if installed package can be loaded from final location ** testing if installed package keeps a record of temporary installation path * DONE (segmentSeq)
segmentSeq.Rcheck/segmentSeq-Ex.timings
name | user | system | elapsed | |
alignmentData-class | 4.926 | 0.023 | 4.968 | |
classifySeg | 42.555 | 0.265 | 43.121 | |
findChunks | 4.900 | 0.017 | 4.929 | |
getCounts | 7.742 | 0.027 | 7.798 | |
getOverlaps | 4.975 | 0.018 | 5.011 | |
heuristicSeg | 17.364 | 0.080 | 19.253 | |
lociLikelihoods | 20.248 | 0.109 | 25.087 | |
normaliseNC | 4.669 | 0.226 | 6.102 | |
plotGenome | 10.330 | 0.083 | 13.199 | |
processAD | 6.097 | 0.036 | 7.189 | |
readMethods | 5.031 | 0.027 | 5.975 | |
readMeths | 4.416 | 0.246 | 5.445 | |
segData-class | 6.131 | 0.062 | 7.795 | |
segmentSeq-package | 6.234 | 0.037 | 7.755 | |
thresholdFinder | 3.506 | 0.216 | 4.615 | |