Back to Multiple platform build/check report for BioC 3.21:   simplified   long
ABCDEFGHIJKLMNOPQR[S]TUVWXYZ

This page was generated on 2025-04-28 13:01 -0400 (Mon, 28 Apr 2025).

HostnameOSArch (*)R versionInstalled pkgs
nebbiolo1Linux (Ubuntu 24.04.1 LTS)x86_644.5.0 RC (2025-04-04 r88126) -- "How About a Twenty-Six" 4832
palomino7Windows Server 2022 Datacenterx644.5.0 RC (2025-04-04 r88126 ucrt) -- "How About a Twenty-Six" 4574
merida1macOS 12.7.5 Montereyx86_644.5.0 RC (2025-04-04 r88126) -- "How About a Twenty-Six" 4558
kjohnson1macOS 13.6.6 Venturaarm644.5.0 RC (2025-04-04 r88129) -- "How About a Twenty-Six" 4553
Click on any hostname to see more info about the system (e.g. compilers)      (*) as reported by 'uname -p', except on Windows and Mac OS X

Package 2124/2341HostnameOS / ArchINSTALLBUILDCHECKBUILD BIN
SubCellBarCode 1.24.0  (landing page)
Taner Arslan
Snapshot Date: 2025-04-24 15:01 -0400 (Thu, 24 Apr 2025)
git_url: https://git.bioconductor.org/packages/SubCellBarCode
git_branch: RELEASE_3_21
git_last_commit: fd4fea3
git_last_commit_date: 2025-04-15 11:46:29 -0400 (Tue, 15 Apr 2025)
nebbiolo1Linux (Ubuntu 24.04.1 LTS) / x86_64  OK    OK    OK  UNNEEDED, same version is already published
palomino7Windows Server 2022 Datacenter / x64  OK    OK    OK    OK  UNNEEDED, same version is already published
merida1macOS 12.7.5 Monterey / x86_64  OK    OK    OK    ERROR  
kjohnson1macOS 13.6.6 Ventura / arm64  OK    OK    OK    ERROR  


CHECK results for SubCellBarCode on merida1

To the developers/maintainers of the SubCellBarCode package:
- Allow up to 24 hours (and sometimes 48 hours) for your latest push to git@git.bioconductor.org:packages/SubCellBarCode.git to reflect on this report. See Troubleshooting Build Report for more information.
- Use the following Renviron settings to reproduce errors and warnings.
- If 'R CMD check' started to fail recently on the Linux builder(s) over a missing dependency, add the missing dependency to 'Suggests:' in your DESCRIPTION file. See Renviron.bioc for more information.

raw results


Summary

Package: SubCellBarCode
Version: 1.24.0
Command: /Library/Frameworks/R.framework/Resources/bin/R CMD check --install=check:SubCellBarCode.install-out.txt --library=/Library/Frameworks/R.framework/Resources/library --no-vignettes --timings SubCellBarCode_1.24.0.tar.gz
StartedAt: 2025-04-25 11:25:42 -0400 (Fri, 25 Apr 2025)
EndedAt: 2025-04-25 11:33:07 -0400 (Fri, 25 Apr 2025)
EllapsedTime: 445.0 seconds
RetCode: 0
Status:   OK  
CheckDir: SubCellBarCode.Rcheck
Warnings: 0

Command output

##############################################################################
##############################################################################
###
### Running command:
###
###   /Library/Frameworks/R.framework/Resources/bin/R CMD check --install=check:SubCellBarCode.install-out.txt --library=/Library/Frameworks/R.framework/Resources/library --no-vignettes --timings SubCellBarCode_1.24.0.tar.gz
###
##############################################################################
##############################################################################


* using log directory ‘/Users/biocbuild/bbs-3.21-bioc/meat/SubCellBarCode.Rcheck’
* using R version 4.5.0 RC (2025-04-04 r88126)
* using platform: x86_64-apple-darwin20
* R was compiled by
    Apple clang version 14.0.0 (clang-1400.0.29.202)
    GNU Fortran (GCC) 14.2.0
* running under: macOS Monterey 12.7.6
* using session charset: UTF-8
* using option ‘--no-vignettes’
* checking for file ‘SubCellBarCode/DESCRIPTION’ ... OK
* checking extension type ... Package
* this is package ‘SubCellBarCode’ version ‘1.24.0’
* package encoding: UTF-8
* checking package namespace information ... OK
* checking package dependencies ... OK
* checking if this is a source package ... OK
* checking if there is a namespace ... OK
* checking for hidden files and directories ... OK
* checking for portable file names ... OK
* checking for sufficient/correct file permissions ... OK
* checking whether package ‘SubCellBarCode’ can be installed ... OK
* checking installed package size ... OK
* checking package directory ... OK
* checking ‘build’ directory ... OK
* checking DESCRIPTION meta-information ... OK
* checking top-level files ... OK
* checking for left-over files ... OK
* checking index information ... OK
* checking package subdirectories ... OK
* checking code files for non-ASCII characters ... OK
* checking R files for syntax errors ... OK
* checking whether the package can be loaded ... OK
* checking whether the package can be loaded with stated dependencies ... OK
* checking whether the package can be unloaded cleanly ... OK
* checking whether the namespace can be loaded with stated dependencies ... OK
* checking whether the namespace can be unloaded cleanly ... OK
* checking dependencies in R code ... OK
* checking S3 generic/method consistency ... OK
* checking replacement functions ... OK
* checking foreign function calls ... OK
* checking R code for possible problems ... NOTE
calculateCoveredProtein: no visible binding for global variable
  ‘Compartments’
calculateCoveredProtein: no visible binding for global variable
  ‘ProteinCoverage’
candidateRelocatedProteins: no visible binding for global variable
  ‘Pearson.Corr’
markerQualityControl: no visible binding for global variable
  ‘Correlation’
markerQualityControl: no visible binding for global variable ‘Pearson’
markerQualityControl: no visible binding for global variable ‘Spearman’
plotBarcode: no visible binding for global variable ‘Level’
plotBarcode: no visible binding for global variable ‘Probability’
plotBarcode: no visible binding for global variable ‘Locs’
plotMultipleProtein: no visible binding for global variable
  ‘Neighborhood’
plotMultipleProtein: no visible binding for global variable ‘Count’
plotMultipleProtein: no visible binding for global variable
  ‘Compartment’
Undefined global functions or variables:
  Compartment Compartments Correlation Count Level Locs Neighborhood
  Pearson Pearson.Corr Probability ProteinCoverage Spearman
* checking Rd files ... OK
* checking Rd metadata ... OK
* checking Rd cross-references ... OK
* checking for missing documentation entries ... OK
* checking for code/documentation mismatches ... OK
* checking Rd \usage sections ... OK
* checking Rd contents ... OK
* checking for unstated dependencies in examples ... OK
* checking contents of ‘data’ directory ... OK
* checking data for non-ASCII characters ... OK
* checking LazyData ... OK
* checking data for ASCII and uncompressed saves ... OK
* checking files in ‘vignettes’ ... OK
* checking examples ... OK
Examples with CPU (user + system) or elapsed time > 5s
                               user system elapsed
applyThresholdCompartment    28.542  0.340  30.311
computeThresholdCompartment  22.092  0.141  22.674
applyThresholdNeighborhood   20.681  0.187  21.571
computeThresholdNeighborhood 17.812  0.129  18.500
svmExternalData              15.621  0.136  17.787
candidateRelocatedProteins   14.725  0.432  15.577
svmClassification            14.472  0.144  16.568
* checking for unstated dependencies in vignettes ... OK
* checking package vignettes ... OK
* checking running R code from vignettes ... SKIPPED
* checking re-building of vignette outputs ... SKIPPED
* checking PDF version of manual ... OK
* DONE

Status: 1 NOTE
See
  ‘/Users/biocbuild/bbs-3.21-bioc/meat/SubCellBarCode.Rcheck/00check.log’
for details.


Installation output

SubCellBarCode.Rcheck/00install.out

##############################################################################
##############################################################################
###
### Running command:
###
###   /Library/Frameworks/R.framework/Resources/bin/R CMD INSTALL SubCellBarCode
###
##############################################################################
##############################################################################


* installing to library ‘/Library/Frameworks/R.framework/Versions/4.5-x86_64/Resources/library’
* installing *source* package ‘SubCellBarCode’ ...
** this is package ‘SubCellBarCode’ version ‘1.24.0’
** using staged installation
** R
** data
*** moving datasets to lazyload DB
** byte-compile and prepare package for lazy loading
** help
*** installing help indices
** building package indices
** installing vignettes
** testing if installed package can be loaded from temporary location
** testing if installed package can be loaded from final location
** testing if installed package keeps a record of temporary installation path
* DONE (SubCellBarCode)

Tests output


Example timings

SubCellBarCode.Rcheck/SubCellBarCode-Ex.timings

nameusersystemelapsed
applyThresholdCompartment28.542 0.34030.311
applyThresholdNeighborhood20.681 0.18721.571
calRowMean0.0090.0010.010
calculateCoveredProtein0.3020.0050.308
candidateRelocatedProteins14.725 0.43215.577
compareCls0.0340.0030.036
computeThresholdCompartment22.092 0.14122.674
computeThresholdNeighborhood17.812 0.12918.500
convert2symbol0.0010.0010.003
hcc827Ctrl0.0060.0020.008
hcc827CtrlPSMCount0.0100.0010.014
hcc827GEF0.0050.0010.007
hcc827GEFClass0.0030.0010.004
hcc827GefPSMCount0.0020.0010.003
hcc827exon0.0060.0020.007
loadData0.0020.0010.003
markerQualityControl0.9980.0141.144
mergeCls0.0110.0010.023
mergeProbability0.0110.0010.013
plotBarcode1.3220.0101.540
plotMultipleProtein0.6300.0060.725
replacePrediction0.0100.0010.015
sankeyPlot0.0560.0020.067
sumProbability0.0110.0010.014
svmClassification14.472 0.14416.568
svmExternalData15.621 0.13617.787
tsneVisualization0.3850.0050.430