Back to Multiple platform build/check report for BioC 3.21:   simplified   long
ABCDEFGHIJKLMNOPQR[S]TUVWXYZ

This page was generated on 2025-04-28 13:02 -0400 (Mon, 28 Apr 2025).

HostnameOSArch (*)R versionInstalled pkgs
nebbiolo1Linux (Ubuntu 24.04.1 LTS)x86_644.5.0 RC (2025-04-04 r88126) -- "How About a Twenty-Six" 4832
palomino7Windows Server 2022 Datacenterx644.5.0 RC (2025-04-04 r88126 ucrt) -- "How About a Twenty-Six" 4574
merida1macOS 12.7.5 Montereyx86_644.5.0 RC (2025-04-04 r88126) -- "How About a Twenty-Six" 4558
kjohnson1macOS 13.6.6 Venturaarm644.5.0 RC (2025-04-04 r88129) -- "How About a Twenty-Six" 4553
Click on any hostname to see more info about the system (e.g. compilers)      (*) as reported by 'uname -p', except on Windows and Mac OS X

Package 2124/2341HostnameOS / ArchINSTALLBUILDCHECKBUILD BIN
SubCellBarCode 1.24.0  (landing page)
Taner Arslan
Snapshot Date: 2025-04-24 15:01 -0400 (Thu, 24 Apr 2025)
git_url: https://git.bioconductor.org/packages/SubCellBarCode
git_branch: RELEASE_3_21
git_last_commit: fd4fea3
git_last_commit_date: 2025-04-15 11:46:29 -0400 (Tue, 15 Apr 2025)
nebbiolo1Linux (Ubuntu 24.04.1 LTS) / x86_64  OK    OK    OK  UNNEEDED, same version is already published
palomino7Windows Server 2022 Datacenter / x64  OK    OK    OK    OK  UNNEEDED, same version is already published
merida1macOS 12.7.5 Monterey / x86_64  OK    OK    OK    ERROR  
kjohnson1macOS 13.6.6 Ventura / arm64  OK    OK    OK    ERROR  


CHECK results for SubCellBarCode on kjohnson1

To the developers/maintainers of the SubCellBarCode package:
- Allow up to 24 hours (and sometimes 48 hours) for your latest push to git@git.bioconductor.org:packages/SubCellBarCode.git to reflect on this report. See Troubleshooting Build Report for more information.
- Use the following Renviron settings to reproduce errors and warnings.
- If 'R CMD check' started to fail recently on the Linux builder(s) over a missing dependency, add the missing dependency to 'Suggests:' in your DESCRIPTION file. See Renviron.bioc for more information.

raw results


Summary

Package: SubCellBarCode
Version: 1.24.0
Command: /Library/Frameworks/R.framework/Resources/bin/R CMD check --install=check:SubCellBarCode.install-out.txt --library=/Library/Frameworks/R.framework/Resources/library --no-vignettes --timings SubCellBarCode_1.24.0.tar.gz
StartedAt: 2025-04-26 13:23:44 -0400 (Sat, 26 Apr 2025)
EndedAt: 2025-04-26 13:27:51 -0400 (Sat, 26 Apr 2025)
EllapsedTime: 246.2 seconds
RetCode: 0
Status:   OK  
CheckDir: SubCellBarCode.Rcheck
Warnings: 0

Command output

##############################################################################
##############################################################################
###
### Running command:
###
###   /Library/Frameworks/R.framework/Resources/bin/R CMD check --install=check:SubCellBarCode.install-out.txt --library=/Library/Frameworks/R.framework/Resources/library --no-vignettes --timings SubCellBarCode_1.24.0.tar.gz
###
##############################################################################
##############################################################################


* using log directory ‘/Users/biocbuild/bbs-3.21-bioc/meat/SubCellBarCode.Rcheck’
* using R version 4.5.0 RC (2025-04-04 r88129)
* using platform: aarch64-apple-darwin20
* R was compiled by
    Apple clang version 14.0.0 (clang-1400.0.29.202)
    GNU Fortran (GCC) 14.2.0
* running under: macOS Ventura 13.7.5
* using session charset: UTF-8
* using option ‘--no-vignettes’
* checking for file ‘SubCellBarCode/DESCRIPTION’ ... OK
* checking extension type ... Package
* this is package ‘SubCellBarCode’ version ‘1.24.0’
* package encoding: UTF-8
* checking package namespace information ... OK
* checking package dependencies ... OK
* checking if this is a source package ... OK
* checking if there is a namespace ... OK
* checking for hidden files and directories ... OK
* checking for portable file names ... OK
* checking for sufficient/correct file permissions ... OK
* checking whether package ‘SubCellBarCode’ can be installed ... OK
* checking installed package size ... OK
* checking package directory ... OK
* checking ‘build’ directory ... OK
* checking DESCRIPTION meta-information ... OK
* checking top-level files ... OK
* checking for left-over files ... OK
* checking index information ... OK
* checking package subdirectories ... OK
* checking code files for non-ASCII characters ... OK
* checking R files for syntax errors ... OK
* checking whether the package can be loaded ... OK
* checking whether the package can be loaded with stated dependencies ... OK
* checking whether the package can be unloaded cleanly ... OK
* checking whether the namespace can be loaded with stated dependencies ... OK
* checking whether the namespace can be unloaded cleanly ... OK
* checking dependencies in R code ... OK
* checking S3 generic/method consistency ... OK
* checking replacement functions ... OK
* checking foreign function calls ... OK
* checking R code for possible problems ... NOTE
calculateCoveredProtein: no visible binding for global variable
  ‘Compartments’
calculateCoveredProtein: no visible binding for global variable
  ‘ProteinCoverage’
candidateRelocatedProteins: no visible binding for global variable
  ‘Pearson.Corr’
markerQualityControl: no visible binding for global variable
  ‘Correlation’
markerQualityControl: no visible binding for global variable ‘Pearson’
markerQualityControl: no visible binding for global variable ‘Spearman’
plotBarcode: no visible binding for global variable ‘Level’
plotBarcode: no visible binding for global variable ‘Probability’
plotBarcode: no visible binding for global variable ‘Locs’
plotMultipleProtein: no visible binding for global variable
  ‘Neighborhood’
plotMultipleProtein: no visible binding for global variable ‘Count’
plotMultipleProtein: no visible binding for global variable
  ‘Compartment’
Undefined global functions or variables:
  Compartment Compartments Correlation Count Level Locs Neighborhood
  Pearson Pearson.Corr Probability ProteinCoverage Spearman
* checking Rd files ... OK
* checking Rd metadata ... OK
* checking Rd cross-references ... OK
* checking for missing documentation entries ... OK
* checking for code/documentation mismatches ... OK
* checking Rd \usage sections ... OK
* checking Rd contents ... OK
* checking for unstated dependencies in examples ... OK
* checking contents of ‘data’ directory ... OK
* checking data for non-ASCII characters ... OK
* checking LazyData ... OK
* checking data for ASCII and uncompressed saves ... OK
* checking files in ‘vignettes’ ... OK
* checking examples ... OK
Examples with CPU (user + system) or elapsed time > 5s
                               user system elapsed
applyThresholdCompartment    14.980  0.235  15.540
computeThresholdCompartment  11.708  0.118  11.878
applyThresholdNeighborhood   11.465  0.195  12.118
computeThresholdNeighborhood 10.948  0.126  11.123
svmExternalData               9.579  0.123   9.799
svmClassification             8.277  0.095   8.417
candidateRelocatedProteins    6.524  0.433   7.115
* checking for unstated dependencies in vignettes ... OK
* checking package vignettes ... OK
* checking running R code from vignettes ... SKIPPED
* checking re-building of vignette outputs ... SKIPPED
* checking PDF version of manual ... OK
* DONE

Status: 1 NOTE
See
  ‘/Users/biocbuild/bbs-3.21-bioc/meat/SubCellBarCode.Rcheck/00check.log’
for details.


Installation output

SubCellBarCode.Rcheck/00install.out

##############################################################################
##############################################################################
###
### Running command:
###
###   /Library/Frameworks/R.framework/Resources/bin/R CMD INSTALL SubCellBarCode
###
##############################################################################
##############################################################################


* installing to library ‘/Library/Frameworks/R.framework/Versions/4.5-arm64/Resources/library’
* installing *source* package ‘SubCellBarCode’ ...
** this is package ‘SubCellBarCode’ version ‘1.24.0’
** using staged installation
** R
** data
*** moving datasets to lazyload DB
** byte-compile and prepare package for lazy loading
** help
*** installing help indices
** building package indices
** installing vignettes
** testing if installed package can be loaded from temporary location
** testing if installed package can be loaded from final location
** testing if installed package keeps a record of temporary installation path
* DONE (SubCellBarCode)

Tests output


Example timings

SubCellBarCode.Rcheck/SubCellBarCode-Ex.timings

nameusersystemelapsed
applyThresholdCompartment14.980 0.23515.540
applyThresholdNeighborhood11.465 0.19512.118
calRowMean0.0060.0000.006
calculateCoveredProtein0.1280.0020.131
candidateRelocatedProteins6.5240.4337.115
compareCls0.0170.0000.018
computeThresholdCompartment11.708 0.11811.878
computeThresholdNeighborhood10.948 0.12611.123
convert2symbol000
hcc827Ctrl0.0020.0010.001
hcc827CtrlPSMCount0.0060.0000.008
hcc827GEF0.0010.0000.001
hcc827GEFClass000
hcc827GefPSMCount000
hcc827exon0.0010.0000.001
loadData000
markerQualityControl0.3570.0140.383
mergeCls0.0020.0010.003
mergeProbability0.0040.0010.004
plotBarcode0.3380.0040.354
plotMultipleProtein0.2180.0010.236
replacePrediction0.0040.0000.003
sankeyPlot0.0270.0010.029
sumProbability0.0040.0000.004
svmClassification8.2770.0958.417
svmExternalData9.5790.1239.799
tsneVisualization0.1920.0050.199