Back to Multiple platform build/check report for BioC 3.21:   simplified   long
[A]BCDEFGHIJKLMNOPQRSTUVWXYZ

This page was generated on 2025-05-01 11:41 -0400 (Thu, 01 May 2025).

HostnameOSArch (*)R versionInstalled pkgs
nebbiolo1Linux (Ubuntu 24.04.1 LTS)x86_644.5.0 RC (2025-04-04 r88126) -- "How About a Twenty-Six" 4832
palomino7Windows Server 2022 Datacenterx644.5.0 RC (2025-04-04 r88126 ucrt) -- "How About a Twenty-Six" 4574
merida1macOS 12.7.5 Montereyx86_644.5.0 RC (2025-04-04 r88126) -- "How About a Twenty-Six" 4599
kjohnson1macOS 13.6.6 Venturaarm644.5.0 RC (2025-04-04 r88129) -- "How About a Twenty-Six" 4553
Click on any hostname to see more info about the system (e.g. compilers)      (*) as reported by 'uname -p', except on Windows and Mac OS X

Package 59/2341HostnameOS / ArchINSTALLBUILDCHECKBUILD BIN
AlpsNMR 4.10.0  (landing page)
Sergio Oller Moreno
Snapshot Date: 2025-04-28 17:48 -0400 (Mon, 28 Apr 2025)
git_url: https://git.bioconductor.org/packages/AlpsNMR
git_branch: RELEASE_3_21
git_last_commit: aa900cf
git_last_commit_date: 2025-04-15 12:14:56 -0400 (Tue, 15 Apr 2025)
nebbiolo1Linux (Ubuntu 24.04.1 LTS) / x86_64  OK    OK    OK  UNNEEDED, same version is already published
palomino7Windows Server 2022 Datacenter / x64  OK    OK    OK    OK  UNNEEDED, same version is already published
merida1macOS 12.7.5 Monterey / x86_64  OK    OK    OK    OK  UNNEEDED, same version is already published
kjohnson1macOS 13.6.6 Ventura / arm64  OK    OK    OK    OK  UNNEEDED, same version is already published


CHECK results for AlpsNMR on merida1

To the developers/maintainers of the AlpsNMR package:
- Allow up to 24 hours (and sometimes 48 hours) for your latest push to git@git.bioconductor.org:packages/AlpsNMR.git to reflect on this report. See Troubleshooting Build Report for more information.
- Use the following Renviron settings to reproduce errors and warnings.
- If 'R CMD check' started to fail recently on the Linux builder(s) over a missing dependency, add the missing dependency to 'Suggests:' in your DESCRIPTION file. See Renviron.bioc for more information.

raw results


Summary

Package: AlpsNMR
Version: 4.10.0
Command: /Library/Frameworks/R.framework/Resources/bin/R CMD check --install=check:AlpsNMR.install-out.txt --library=/Library/Frameworks/R.framework/Resources/library --no-vignettes --timings AlpsNMR_4.10.0.tar.gz
StartedAt: 2025-04-29 03:12:30 -0400 (Tue, 29 Apr 2025)
EndedAt: 2025-04-29 03:18:52 -0400 (Tue, 29 Apr 2025)
EllapsedTime: 381.2 seconds
RetCode: 0
Status:   OK  
CheckDir: AlpsNMR.Rcheck
Warnings: 0

Command output

##############################################################################
##############################################################################
###
### Running command:
###
###   /Library/Frameworks/R.framework/Resources/bin/R CMD check --install=check:AlpsNMR.install-out.txt --library=/Library/Frameworks/R.framework/Resources/library --no-vignettes --timings AlpsNMR_4.10.0.tar.gz
###
##############################################################################
##############################################################################


* using log directory ‘/Users/biocbuild/bbs-3.21-bioc/meat/AlpsNMR.Rcheck’
* using R version 4.5.0 RC (2025-04-04 r88126)
* using platform: x86_64-apple-darwin20
* R was compiled by
    Apple clang version 14.0.0 (clang-1400.0.29.202)
    GNU Fortran (GCC) 14.2.0
* running under: macOS Monterey 12.7.6
* using session charset: UTF-8
* using option ‘--no-vignettes’
* checking for file ‘AlpsNMR/DESCRIPTION’ ... OK
* checking extension type ... Package
* this is package ‘AlpsNMR’ version ‘4.10.0’
* package encoding: UTF-8
* checking package namespace information ... OK
* checking package dependencies ... INFO
Imports includes 26 non-default packages.
Importing from so many packages makes the package vulnerable to any of
them becoming unavailable.  Move as many as possible to Suggests and
use conditionally.
* checking if this is a source package ... OK
* checking if there is a namespace ... OK
* checking for hidden files and directories ... OK
* checking for portable file names ... OK
* checking for sufficient/correct file permissions ... OK
* checking whether package ‘AlpsNMR’ can be installed ... OK
* checking installed package size ... OK
* checking package directory ... OK
* checking ‘build’ directory ... OK
* checking DESCRIPTION meta-information ... OK
* checking top-level files ... OK
* checking for left-over files ... OK
* checking index information ... OK
* checking package subdirectories ... OK
* checking code files for non-ASCII characters ... OK
* checking R files for syntax errors ... OK
* checking whether the package can be loaded ... OK
* checking whether the package can be loaded with stated dependencies ... OK
* checking whether the package can be unloaded cleanly ... OK
* checking whether the namespace can be loaded with stated dependencies ... OK
* checking whether the namespace can be unloaded cleanly ... OK
* checking dependencies in R code ... OK
* checking S3 generic/method consistency ... OK
* checking replacement functions ... OK
* checking foreign function calls ... OK
* checking R code for possible problems ... OK
* checking Rd files ... OK
* checking Rd metadata ... OK
* checking Rd cross-references ... NOTE
Non-topic package-anchored link(s) in Rd file 'reexports.Rd':
  ‘[magrittr:pipe]{%>%}’

See section 'Cross-references' in the 'Writing R Extensions' manual.

Found the following Rd file(s) with Rd \link{} targets missing package
anchors:
  filter.nmr_dataset_family.Rd: dplyr
Please provide package anchors for all Rd \link{} targets not in the
package itself and the base packages.
* checking for missing documentation entries ... OK
* checking for code/documentation mismatches ... OK
* checking Rd \usage sections ... OK
* checking Rd contents ... OK
* checking for unstated dependencies in examples ... OK
* checking contents of ‘data’ directory ... OK
* checking data for non-ASCII characters ... OK
* checking data for ASCII and uncompressed saves ... OK
* checking sizes of PDF files under ‘inst/doc’ ... OK
* checking files in ‘vignettes’ ... OK
* checking examples ... OK
Examples with CPU (user + system) or elapsed time > 5s
                                      user system elapsed
Peak_detection                      23.367  5.942  21.769
permutation_test_plot               12.030  5.534   4.189
nmr_pca_outliers_robust             15.641  1.212  17.333
SummarizedExperiment_to_nmr_data_1r 13.478  1.600  14.038
nmr_pca_outliers                     5.609  5.394   5.806
format.nmr_dataset_peak_table        5.243  5.100   5.834
nmr_meta_add                         4.404  2.292   3.772
validate_nmr_dataset                 3.934  2.738   3.250
nmr_pca_build_model                  3.789  1.906   3.094
bp_VIP_analysis                      3.722  1.962   2.427
nmr_read_samples                     3.411  2.096   2.876
nmr_interpolate_1D                   3.495  1.926   2.713
* checking for unstated dependencies in ‘tests’ ... OK
* checking tests ...
  Running ‘testthat.R’
 OK
* checking for unstated dependencies in vignettes ... OK
* checking package vignettes ... OK
* checking running R code from vignettes ... SKIPPED
* checking re-building of vignette outputs ... SKIPPED
* checking PDF version of manual ... OK
* DONE

Status: 1 NOTE
See
  ‘/Users/biocbuild/bbs-3.21-bioc/meat/AlpsNMR.Rcheck/00check.log’
for details.


Installation output

AlpsNMR.Rcheck/00install.out

##############################################################################
##############################################################################
###
### Running command:
###
###   /Library/Frameworks/R.framework/Resources/bin/R CMD INSTALL AlpsNMR
###
##############################################################################
##############################################################################


* installing to library ‘/Library/Frameworks/R.framework/Versions/4.5-x86_64/Resources/library’
* installing *source* package ‘AlpsNMR’ ...
** this is package ‘AlpsNMR’ version ‘4.10.0’
** using staged installation
** R
** data
** inst
** byte-compile and prepare package for lazy loading
** help
*** installing help indices
*** copying figures
** building package indices
** installing vignettes
** testing if installed package can be loaded from temporary location
** testing if installed package can be loaded from final location
** testing if installed package keeps a record of temporary installation path
* DONE (AlpsNMR)

Tests output

AlpsNMR.Rcheck/tests/testthat.Rout


R version 4.5.0 RC (2025-04-04 r88126) -- "How About a Twenty-Six"
Copyright (C) 2025 The R Foundation for Statistical Computing
Platform: x86_64-apple-darwin20

R is free software and comes with ABSOLUTELY NO WARRANTY.
You are welcome to redistribute it under certain conditions.
Type 'license()' or 'licence()' for distribution details.

R is a collaborative project with many contributors.
Type 'contributors()' for more information and
'citation()' on how to cite R or R packages in publications.

Type 'demo()' for some demos, 'help()' for on-line help, or
'help.start()' for an HTML browser interface to help.
Type 'q()' to quit R.

> library(testthat)
> library(AlpsNMR)

Attaching package: 'AlpsNMR'

The following object is masked from 'package:stats':

    filter

> 
> test_check("AlpsNMR")
[ FAIL 0 | WARN 0 | SKIP 1 | PASS 93 ]

══ Skipped tests (1) ═══════════════════════════════════════════════════════════
• On Bioconductor (1): 'test_rDolphin.R:2:5'

[ FAIL 0 | WARN 0 | SKIP 1 | PASS 93 ]
> 
> proc.time()
   user  system elapsed 
 45.362  14.182  43.511 

Example timings

AlpsNMR.Rcheck/AlpsNMR-Ex.timings

nameusersystemelapsed
AlpsNMR-package3.2520.9432.921
HMDB_blood0.0110.0040.016
HMDB_cell0.0050.0030.007
HMDB_urine0.0090.0040.013
Parameters_blood0.0030.0030.006
Parameters_cell0.0040.0030.007
Parameters_urine0.0030.0030.007
Peak_detection23.367 5.94221.769
Pipelines0.0020.0030.005
ROI_blood0.0070.0030.011
ROI_cell0.0080.0040.012
ROI_urine0.0070.0030.010
SummarizedExperiment_to_nmr_data_1r13.478 1.60014.038
SummarizedExperiment_to_nmr_dataset_peak_table2.3951.1382.164
bp_VIP_analysis3.7221.9622.427
bp_kfold_VIP_analysis2.1211.2181.395
download_MTBLS2420.0000.0010.001
file_lister0.1730.0350.209
files_to_rDolphin0.0010.0000.002
filter.nmr_dataset_family1.5420.9451.672
format.nmr_dataset2.3441.7221.450
format.nmr_dataset_1D2.0371.4181.665
format.nmr_dataset_peak_table5.2435.1005.834
get_integration_with_metadata0.0580.0030.098
hmdb0.0970.0090.130
is.nmr_dataset1.7781.1251.395
is.nmr_dataset_1D1.6880.8571.263
is.nmr_dataset_peak_table1.9681.1211.592
load_and_save_functions1.7161.0451.281
models_stability_plot_bootstrap0.0030.0040.007
models_stability_plot_plsda0.8860.7130.771
new_nmr_dataset0.0030.0020.005
new_nmr_dataset_1D0.0020.0010.004
new_nmr_dataset_peak_table1.9801.0881.602
nmr_autophase0.5120.2020.733
nmr_baseline_estimation0.0170.0120.029
nmr_baseline_removal0.0080.0020.010
nmr_baseline_threshold0.0010.0000.002
nmr_baseline_threshold_plot0.5220.0870.635
nmr_batman0.0050.0020.009
nmr_batman_options0.0000.0000.001
nmr_build_peak_table0.0770.0140.098
nmr_data0.1170.0150.144
nmr_data_1r_to_SummarizedExperiment2.0640.7421.738
nmr_data_analysis0.9180.7410.820
nmr_dataset0.0010.0000.003
nmr_dataset_1D0.0030.0010.003
nmr_dataset_peak_table_to_SummarizedExperiment2.5231.5632.390
nmr_exclude_region0.0100.0050.017
nmr_export_data_1r1.8591.1151.450
nmr_get_peak_distances0.0150.0020.018
nmr_identify_regions_blood0.0300.0060.038
nmr_identify_regions_cell0.0200.0030.024
nmr_identify_regions_urine0.0320.0040.040
nmr_integrate_regions0.0140.0020.018
nmr_interpolate_1D3.4951.9262.713
nmr_meta_add4.4042.2923.772
nmr_meta_export1.7701.1611.364
nmr_meta_get1.7741.1231.389
nmr_meta_get_column1.6570.8691.237
nmr_meta_groups1.8011.0931.402
nmr_normalize0.6270.0910.766
nmr_pca_build_model3.7891.9063.094
nmr_pca_outliers5.6095.3945.806
nmr_pca_outliers_filter2.7861.1112.744
nmr_pca_outliers_plot0.0000.0000.001
nmr_pca_outliers_robust15.641 1.21217.333
nmr_pca_plots0.8360.0280.943
nmr_peak_clustering0.1500.0030.168
nmr_ppm_resolution0.0130.0030.019
nmr_read_bruker_fid0.0010.0000.001
nmr_read_samples3.4112.0962.876
nmr_zip_bruker_samples0.3180.0680.438
peaklist_accept_peaks0.0080.0020.011
permutation_test_model1.7041.2314.301
permutation_test_plot12.030 5.534 4.189
plot.nmr_dataset_1D0.0020.0100.012
plot_bootstrap_multimodel0.0040.0080.011
plot_interactive1.9201.2781.551
plot_plsda_multimodel0.5060.5610.571
plot_plsda_samples0.2600.2660.514
plot_vip_scores0.0040.0040.008
plot_webgl0.0020.0020.004
plsda_auroc_vip_compare1.0180.6051.605
plsda_auroc_vip_method0.0010.0000.001
ppm_resolution0.0040.0020.007
print.nmr_dataset1.8621.2741.449
print.nmr_dataset_1D1.3300.7521.422
print.nmr_dataset_peak_table2.4821.6321.826
random_subsampling0.0050.0110.030
save_files_to_rDolphin0.0000.0010.001
save_profiling_output0.0000.0000.001
sub-.nmr_dataset1.3860.9031.484
sub-.nmr_dataset_1D2.2141.4651.423
sub-.nmr_dataset_peak_table2.2491.6022.132
tidy.nmr_dataset_1D2.0431.1511.732
to_ASICS2.1920.3002.546
to_ChemoSpec2.1141.1391.814
validate_nmr_dataset3.9342.7383.250
validate_nmr_dataset_family1.9441.3031.589
validate_nmr_dataset_peak_table0.0020.0010.002
zzz0.0000.0002.002