Back to Multiple platform build/check report for BioC 3.21:   simplified   long
[A]BCDEFGHIJKLMNOPQRSTUVWXYZ

This page was generated on 2025-05-01 11:42 -0400 (Thu, 01 May 2025).

HostnameOSArch (*)R versionInstalled pkgs
nebbiolo1Linux (Ubuntu 24.04.1 LTS)x86_644.5.0 RC (2025-04-04 r88126) -- "How About a Twenty-Six" 4832
palomino7Windows Server 2022 Datacenterx644.5.0 RC (2025-04-04 r88126 ucrt) -- "How About a Twenty-Six" 4574
merida1macOS 12.7.5 Montereyx86_644.5.0 RC (2025-04-04 r88126) -- "How About a Twenty-Six" 4599
kjohnson1macOS 13.6.6 Venturaarm644.5.0 RC (2025-04-04 r88129) -- "How About a Twenty-Six" 4553
Click on any hostname to see more info about the system (e.g. compilers)      (*) as reported by 'uname -p', except on Windows and Mac OS X

Package 59/2341HostnameOS / ArchINSTALLBUILDCHECKBUILD BIN
AlpsNMR 4.10.0  (landing page)
Sergio Oller Moreno
Snapshot Date: 2025-04-28 17:48 -0400 (Mon, 28 Apr 2025)
git_url: https://git.bioconductor.org/packages/AlpsNMR
git_branch: RELEASE_3_21
git_last_commit: aa900cf
git_last_commit_date: 2025-04-15 12:14:56 -0400 (Tue, 15 Apr 2025)
nebbiolo1Linux (Ubuntu 24.04.1 LTS) / x86_64  OK    OK    OK  UNNEEDED, same version is already published
palomino7Windows Server 2022 Datacenter / x64  OK    OK    OK    OK  UNNEEDED, same version is already published
merida1macOS 12.7.5 Monterey / x86_64  OK    OK    OK    OK  UNNEEDED, same version is already published
kjohnson1macOS 13.6.6 Ventura / arm64  OK    OK    OK    OK  UNNEEDED, same version is already published


CHECK results for AlpsNMR on kjohnson1

To the developers/maintainers of the AlpsNMR package:
- Allow up to 24 hours (and sometimes 48 hours) for your latest push to git@git.bioconductor.org:packages/AlpsNMR.git to reflect on this report. See Troubleshooting Build Report for more information.
- Use the following Renviron settings to reproduce errors and warnings.
- If 'R CMD check' started to fail recently on the Linux builder(s) over a missing dependency, add the missing dependency to 'Suggests:' in your DESCRIPTION file. See Renviron.bioc for more information.

raw results


Summary

Package: AlpsNMR
Version: 4.10.0
Command: /Library/Frameworks/R.framework/Resources/bin/R CMD check --install=check:AlpsNMR.install-out.txt --library=/Library/Frameworks/R.framework/Resources/library --no-vignettes --timings AlpsNMR_4.10.0.tar.gz
StartedAt: 2025-04-29 02:10:15 -0400 (Tue, 29 Apr 2025)
EndedAt: 2025-04-29 02:11:25 -0400 (Tue, 29 Apr 2025)
EllapsedTime: 70.7 seconds
RetCode: 0
Status:   OK  
CheckDir: AlpsNMR.Rcheck
Warnings: 0

Command output

##############################################################################
##############################################################################
###
### Running command:
###
###   /Library/Frameworks/R.framework/Resources/bin/R CMD check --install=check:AlpsNMR.install-out.txt --library=/Library/Frameworks/R.framework/Resources/library --no-vignettes --timings AlpsNMR_4.10.0.tar.gz
###
##############################################################################
##############################################################################


* using log directory ‘/Users/biocbuild/bbs-3.21-bioc/meat/AlpsNMR.Rcheck’
* using R version 4.5.0 RC (2025-04-04 r88129)
* using platform: aarch64-apple-darwin20
* R was compiled by
    Apple clang version 14.0.0 (clang-1400.0.29.202)
    GNU Fortran (GCC) 14.2.0
* running under: macOS Ventura 13.7.5
* using session charset: UTF-8
* using option ‘--no-vignettes’
* checking for file ‘AlpsNMR/DESCRIPTION’ ... OK
* checking extension type ... Package
* this is package ‘AlpsNMR’ version ‘4.10.0’
* package encoding: UTF-8
* checking package namespace information ... OK
* checking package dependencies ... INFO
Imports includes 26 non-default packages.
Importing from so many packages makes the package vulnerable to any of
them becoming unavailable.  Move as many as possible to Suggests and
use conditionally.
* checking if this is a source package ... OK
* checking if there is a namespace ... OK
* checking for hidden files and directories ... OK
* checking for portable file names ... OK
* checking for sufficient/correct file permissions ... OK
* checking whether package ‘AlpsNMR’ can be installed ... OK
* checking installed package size ... OK
* checking package directory ... OK
* checking ‘build’ directory ... OK
* checking DESCRIPTION meta-information ... OK
* checking top-level files ... OK
* checking for left-over files ... OK
* checking index information ... OK
* checking package subdirectories ... OK
* checking code files for non-ASCII characters ... OK
* checking R files for syntax errors ... OK
* checking whether the package can be loaded ... OK
* checking whether the package can be loaded with stated dependencies ... OK
* checking whether the package can be unloaded cleanly ... OK
* checking whether the namespace can be loaded with stated dependencies ... OK
* checking whether the namespace can be unloaded cleanly ... OK
* checking dependencies in R code ... OK
* checking S3 generic/method consistency ... OK
* checking replacement functions ... OK
* checking foreign function calls ... OK
* checking R code for possible problems ... OK
* checking Rd files ... OK
* checking Rd metadata ... OK
* checking Rd cross-references ... NOTE
Non-topic package-anchored link(s) in Rd file 'reexports.Rd':
  ‘[magrittr:pipe]{%>%}’

See section 'Cross-references' in the 'Writing R Extensions' manual.

Found the following Rd file(s) with Rd \link{} targets missing package
anchors:
  filter.nmr_dataset_family.Rd: dplyr
Please provide package anchors for all Rd \link{} targets not in the
package itself and the base packages.
* checking for missing documentation entries ... OK
* checking for code/documentation mismatches ... OK
* checking Rd \usage sections ... OK
* checking Rd contents ... OK
* checking for unstated dependencies in examples ... OK
* checking contents of ‘data’ directory ... OK
* checking data for non-ASCII characters ... OK
* checking data for ASCII and uncompressed saves ... OK
* checking sizes of PDF files under ‘inst/doc’ ... OK
* checking files in ‘vignettes’ ... OK
* checking examples ... OK
* checking for unstated dependencies in ‘tests’ ... OK
* checking tests ...
  Running ‘testthat.R’
 OK
* checking for unstated dependencies in vignettes ... OK
* checking package vignettes ... OK
* checking running R code from vignettes ... SKIPPED
* checking re-building of vignette outputs ... SKIPPED
* checking PDF version of manual ... OK
* DONE

Status: 1 NOTE
See
  ‘/Users/biocbuild/bbs-3.21-bioc/meat/AlpsNMR.Rcheck/00check.log’
for details.


Installation output

AlpsNMR.Rcheck/00install.out

##############################################################################
##############################################################################
###
### Running command:
###
###   /Library/Frameworks/R.framework/Resources/bin/R CMD INSTALL AlpsNMR
###
##############################################################################
##############################################################################


* installing to library ‘/Library/Frameworks/R.framework/Versions/4.5-arm64/Resources/library’
* installing *source* package ‘AlpsNMR’ ...
** this is package ‘AlpsNMR’ version ‘4.10.0’
** using staged installation
** R
** data
** inst
** byte-compile and prepare package for lazy loading
** help
*** installing help indices
*** copying figures
** building package indices
** installing vignettes
** testing if installed package can be loaded from temporary location
** testing if installed package can be loaded from final location
** testing if installed package keeps a record of temporary installation path
* DONE (AlpsNMR)

Tests output

AlpsNMR.Rcheck/tests/testthat.Rout


R version 4.5.0 RC (2025-04-04 r88129) -- "How About a Twenty-Six"
Copyright (C) 2025 The R Foundation for Statistical Computing
Platform: aarch64-apple-darwin20

R is free software and comes with ABSOLUTELY NO WARRANTY.
You are welcome to redistribute it under certain conditions.
Type 'license()' or 'licence()' for distribution details.

R is a collaborative project with many contributors.
Type 'contributors()' for more information and
'citation()' on how to cite R or R packages in publications.

Type 'demo()' for some demos, 'help()' for on-line help, or
'help.start()' for an HTML browser interface to help.
Type 'q()' to quit R.

> library(testthat)
> library(AlpsNMR)

Attaching package: 'AlpsNMR'

The following object is masked from 'package:stats':

    filter

> 
> test_check("AlpsNMR")
[ FAIL 0 | WARN 0 | SKIP 1 | PASS 93 ]

══ Skipped tests (1) ═══════════════════════════════════════════════════════════
• On Bioconductor (1): 'test_rDolphin.R:2:5'

[ FAIL 0 | WARN 0 | SKIP 1 | PASS 93 ]
> 
> proc.time()
   user  system elapsed 
  8.999   2.920   8.809 

Example timings

AlpsNMR.Rcheck/AlpsNMR-Ex.timings

nameusersystemelapsed
AlpsNMR-package0.7470.1880.693
HMDB_blood0.0020.0010.004
HMDB_cell0.0010.0000.001
HMDB_urine0.0020.0010.002
Parameters_blood0.0000.0010.002
Parameters_cell0.0000.0010.001
Parameters_urine0.0010.0000.001
Peak_detection3.8630.9483.416
Pipelines0.0010.0000.000
ROI_blood0.0010.0010.001
ROI_cell0.0010.0010.001
ROI_urine0.0010.0000.001
SummarizedExperiment_to_nmr_data_1r2.6300.2642.676
SummarizedExperiment_to_nmr_dataset_peak_table0.4160.1620.378
bp_VIP_analysis0.6200.4830.516
bp_kfold_VIP_analysis0.3150.2490.256
download_MTBLS242000
file_lister0.0220.0060.028
files_to_rDolphin000
filter.nmr_dataset_family0.2920.1550.254
format.nmr_dataset0.2780.2190.227
format.nmr_dataset_1D0.3560.2420.301
format.nmr_dataset_peak_table0.5670.2570.580
get_integration_with_metadata0.0090.0010.010
hmdb0.0170.0010.019
is.nmr_dataset0.2500.1570.204
is.nmr_dataset_1D0.2840.2060.244
is.nmr_dataset_peak_table0.3080.2190.274
load_and_save_functions0.2520.1610.196
models_stability_plot_bootstrap0.0000.0000.001
models_stability_plot_plsda0.1500.1670.155
new_nmr_dataset0.0010.0000.001
new_nmr_dataset_1D0.0000.0000.001
new_nmr_dataset_peak_table0.3310.2330.297
nmr_autophase0.0830.0410.124
nmr_baseline_estimation0.0030.0010.005
nmr_baseline_removal0.0020.0000.003
nmr_baseline_threshold0.0000.0000.001
nmr_baseline_threshold_plot0.0710.0150.085
nmr_batman0.0010.0000.001
nmr_batman_options000
nmr_build_peak_table0.0120.0010.013
nmr_data0.0160.0020.018
nmr_data_1r_to_SummarizedExperiment0.3660.1470.319
nmr_data_analysis0.1480.1590.155
nmr_dataset000
nmr_dataset_1D0.0010.0000.000
nmr_dataset_peak_table_to_SummarizedExperiment0.4000.2380.362
nmr_exclude_region0.0020.0010.003
nmr_export_data_1r0.3060.2090.274
nmr_get_peak_distances0.0030.0000.003
nmr_identify_regions_blood0.0040.0010.006
nmr_identify_regions_cell0.0020.0010.004
nmr_identify_regions_urine0.0040.0010.006
nmr_integrate_regions0.0020.0010.003
nmr_interpolate_1D0.6380.4080.557
nmr_meta_add0.6810.4430.640
nmr_meta_export0.2740.2350.231
nmr_meta_get0.2630.2130.224
nmr_meta_get_column0.2940.2060.230
nmr_meta_groups1.2260.7720.805
nmr_normalize0.0800.0140.094
nmr_pca_build_model0.9300.4750.926
nmr_pca_outliers0.3720.2620.351
nmr_pca_outliers_filter0.3490.2300.327
nmr_pca_outliers_plot0.0000.0010.001
nmr_pca_outliers_robust1.7620.2641.774
nmr_pca_plots0.1140.0040.118
nmr_peak_clustering0.0240.0010.025
nmr_ppm_resolution0.0040.0000.004
nmr_read_bruker_fid000
nmr_read_samples0.5260.4350.510
nmr_zip_bruker_samples0.1200.0140.134
peaklist_accept_peaks0.0010.0000.002
permutation_test_model0.6730.4170.706
permutation_test_plot1.2600.6560.668
plot.nmr_dataset_1D0.0010.0010.001
plot_bootstrap_multimodel0.0000.0010.001
plot_interactive0.6130.3690.260
plot_plsda_multimodel0.0960.1510.124
plot_plsda_samples0.0400.0530.089
plot_vip_scores0.0010.0000.001
plot_webgl0.0010.0010.002
plsda_auroc_vip_compare0.1620.1520.303
plsda_auroc_vip_method000
ppm_resolution0.0010.0010.002
print.nmr_dataset0.1860.1510.231
print.nmr_dataset_1D0.3130.2490.295
print.nmr_dataset_peak_table0.3150.2060.282
random_subsampling0.0010.0000.001
save_files_to_rDolphin000
save_profiling_output000
sub-.nmr_dataset0.2720.2160.235
sub-.nmr_dataset_1D0.3880.2740.289
sub-.nmr_dataset_peak_table0.3260.2300.295
tidy.nmr_dataset_1D0.3300.2640.304
to_ASICS0.3510.0480.400
to_ChemoSpec0.3480.1970.309
validate_nmr_dataset0.6370.4920.576
validate_nmr_dataset_family0.3120.2590.293
validate_nmr_dataset_peak_table0.0010.0000.001
zzz0.0000.0002.011