Back to Multiple platform build/check report for BioC 3.20:   simplified   long
ABCDEFGHIJKLMN[O]PQRSTUVWXYZ

This page was generated on 2025-04-02 19:36 -0400 (Wed, 02 Apr 2025).

HostnameOSArch (*)R versionInstalled pkgs
nebbiolo2Linux (Ubuntu 24.04.1 LTS)x86_644.4.3 (2025-02-28) -- "Trophy Case" 4764
palomino8Windows Server 2022 Datacenterx644.4.3 (2025-02-28 ucrt) -- "Trophy Case" 4495
merida1macOS 12.7.5 Montereyx86_644.4.3 (2025-02-28) -- "Trophy Case" 4522
kjohnson1macOS 13.6.6 Venturaarm644.4.3 (2025-02-28) -- "Trophy Case" 4449
taishanLinux (openEuler 24.03 LTS)aarch644.4.3 (2025-02-28) -- "Trophy Case" 4426
Click on any hostname to see more info about the system (e.g. compilers)      (*) as reported by 'uname -p', except on Windows and Mac OS X

Package 1456/2289HostnameOS / ArchINSTALLBUILDCHECKBUILD BIN
OmnipathR 3.14.0  (landing page)
Denes Turei
Snapshot Date: 2025-03-31 13:00 -0400 (Mon, 31 Mar 2025)
git_url: https://git.bioconductor.org/packages/OmnipathR
git_branch: RELEASE_3_20
git_last_commit: 3c7d7f1
git_last_commit_date: 2024-10-29 10:41:00 -0400 (Tue, 29 Oct 2024)
nebbiolo2Linux (Ubuntu 24.04.1 LTS) / x86_64  OK    OK    OK  UNNEEDED, same version is already published
palomino8Windows Server 2022 Datacenter / x64  OK    OK    OK    OK  UNNEEDED, same version is already published
merida1macOS 12.7.5 Monterey / x86_64  OK    OK    OK    OK  UNNEEDED, same version is already published
kjohnson1macOS 13.6.6 Ventura / arm64  OK    OK    OK    OK  UNNEEDED, same version is already published
taishanLinux (openEuler 24.03 LTS) / aarch64  OK    OK    OK  


CHECK results for OmnipathR on taishan

To the developers/maintainers of the OmnipathR package:
- Allow up to 24 hours (and sometimes 48 hours) for your latest push to git@git.bioconductor.org:packages/OmnipathR.git to reflect on this report. See Troubleshooting Build Report for more information.
- Use the following Renviron settings to reproduce errors and warnings.
- If 'R CMD check' started to fail recently on the Linux builder(s) over a missing dependency, add the missing dependency to 'Suggests:' in your DESCRIPTION file. See Renviron.bioc for more information.
- See Martin Grigorov's blog post for how to debug Linux ARM64 related issues on a x86_64 host.

raw results


Summary

Package: OmnipathR
Version: 3.14.0
Command: /home/biocbuild/R/R/bin/R CMD check --install=check:OmnipathR.install-out.txt --library=/home/biocbuild/R/R/site-library --no-vignettes --timings OmnipathR_3.14.0.tar.gz
StartedAt: 2025-04-01 09:07:08 -0000 (Tue, 01 Apr 2025)
EndedAt: 2025-04-01 09:25:11 -0000 (Tue, 01 Apr 2025)
EllapsedTime: 1083.2 seconds
RetCode: 0
Status:   OK  
CheckDir: OmnipathR.Rcheck
Warnings: 0

Command output

##############################################################################
##############################################################################
###
### Running command:
###
###   /home/biocbuild/R/R/bin/R CMD check --install=check:OmnipathR.install-out.txt --library=/home/biocbuild/R/R/site-library --no-vignettes --timings OmnipathR_3.14.0.tar.gz
###
##############################################################################
##############################################################################


* using log directory ‘/home/biocbuild/bbs-3.20-bioc/meat/OmnipathR.Rcheck’
* using R version 4.4.3 (2025-02-28)
* using platform: aarch64-unknown-linux-gnu
* R was compiled by
    aarch64-unknown-linux-gnu-gcc (GCC) 14.2.0
    GNU Fortran (GCC) 14.2.0
* running under: openEuler 24.03 (LTS)
* using session charset: UTF-8
* using option ‘--no-vignettes’
* checking for file ‘OmnipathR/DESCRIPTION’ ... OK
* checking extension type ... Package
* this is package ‘OmnipathR’ version ‘3.14.0’
* package encoding: UTF-8
* checking package namespace information ... OK
* checking package dependencies ... OK
* checking if this is a source package ... OK
* checking if there is a namespace ... OK
* checking for hidden files and directories ... OK
* checking for portable file names ... OK
* checking for sufficient/correct file permissions ... OK
* checking whether package ‘OmnipathR’ can be installed ... OK
* checking installed package size ... OK
* checking package directory ... OK
* checking DESCRIPTION meta-information ... OK
* checking top-level files ... OK
* checking for left-over files ... OK
* checking index information ... OK
* checking package subdirectories ... OK
* checking code files for non-ASCII characters ... OK
* checking R files for syntax errors ... OK
* checking whether the package can be loaded ... OK
* checking whether the package can be loaded with stated dependencies ... OK
* checking whether the package can be unloaded cleanly ... OK
* checking whether the namespace can be loaded with stated dependencies ... OK
* checking whether the namespace can be unloaded cleanly ... OK
* checking loading without being on the library search path ... OK
* checking whether startup messages can be suppressed ... NOTE
[2025-04-01 09:07:39] [TRACE]   [OmnipathR] Reading JSON from `/home/biocbuild/.cache/OmnipathR/cache.json` (encoding: UTF-8).
[2025-04-01 09:07:39] [TRACE]   [OmnipathR] JSON validation successful: TRUE
[2025-04-01 09:07:39] [INFO]    [OmnipathR] Initialized cache: `/home/biocbuild/.cache/OmnipathR`.
[2025-04-01 09:07:39] [TRACE]   [OmnipathR] Running on a build server, wiping cache.
[2025-04-01 09:07:39] [TRACE]   [OmnipathR] Cache is at `/home/biocbuild/.cache/OmnipathR`.
[2025-04-01 09:07:39] [TRACE]   [OmnipathR] Contains 1 files.
[2025-04-01 09:07:39] [TRACE]   [OmnipathR] Cache is locked: FALSE.
[2025-04-01 09:07:39] [TRACE]   [OmnipathR] Reading JSON from `/home/biocbuild/.cache/OmnipathR/cache.json` (encoding: UTF-8).
[2025-04-01 09:07:39] [TRACE]   [OmnipathR] JSON validation successful: TRUE
[2025-04-01 09:07:39] [SUCCESS] [OmnipathR] Removing all cache contents from `/home/biocbuild/.cache/OmnipathR`.
[2025-04-01 09:07:39] [TRACE]   [OmnipathR] Pandoc version: `2.12`.
[2025-04-01 09:07:39] [TRACE]   [OmnipathR] Reading JSON from `/home/biocbuild/R/R-4.4.3/site-library/OmnipathR/db/db_def.json` (encoding: UTF-8).
[2025-04-01 09:07:39] [TRACE]   [OmnipathR] JSON validation successful: TRUE
[2025-04-01 09:07:39] [TRACE]   [OmnipathR] Reading JSON from `/home/biocbuild/R/R-4.4.3/site-library/OmnipathR/internal/magic_bytes.json` (encoding: UTF-8).
[2025-04-01 09:07:39] [TRACE]   [OmnipathR] JSON validation successful: TRUE
[2025-04-01 09:07:39] [TRACE]   [OmnipathR] Reading JSON from `/home/biocbuild/R/R-4.4.3/site-library/OmnipathR/internal/urls.json` (encoding: UTF-8).
[2025-04-01 09:07:39] [TRACE]   [OmnipathR] JSON validation successful: TRUE
[2025-04-01 09:07:39] [TRACE]   [OmnipathR] Reading JSON from `/home/biocbuild/R/R-4.4.3/site-library/OmnipathR/internal/id_types.json` (encoding: UTF-8).
[2025-04-01 09:07:39] [TRACE]   [OmnipathR] JSON validation successful: TRUE
[2025-04-01 09:07:39] [TRACE]   [OmnipathR] Cache locked: FALSE

It looks like this package (or a package it requires) has a startup
message which cannot be suppressed: see ?packageStartupMessage.
* checking dependencies in R code ... OK
* checking S3 generic/method consistency ... OK
* checking replacement functions ... OK
* checking foreign function calls ... OK
* checking R code for possible problems ... NOTE
[2025-04-01 09:07:57] [TRACE]   [OmnipathR] Reading JSON from `/home/biocbuild/.cache/OmnipathR/cache.json` (encoding: UTF-8).
[2025-04-01 09:07:57] [TRACE]   [OmnipathR] JSON validation successful: TRUE
[2025-04-01 09:07:57] [INFO]    [OmnipathR] Initialized cache: `/home/biocbuild/.cache/OmnipathR`.
[2025-04-01 09:07:57] [TRACE]   [OmnipathR] Running on a build server, wiping cache.
[2025-04-01 09:07:57] [TRACE]   [OmnipathR] Cache is at `/home/biocbuild/.cache/OmnipathR`.
[2025-04-01 09:07:57] [TRACE]   [OmnipathR] Contains 1 files.
[2025-04-01 09:07:57] [TRACE]   [OmnipathR] Cache is locked: FALSE.
[2025-04-01 09:07:57] [TRACE]   [OmnipathR] Reading JSON from `/home/biocbuild/.cache/OmnipathR/cache.json` (encoding: UTF-8).
[2025-04-01 09:07:57] [TRACE]   [OmnipathR] JSON validation successful: TRUE
[2025-04-01 09:07:57] [SUCCESS] [OmnipathR] Removing all cache contents from `/home/biocbuild/.cache/OmnipathR`.
[2025-04-01 09:07:57] [TRACE]   [OmnipathR] Pandoc version: `2.12`.
[2025-04-01 09:07:57] [TRACE]   [OmnipathR] Reading JSON from `/home/biocbuild/R/R-4.4.3/site-library/OmnipathR/db/db_def.json` (encoding: UTF-8).
[2025-04-01 09:07:57] [TRACE]   [OmnipathR] JSON validation successful: TRUE
[2025-04-01 09:07:57] [TRACE]   [OmnipathR] Reading JSON from `/home/biocbuild/R/R-4.4.3/site-library/OmnipathR/internal/magic_bytes.json` (encoding: UTF-8).
[2025-04-01 09:07:57] [TRACE]   [OmnipathR] JSON validation successful: TRUE
[2025-04-01 09:07:57] [TRACE]   [OmnipathR] Reading JSON from `/home/biocbuild/R/R-4.4.3/site-library/OmnipathR/internal/urls.json` (encoding: UTF-8).
[2025-04-01 09:07:57] [TRACE]   [OmnipathR] JSON validation successful: TRUE
[2025-04-01 09:07:58] [TRACE]   [OmnipathR] Reading JSON from `/home/biocbuild/R/R-4.4.3/site-library/OmnipathR/internal/id_types.json` (encoding: UTF-8).
[2025-04-01 09:07:58] [TRACE]   [OmnipathR] JSON validation successful: TRUE
[2025-04-01 09:07:58] [TRACE]   [OmnipathR] Cache locked: FALSE
* checking Rd files ... OK
* checking Rd metadata ... OK
* checking Rd cross-references ... OK
* checking for missing documentation entries ... OK
* checking for code/documentation mismatches ... OK
* checking Rd \usage sections ... OK
* checking Rd contents ... OK
* checking for unstated dependencies in examples ... OK
* checking R/sysdata.rda ... OK
* checking files in ‘vignettes’ ... OK
* checking examples ... OK
Examples with CPU (user + system) or elapsed time > 5s
                                        user system elapsed
annotation_categories                100.823  0.042 111.960
curated_ligrec_stats                  34.384  2.596 164.121
omnipath-interactions                 28.552  0.842  69.160
filter_extra_attrs                    27.079  0.284  53.919
go_annot_download                     14.436  0.404  32.144
nichenet_gr_network_omnipath          13.773  0.190  15.594
extra_attr_values                     13.733  0.076  19.625
extra_attrs_to_cols                   12.246  0.006  15.493
giant_component                       10.988  0.046  21.550
omnipath_for_cosmos                   10.580  0.241  24.522
with_extra_attrs                      10.123  0.389  12.063
pivot_annotations                      9.546  0.298  28.571
nichenet_signaling_network_omnipath    8.971  0.310  13.307
has_extra_attrs                        7.789  0.099  10.991
extra_attrs                            7.571  0.012   8.828
translate_ids_multi                    7.482  0.043  21.804
find_all_paths                         6.733  0.064  10.147
filter_by_resource                     6.628  0.017  15.408
static_table                           6.326  0.157  11.529
print_interactions                     6.160  0.082  12.413
curated_ligand_receptor_interactions   5.623  0.375  22.886
filter_intercell                       5.654  0.069  15.424
signed_ptms                            5.231  0.028   6.170
enzsub_graph                           2.382  0.032   6.049
hpo_download                           2.178  0.136  24.788
print_path_vs                          2.165  0.040   5.292
ensembl_id_mapping_table               1.533  0.074  13.228
translate_ids                          1.137  0.000  21.156
annotated_network                      0.851  0.116   6.682
all_uniprots                           0.921  0.037  23.440
uniprot_full_id_mapping_table          0.904  0.008  27.425
* checking for unstated dependencies in ‘tests’ ... OK
* checking tests ...
  Running ‘testthat.R’
 OK
* checking for unstated dependencies in vignettes ... OK
* checking package vignettes ... OK
* checking running R code from vignettes ... SKIPPED
* checking re-building of vignette outputs ... SKIPPED
* checking PDF version of manual ... OK
* DONE

Status: 2 NOTEs
See
  ‘/home/biocbuild/bbs-3.20-bioc/meat/OmnipathR.Rcheck/00check.log’
for details.


Installation output

OmnipathR.Rcheck/00install.out

##############################################################################
##############################################################################
###
### Running command:
###
###   /home/biocbuild/R/R/bin/R CMD INSTALL OmnipathR
###
##############################################################################
##############################################################################


* installing to library ‘/home/biocbuild/R/R-4.4.3/site-library’
* installing *source* package ‘OmnipathR’ ...
** using staged installation
** R
** inst
** byte-compile and prepare package for lazy loading
** help
*** installing help indices
*** copying figures
** building package indices
** installing vignettes
** testing if installed package can be loaded from temporary location
[2025-03-31 20:46:48] [TRACE]   [OmnipathR] Reading JSON from `/home/biocbuild/.cache/OmnipathR/cache.json` (encoding: UTF-8).
[2025-03-31 20:46:48] [TRACE]   [OmnipathR] JSON validation successful: TRUE
[2025-03-31 20:46:48] [INFO]    [OmnipathR] Initialized cache: `/home/biocbuild/.cache/OmnipathR`.
[2025-03-31 20:46:48] [TRACE]   [OmnipathR] Running on a build server, wiping cache.
[2025-03-31 20:46:48] [TRACE]   [OmnipathR] Cache is at `/home/biocbuild/.cache/OmnipathR`.
[2025-03-31 20:46:48] [TRACE]   [OmnipathR] Contains 6 files.
[2025-03-31 20:46:48] [TRACE]   [OmnipathR] Cache is locked: FALSE.
[2025-03-31 20:46:48] [TRACE]   [OmnipathR] Reading JSON from `/home/biocbuild/.cache/OmnipathR/cache.json` (encoding: UTF-8).
[2025-03-31 20:46:48] [TRACE]   [OmnipathR] JSON validation successful: TRUE
[2025-03-31 20:46:48] [SUCCESS] [OmnipathR] Removing all cache contents from `/home/biocbuild/.cache/OmnipathR`.
[2025-03-31 20:46:48] [TRACE]   [OmnipathR] Pandoc version: `2.12`.
[2025-03-31 20:46:48] [TRACE]   [OmnipathR] Reading JSON from `/home/biocbuild/R/R-4.4.3/site-library/00LOCK-OmnipathR/00new/OmnipathR/db/db_def.json` (encoding: UTF-8).
[2025-03-31 20:46:48] [TRACE]   [OmnipathR] JSON validation successful: TRUE
[2025-03-31 20:46:48] [TRACE]   [OmnipathR] Reading JSON from `/home/biocbuild/R/R-4.4.3/site-library/00LOCK-OmnipathR/00new/OmnipathR/internal/magic_bytes.json` (encoding: UTF-8).
[2025-03-31 20:46:48] [TRACE]   [OmnipathR] JSON validation successful: TRUE
[2025-03-31 20:46:48] [TRACE]   [OmnipathR] Reading JSON from `/home/biocbuild/R/R-4.4.3/site-library/00LOCK-OmnipathR/00new/OmnipathR/internal/urls.json` (encoding: UTF-8).
[2025-03-31 20:46:48] [TRACE]   [OmnipathR] JSON validation successful: TRUE
[2025-03-31 20:46:48] [TRACE]   [OmnipathR] Reading JSON from `/home/biocbuild/R/R-4.4.3/site-library/00LOCK-OmnipathR/00new/OmnipathR/internal/id_types.json` (encoding: UTF-8).
[2025-03-31 20:46:48] [TRACE]   [OmnipathR] JSON validation successful: TRUE
[2025-03-31 20:46:48] [TRACE]   [OmnipathR] Cache locked: FALSE
** testing if installed package can be loaded from final location
[2025-03-31 20:46:50] [TRACE]   [OmnipathR] Reading JSON from `/home/biocbuild/.cache/OmnipathR/cache.json` (encoding: UTF-8).
[2025-03-31 20:46:51] [TRACE]   [OmnipathR] JSON validation successful: TRUE
[2025-03-31 20:46:51] [INFO]    [OmnipathR] Initialized cache: `/home/biocbuild/.cache/OmnipathR`.
[2025-03-31 20:46:51] [TRACE]   [OmnipathR] Running on a build server, wiping cache.
[2025-03-31 20:46:51] [TRACE]   [OmnipathR] Cache is at `/home/biocbuild/.cache/OmnipathR`.
[2025-03-31 20:46:51] [TRACE]   [OmnipathR] Contains 1 files.
[2025-03-31 20:46:51] [TRACE]   [OmnipathR] Cache is locked: FALSE.
[2025-03-31 20:46:51] [TRACE]   [OmnipathR] Reading JSON from `/home/biocbuild/.cache/OmnipathR/cache.json` (encoding: UTF-8).
[2025-03-31 20:46:51] [TRACE]   [OmnipathR] JSON validation successful: TRUE
[2025-03-31 20:46:51] [SUCCESS] [OmnipathR] Removing all cache contents from `/home/biocbuild/.cache/OmnipathR`.
[2025-03-31 20:46:51] [TRACE]   [OmnipathR] Pandoc version: `2.12`.
[2025-03-31 20:46:51] [TRACE]   [OmnipathR] Reading JSON from `/home/biocbuild/R/R-4.4.3/site-library/OmnipathR/db/db_def.json` (encoding: UTF-8).
[2025-03-31 20:46:51] [TRACE]   [OmnipathR] JSON validation successful: TRUE
[2025-03-31 20:46:51] [TRACE]   [OmnipathR] Reading JSON from `/home/biocbuild/R/R-4.4.3/site-library/OmnipathR/internal/magic_bytes.json` (encoding: UTF-8).
[2025-03-31 20:46:51] [TRACE]   [OmnipathR] JSON validation successful: TRUE
[2025-03-31 20:46:51] [TRACE]   [OmnipathR] Reading JSON from `/home/biocbuild/R/R-4.4.3/site-library/OmnipathR/internal/urls.json` (encoding: UTF-8).
[2025-03-31 20:46:51] [TRACE]   [OmnipathR] JSON validation successful: TRUE
[2025-03-31 20:46:51] [TRACE]   [OmnipathR] Reading JSON from `/home/biocbuild/R/R-4.4.3/site-library/OmnipathR/internal/id_types.json` (encoding: UTF-8).
[2025-03-31 20:46:51] [TRACE]   [OmnipathR] JSON validation successful: TRUE
[2025-03-31 20:46:51] [TRACE]   [OmnipathR] Cache locked: FALSE
** testing if installed package keeps a record of temporary installation path
* DONE (OmnipathR)

Tests output

OmnipathR.Rcheck/tests/testthat.Rout


R version 4.4.3 (2025-02-28) -- "Trophy Case"
Copyright (C) 2025 The R Foundation for Statistical Computing
Platform: aarch64-unknown-linux-gnu

R is free software and comes with ABSOLUTELY NO WARRANTY.
You are welcome to redistribute it under certain conditions.
Type 'license()' or 'licence()' for distribution details.

R is a collaborative project with many contributors.
Type 'contributors()' for more information and
'citation()' on how to cite R or R packages in publications.

Type 'demo()' for some demos, 'help()' for on-line help, or
'help.start()' for an HTML browser interface to help.
Type 'q()' to quit R.

> #!/usr/bin/env Rscript
> 
> #
> #  This file is part of the `OmnipathR` R package
> #
> #  Copyright
> #  2018-2024
> #  Saez Lab, Uniklinik RWTH Aachen, Heidelberg University
> #
> #  File author(s): Alberto Valdeolivas
> #                  Dénes Türei (turei.denes@gmail.com)
> #                  Attila Gábor
> #
> #  Distributed under the MIT (Expat) License.
> #  See accompanying file `LICENSE` or find a copy at
> #      https://directory.fsf.org/wiki/License:Expat
> #
> #  Website: https://r.omnipathdb.org/
> #  Git repo: https://github.com/saezlab/OmnipathR
> #
> 
> 
> library(testthat)
> library(OmnipathR)
[2025-04-01 09:24:04] [TRACE]   [OmnipathR] Reading JSON from `/home/biocbuild/.cache/OmnipathR/cache.json` (encoding: UTF-8).
[2025-04-01 09:24:04] [TRACE]   [OmnipathR] JSON validation successful: TRUE
[2025-04-01 09:24:04] [INFO]    [OmnipathR] Initialized cache: `/home/biocbuild/.cache/OmnipathR`.
[2025-04-01 09:24:04] [TRACE]   [OmnipathR] Running on a build server, wiping cache.
[2025-04-01 09:24:05] [TRACE]   [OmnipathR] Cache is at `/home/biocbuild/.cache/OmnipathR`.
[2025-04-01 09:24:05] [TRACE]   [OmnipathR] Contains 21 files.
[2025-04-01 09:24:05] [TRACE]   [OmnipathR] Cache is locked: FALSE.
[2025-04-01 09:24:05] [TRACE]   [OmnipathR] Reading JSON from `/home/biocbuild/.cache/OmnipathR/cache.json` (encoding: UTF-8).
[2025-04-01 09:24:05] [TRACE]   [OmnipathR] JSON validation successful: TRUE
[2025-04-01 09:24:05] [SUCCESS] [OmnipathR] Removing all cache contents from `/home/biocbuild/.cache/OmnipathR`.
[2025-04-01 09:24:05] [TRACE]   [OmnipathR] Pandoc version: `2.12`.
[2025-04-01 09:24:05] [TRACE]   [OmnipathR] Reading JSON from `/home/biocbuild/R/R-4.4.3/site-library/OmnipathR/db/db_def.json` (encoding: UTF-8).
[2025-04-01 09:24:05] [TRACE]   [OmnipathR] JSON validation successful: TRUE
[2025-04-01 09:24:05] [TRACE]   [OmnipathR] Reading JSON from `/home/biocbuild/R/R-4.4.3/site-library/OmnipathR/internal/magic_bytes.json` (encoding: UTF-8).
[2025-04-01 09:24:05] [TRACE]   [OmnipathR] JSON validation successful: TRUE
[2025-04-01 09:24:05] [TRACE]   [OmnipathR] Reading JSON from `/home/biocbuild/R/R-4.4.3/site-library/OmnipathR/internal/urls.json` (encoding: UTF-8).
[2025-04-01 09:24:05] [TRACE]   [OmnipathR] JSON validation successful: TRUE
[2025-04-01 09:24:05] [TRACE]   [OmnipathR] Reading JSON from `/home/biocbuild/R/R-4.4.3/site-library/OmnipathR/internal/id_types.json` (encoding: UTF-8).
[2025-04-01 09:24:05] [TRACE]   [OmnipathR] JSON validation successful: TRUE
[2025-04-01 09:24:05] [TRACE]   [OmnipathR] Cache locked: FALSE
> 
> test_check('OmnipathR')
[ FAIL 0 | WARN 0 | SKIP 0 | PASS 34 ]
> 
> proc.time()
   user  system elapsed 
 12.361   1.120  58.065 

Example timings

OmnipathR.Rcheck/OmnipathR-Ex.timings

nameusersystemelapsed
OmnipathR000
all_uniprot_acs0.0220.0000.023
all_uniprots 0.921 0.03723.440
ancestors0.0120.0000.013
annotated_network0.8510.1166.682
annotation_categories100.823 0.042111.960
annotation_resources0.0960.0241.146
annotations0.3340.0322.291
biomart_query1.0190.0163.690
bioplex10.0120.0000.013
bioplex20.0130.0000.013
bioplex30.0130.0000.012
bioplex_all0.0130.0000.013
bioplex_hct116_10.0570.0000.057
bma_motif_es0.4240.0002.202
bma_motif_vs0.2370.0041.331
chalmers_gem0.0040.0070.024
chalmers_gem_id_mapping_table0.0120.0000.024
chalmers_gem_id_type0.0020.0000.006
chalmers_gem_metabolites0.0120.0000.024
chalmers_gem_network0.0130.0000.024
chalmers_gem_raw0.0120.0000.023
chalmers_gem_reactions0.0110.0000.024
common_name0.0370.0000.042
complex_genes0.5310.0082.860
complex_resources0.0890.0001.077
complexes0.2090.0041.307
consensuspathdb_download000
consensuspathdb_raw_table0.0120.0000.024
cosmos_pkn000
curated_ligand_receptor_interactions 5.623 0.37522.886
curated_ligrec_stats 34.384 2.596164.121
database_summary1.5570.0403.521
descendants0.0110.0000.011
ensembl_dataset0.0120.0000.013
ensembl_id_mapping_table 1.533 0.07413.228
ensembl_id_type0.0030.0000.002
ensembl_name0.0780.0000.079
ensembl_organisms0.1840.0000.185
ensembl_organisms_raw0.1410.0000.149
ensembl_orthology000
enzsub_graph2.3820.0326.049
enzsub_resources0.0970.0001.069
enzyme_substrate1.3470.0832.817
evex_download0.0120.0000.012
evidences000
extra_attr_values13.733 0.07619.625
extra_attrs7.5710.0128.828
extra_attrs_to_cols12.246 0.00615.493
filter_by_resource 6.628 0.01715.408
filter_extra_attrs27.079 0.28453.919
filter_intercell 5.654 0.06915.424
filter_intercell_network0.0260.0000.051
find_all_paths 6.733 0.06410.147
from_evidences000
get_db000
get_ontology_db0.0110.0000.011
giant_component10.988 0.04621.550
go_annot_download14.436 0.40432.144
go_annot_slim000
go_ontology_download0.0100.0040.014
guide2pharma_download0.0140.0000.014
harmonizome_download0.0140.0000.014
has_extra_attrs 7.789 0.09910.991
hmdb_id_mapping_table0.0130.0000.012
hmdb_id_type0.0030.0000.003
hmdb_metabolite_fields0.0000.0000.001
hmdb_protein_fields0.0000.0000.001
hmdb_table0.0130.0000.012
homologene_download0.0120.0000.012
homologene_raw0.0220.0040.037
homologene_uniprot_orthology0.0130.0000.025
hpo_download 2.178 0.13624.788
htridb_download0.0130.0000.012
id_translation_resources0.0010.0000.000
id_types0.0570.0000.057
inbiomap_download000
inbiomap_raw000
interaction_datasets0.4040.0281.010
interaction_graph0.3760.0001.278
interaction_resources0.1270.0041.526
interaction_types0.0500.0000.049
intercell0.4320.0401.291
intercell_categories0.4070.0160.903
intercell_consensus_filter1.1800.1343.261
intercell_generic_categories0.0530.0040.057
intercell_network0.0100.0030.013
intercell_resources0.0980.0001.012
intercell_summary0.0520.0040.056
is_ontology_id000
is_swissprot0.0300.0020.033
is_trembl0.0340.0000.034
is_uniprot0.0120.0000.012
kegg_info0.0060.0040.011
kegg_open0.010.000.01
kegg_pathway_annotations000
kegg_pathway_download0.0110.0000.010
kegg_pathway_list0.0100.0000.011
kegg_pathways_download000
kegg_picture0.1130.0321.284
kegg_process0.0210.0000.021
latin_name0.0750.0000.075
load_db0.0870.0000.088
ncbi_taxid0.070.000.07
nichenet_build_model000
nichenet_expression_data0.0110.0000.011
nichenet_gr_network0.0310.0000.031
nichenet_gr_network_evex0.0060.0040.010
nichenet_gr_network_harmonizome0.0070.0040.012
nichenet_gr_network_htridb0.0060.0040.011
nichenet_gr_network_omnipath13.773 0.19015.594
nichenet_gr_network_pathwaycommons0.0140.0000.013
nichenet_gr_network_regnetwork0.0130.0000.013
nichenet_gr_network_remap0.0120.0000.012
nichenet_gr_network_trrust0.0080.0030.012
nichenet_ligand_activities000
nichenet_ligand_target_links0.0000.0010.000
nichenet_ligand_target_matrix000
nichenet_lr_network0.0360.0000.037
nichenet_lr_network_guide2pharma0.0130.0000.013
nichenet_lr_network_omnipath0.0390.0000.039
nichenet_lr_network_ramilowski0.0120.0000.012
nichenet_main000
nichenet_networks0.060.000.06
nichenet_optimization0.0010.0000.000
nichenet_remove_orphan_ligands0.0380.0000.039
nichenet_results_dir0.0000.0000.001
nichenet_signaling_network0.0420.0000.042
nichenet_signaling_network_cpdb0.0140.0000.014
nichenet_signaling_network_evex0.0140.0000.013
nichenet_signaling_network_harmonizome0.0090.0030.013
nichenet_signaling_network_inbiomap000
nichenet_signaling_network_omnipath 8.971 0.31013.307
nichenet_signaling_network_pathwaycommons0.0130.0000.014
nichenet_signaling_network_vinayagam0.0120.0000.013
nichenet_test000
nichenet_workarounds000
obo_parser0.0840.0271.022
oma_code0.0370.0000.037
oma_organisms0.0650.0000.068
oma_pairwise0.0110.0000.012
oma_pairwise_genesymbols0.0480.0000.054
oma_pairwise_translated0.0080.0040.013
omnipath-interactions28.552 0.84269.160
omnipath_cache_autoclean000
omnipath_cache_clean0.0100.0000.011
omnipath_cache_clean_db0.1710.0120.184
omnipath_cache_download_ready0.5790.0390.857
omnipath_cache_filter_versions0.1150.0040.129
omnipath_cache_get0.0830.0120.097
omnipath_cache_key0.0000.0010.001
omnipath_cache_latest_or_new0.1060.0050.112
omnipath_cache_load0.5470.0162.998
omnipath_cache_move_in0.1820.0200.209
omnipath_cache_remove0.1070.0120.125
omnipath_cache_save0.2330.0240.368
omnipath_cache_search0.0000.0000.001
omnipath_cache_set_ext0.0880.0080.101
omnipath_cache_update_status0.1040.0040.109
omnipath_cache_wipe000
omnipath_config_path0.0010.0000.003
omnipath_for_cosmos10.580 0.24124.522
omnipath_load_config000
omnipath_log000
omnipath_logfile0.0020.0000.002
omnipath_msg0.0060.0000.005
omnipath_query3.8930.0803.984
omnipath_reset_config000
omnipath_save_config000
omnipath_set_cachedir0.0270.0000.028
omnipath_set_console_loglevel0.0050.0000.005
omnipath_set_logfile_loglevel0.0050.0000.004
omnipath_set_loglevel0.0020.0000.002
omnipath_show_db0.0620.0000.063
omnipath_unlock_cache_db0.0000.0000.001
only_from000
ontology_ensure_id0.0010.0000.000
ontology_ensure_name0.0010.0000.000
ontology_name_id0.0010.0000.001
organism_for0.0500.0000.049
pathwaycommons_download0.0010.0000.001
pivot_annotations 9.546 0.29828.571
preppi_download0.0010.0000.001
preppi_filter0.0010.0000.001
print_bma_motif_es0.2330.0151.634
print_bma_motif_vs0.1460.0001.061
print_interactions 6.160 0.08212.413
print_path_es0.4680.0202.357
print_path_vs2.1650.0405.292
pubmed_open4.4980.0614.568
query_info0.1120.0000.686
ramilowski_download000
ramp_id_mapping_table000
ramp_id_type0.0020.0000.002
ramp_sqlite000
ramp_table000
ramp_tables000
regnetwork_directions000
regnetwork_download000
relations_list_to_table0.0950.0040.802
relations_table_to_graph0.0010.0000.000
relations_table_to_list0.0780.0000.337
remap_dorothea_download0.0010.0000.000
remap_filtered000
remap_tf_target_download0.0000.0000.001
resource_info0.1620.0121.087
resources0.0760.0000.977
resources_colname0.5680.0313.717
resources_in3.8850.0003.895
show_network000
signed_ptms5.2310.0286.170
simplify_intercell_network0.0010.0000.001
static_table 6.326 0.15711.529
static_tables0.0590.0000.225
stitch_actions0.0010.0000.001
stitch_links0.0010.0000.000
stitch_network0.0010.0000.001
stitch_remove_prefixes0.0040.0040.009
swap_relations0.1710.0000.422
swissprots_only0.0420.0000.042
tfcensus_download0.1890.0040.209
translate_ids 1.137 0.00021.156
translate_ids_multi 7.482 0.04321.804
trembls_only0.0410.0000.040
trrust_download0.0010.0000.001
uniprot_full_id_mapping_table 0.904 0.00827.425
uniprot_genesymbol_cleanup0.0010.0000.000
uniprot_id_mapping_table0.0010.0000.001
uniprot_id_type0.0030.0000.003
uniprot_idmapping_id_types0.1780.0121.120
unique_intercell_network0.0010.0000.001
unnest_evidences000
uploadlists_id_type0.0020.0000.002
vinayagam_download0.0000.0000.001
walk_ontology_tree0.0010.0000.001
with_extra_attrs10.123 0.38912.063
with_references0.4320.0392.175
zenodo_download0.0010.0000.001