Back to Multiple platform build/check report for BioC 3.20:   simplified   long
ABCDEFGHIJKLMN[O]PQRSTUVWXYZ

This page was generated on 2025-04-02 19:32 -0400 (Wed, 02 Apr 2025).

HostnameOSArch (*)R versionInstalled pkgs
nebbiolo2Linux (Ubuntu 24.04.1 LTS)x86_644.4.3 (2025-02-28) -- "Trophy Case" 4764
palomino8Windows Server 2022 Datacenterx644.4.3 (2025-02-28 ucrt) -- "Trophy Case" 4495
merida1macOS 12.7.5 Montereyx86_644.4.3 (2025-02-28) -- "Trophy Case" 4522
kjohnson1macOS 13.6.6 Venturaarm644.4.3 (2025-02-28) -- "Trophy Case" 4449
taishanLinux (openEuler 24.03 LTS)aarch644.4.3 (2025-02-28) -- "Trophy Case" 4426
Click on any hostname to see more info about the system (e.g. compilers)      (*) as reported by 'uname -p', except on Windows and Mac OS X

Package 1456/2289HostnameOS / ArchINSTALLBUILDCHECKBUILD BIN
OmnipathR 3.14.0  (landing page)
Denes Turei
Snapshot Date: 2025-03-31 13:00 -0400 (Mon, 31 Mar 2025)
git_url: https://git.bioconductor.org/packages/OmnipathR
git_branch: RELEASE_3_20
git_last_commit: 3c7d7f1
git_last_commit_date: 2024-10-29 10:41:00 -0400 (Tue, 29 Oct 2024)
nebbiolo2Linux (Ubuntu 24.04.1 LTS) / x86_64  OK    OK    OK  UNNEEDED, same version is already published
palomino8Windows Server 2022 Datacenter / x64  OK    OK    OK    OK  UNNEEDED, same version is already published
merida1macOS 12.7.5 Monterey / x86_64  OK    OK    OK    OK  UNNEEDED, same version is already published
kjohnson1macOS 13.6.6 Ventura / arm64  OK    OK    OK    OK  UNNEEDED, same version is already published
taishanLinux (openEuler 24.03 LTS) / aarch64  OK    OK    OK  


CHECK results for OmnipathR on merida1

To the developers/maintainers of the OmnipathR package:
- Allow up to 24 hours (and sometimes 48 hours) for your latest push to git@git.bioconductor.org:packages/OmnipathR.git to reflect on this report. See Troubleshooting Build Report for more information.
- Use the following Renviron settings to reproduce errors and warnings.
- If 'R CMD check' started to fail recently on the Linux builder(s) over a missing dependency, add the missing dependency to 'Suggests:' in your DESCRIPTION file. See Renviron.bioc for more information.

raw results


Summary

Package: OmnipathR
Version: 3.14.0
Command: /Library/Frameworks/R.framework/Resources/bin/R CMD check --install=check:OmnipathR.install-out.txt --library=/Library/Frameworks/R.framework/Resources/library --no-vignettes --timings OmnipathR_3.14.0.tar.gz
StartedAt: 2025-04-01 06:41:31 -0400 (Tue, 01 Apr 2025)
EndedAt: 2025-04-01 07:05:03 -0400 (Tue, 01 Apr 2025)
EllapsedTime: 1411.4 seconds
RetCode: 0
Status:   OK  
CheckDir: OmnipathR.Rcheck
Warnings: 0

Command output

##############################################################################
##############################################################################
###
### Running command:
###
###   /Library/Frameworks/R.framework/Resources/bin/R CMD check --install=check:OmnipathR.install-out.txt --library=/Library/Frameworks/R.framework/Resources/library --no-vignettes --timings OmnipathR_3.14.0.tar.gz
###
##############################################################################
##############################################################################


* using log directory ‘/Users/biocbuild/bbs-3.20-bioc/meat/OmnipathR.Rcheck’
* using R version 4.4.3 (2025-02-28)
* using platform: x86_64-apple-darwin20
* R was compiled by
    Apple clang version 14.0.0 (clang-1400.0.29.202)
    GNU Fortran (GCC) 12.2.0
* running under: macOS Monterey 12.7.6
* using session charset: UTF-8
* using option ‘--no-vignettes’
* checking for file ‘OmnipathR/DESCRIPTION’ ... OK
* checking extension type ... Package
* this is package ‘OmnipathR’ version ‘3.14.0’
* package encoding: UTF-8
* checking package namespace information ... OK
* checking package dependencies ... OK
* checking if this is a source package ... OK
* checking if there is a namespace ... OK
* checking for hidden files and directories ... OK
* checking for portable file names ... OK
* checking for sufficient/correct file permissions ... OK
* checking whether package ‘OmnipathR’ can be installed ... OK
* checking installed package size ... OK
* checking package directory ... OK
* checking DESCRIPTION meta-information ... OK
* checking top-level files ... OK
* checking for left-over files ... OK
* checking index information ... OK
* checking package subdirectories ... OK
* checking code files for non-ASCII characters ... OK
* checking R files for syntax errors ... OK
* checking whether the package can be loaded ... OK
* checking whether the package can be loaded with stated dependencies ... OK
* checking whether the package can be unloaded cleanly ... OK
* checking whether the namespace can be loaded with stated dependencies ... OK
* checking whether the namespace can be unloaded cleanly ... OK
* checking whether startup messages can be suppressed ... NOTE
[2025-04-01 06:42:16] [TRACE]   [OmnipathR] Reading JSON from `/Users/biocbuild/Library/Caches/OmnipathR/cache.json` (encoding: UTF-8).
[2025-04-01 06:42:16] [TRACE]   [OmnipathR] JSON validation successful: TRUE
[2025-04-01 06:42:16] [INFO]    [OmnipathR] Initialized cache: `/Users/biocbuild/Library/Caches/OmnipathR`.
[2025-04-01 06:42:16] [TRACE]   [OmnipathR] Running on a build server, wiping cache.
[2025-04-01 06:42:16] [TRACE]   [OmnipathR] Cache is at `/Users/biocbuild/Library/Caches/OmnipathR`.
[2025-04-01 06:42:16] [TRACE]   [OmnipathR] Contains 1 files.
[2025-04-01 06:42:17] [TRACE]   [OmnipathR] Cache is locked: FALSE.
[2025-04-01 06:42:17] [TRACE]   [OmnipathR] Reading JSON from `/Users/biocbuild/Library/Caches/OmnipathR/cache.json` (encoding: UTF-8).
[2025-04-01 06:42:17] [TRACE]   [OmnipathR] JSON validation successful: TRUE
[2025-04-01 06:42:17] [SUCCESS] [OmnipathR] Removing all cache contents from `/Users/biocbuild/Library/Caches/OmnipathR`.
[2025-04-01 06:42:17] [TRACE]   [OmnipathR] Pandoc version: `2.7.3`.
[2025-04-01 06:42:17] [TRACE]   [OmnipathR] Reading JSON from `/Library/Frameworks/R.framework/Versions/4.4-x86_64/Resources/library/OmnipathR/db/db_def.json` (encoding: UTF-8).
[2025-04-01 06:42:17] [TRACE]   [OmnipathR] JSON validation successful: TRUE
[2025-04-01 06:42:17] [TRACE]   [OmnipathR] Reading JSON from `/Library/Frameworks/R.framework/Versions/4.4-x86_64/Resources/library/OmnipathR/internal/magic_bytes.json` (encoding: UTF-8).
[2025-04-01 06:42:17] [TRACE]   [OmnipathR] JSON validation successful: TRUE
[2025-04-01 06:42:17] [TRACE]   [OmnipathR] Reading JSON from `/Library/Frameworks/R.framework/Versions/4.4-x86_64/Resources/library/OmnipathR/internal/urls.json` (encoding: UTF-8).
[2025-04-01 06:42:17] [TRACE]   [OmnipathR] JSON validation successful: TRUE
[2025-04-01 06:42:17] [TRACE]   [OmnipathR] Reading JSON from `/Library/Frameworks/R.framework/Versions/4.4-x86_64/Resources/library/OmnipathR/internal/id_types.json` (encoding: UTF-8).
[2025-04-01 06:42:17] [TRACE]   [OmnipathR] JSON validation successful: TRUE
[2025-04-01 06:42:17] [TRACE]   [OmnipathR] Cache locked: FALSE

It looks like this package (or a package it requires) has a startup
message which cannot be suppressed: see ?packageStartupMessage.
* checking dependencies in R code ... OK
* checking S3 generic/method consistency ... OK
* checking replacement functions ... OK
* checking foreign function calls ... OK
* checking R code for possible problems ... NOTE
[2025-04-01 06:42:46] [TRACE]   [OmnipathR] Reading JSON from `/Users/biocbuild/Library/Caches/OmnipathR/cache.json` (encoding: UTF-8).
[2025-04-01 06:42:46] [TRACE]   [OmnipathR] JSON validation successful: TRUE
[2025-04-01 06:42:46] [INFO]    [OmnipathR] Initialized cache: `/Users/biocbuild/Library/Caches/OmnipathR`.
[2025-04-01 06:42:46] [TRACE]   [OmnipathR] Running on a build server, wiping cache.
[2025-04-01 06:42:46] [TRACE]   [OmnipathR] Cache is at `/Users/biocbuild/Library/Caches/OmnipathR`.
[2025-04-01 06:42:46] [TRACE]   [OmnipathR] Contains 1 files.
[2025-04-01 06:42:46] [TRACE]   [OmnipathR] Cache is locked: FALSE.
[2025-04-01 06:42:46] [TRACE]   [OmnipathR] Reading JSON from `/Users/biocbuild/Library/Caches/OmnipathR/cache.json` (encoding: UTF-8).
[2025-04-01 06:42:46] [TRACE]   [OmnipathR] JSON validation successful: TRUE
[2025-04-01 06:42:46] [SUCCESS] [OmnipathR] Removing all cache contents from `/Users/biocbuild/Library/Caches/OmnipathR`.
[2025-04-01 06:42:47] [TRACE]   [OmnipathR] Pandoc version: `2.7.3`.
[2025-04-01 06:42:47] [TRACE]   [OmnipathR] Reading JSON from `/Library/Frameworks/R.framework/Versions/4.4-x86_64/Resources/library/OmnipathR/db/db_def.json` (encoding: UTF-8).
[2025-04-01 06:42:47] [TRACE]   [OmnipathR] JSON validation successful: TRUE
[2025-04-01 06:42:47] [TRACE]   [OmnipathR] Reading JSON from `/Library/Frameworks/R.framework/Versions/4.4-x86_64/Resources/library/OmnipathR/internal/magic_bytes.json` (encoding: UTF-8).
[2025-04-01 06:42:47] [TRACE]   [OmnipathR] JSON validation successful: TRUE
[2025-04-01 06:42:47] [TRACE]   [OmnipathR] Reading JSON from `/Library/Frameworks/R.framework/Versions/4.4-x86_64/Resources/library/OmnipathR/internal/urls.json` (encoding: UTF-8).
[2025-04-01 06:42:47] [TRACE]   [OmnipathR] JSON validation successful: TRUE
[2025-04-01 06:42:47] [TRACE]   [OmnipathR] Reading JSON from `/Library/Frameworks/R.framework/Versions/4.4-x86_64/Resources/library/OmnipathR/internal/id_types.json` (encoding: UTF-8).
[2025-04-01 06:42:47] [TRACE]   [OmnipathR] JSON validation successful: TRUE
[2025-04-01 06:42:47] [TRACE]   [OmnipathR] Cache locked: FALSE
* checking Rd files ... OK
* checking Rd metadata ... OK
* checking Rd cross-references ... OK
* checking for missing documentation entries ... OK
* checking for code/documentation mismatches ... OK
* checking Rd \usage sections ... OK
* checking Rd contents ... OK
* checking for unstated dependencies in examples ... OK
* checking R/sysdata.rda ... OK
* checking files in ‘vignettes’ ... OK
* checking examples ... OK
Examples with CPU (user + system) or elapsed time > 5s
                                        user system elapsed
annotation_categories                101.437  0.381 104.991
curated_ligrec_stats                  60.849  1.682 121.446
omnipath-interactions                 56.976  1.561  82.633
filter_extra_attrs                    51.958  0.333  60.975
extra_attr_values                     28.767  0.453  31.097
nichenet_gr_network_omnipath          26.777  1.008  30.422
extra_attrs_to_cols                   25.290  0.100  26.069
go_annot_download                     20.608  2.194  36.645
giant_component                       22.048  0.477  43.889
with_extra_attrs                      20.787  0.271  21.814
nichenet_signaling_network_omnipath   18.484  0.564  20.761
pivot_annotations                     16.574  1.383  26.976
omnipath_for_cosmos                   17.176  0.377  40.536
has_extra_attrs                       16.286  0.151  24.450
extra_attrs                           16.016  0.079  16.502
filter_by_resource                    13.893  0.271  15.640
translate_ids_multi                   13.246  0.215  28.959
print_interactions                    12.895  0.308  15.658
find_all_paths                        12.878  0.267  24.305
signed_ptms                           11.856  0.053  13.083
static_table                           9.687  0.728  14.156
filter_intercell                       9.654  0.722  18.949
curated_ligand_receptor_interactions   9.681  0.375  17.683
pubmed_open                            9.507  0.130  10.040
omnipath_query                         9.475  0.060  18.446
resources_in                           9.198  0.038   9.716
print_path_vs                          4.630  0.095   6.586
enzsub_graph                           4.389  0.104   6.074
translate_ids                          1.839  0.132  20.135
ensembl_id_mapping_table               1.773  0.136  16.653
all_uniprots                           1.549  0.158  95.614
uniprot_full_id_mapping_table          1.470  0.141  89.783
annotated_network                      1.384  0.095   9.651
kegg_picture                           0.116  0.012   8.052
* checking for unstated dependencies in ‘tests’ ... OK
* checking tests ...
  Running ‘testthat.R’
 OK
* checking for unstated dependencies in vignettes ... OK
* checking package vignettes ... OK
* checking running R code from vignettes ... SKIPPED
* checking re-building of vignette outputs ... SKIPPED
* checking PDF version of manual ... OK
* DONE

Status: 2 NOTEs
See
  ‘/Users/biocbuild/bbs-3.20-bioc/meat/OmnipathR.Rcheck/00check.log’
for details.


Installation output

OmnipathR.Rcheck/00install.out

##############################################################################
##############################################################################
###
### Running command:
###
###   /Library/Frameworks/R.framework/Resources/bin/R CMD INSTALL OmnipathR
###
##############################################################################
##############################################################################


* installing to library ‘/Library/Frameworks/R.framework/Versions/4.4-x86_64/Resources/library’
* installing *source* package ‘OmnipathR’ ...
** using staged installation
** R
** inst
** byte-compile and prepare package for lazy loading
** help
*** installing help indices
*** copying figures
** building package indices
** installing vignettes
** testing if installed package can be loaded from temporary location
[2025-03-31 15:58:13] [TRACE]   [OmnipathR] Reading JSON from `/Users/biocbuild/Library/Caches/OmnipathR/cache.json` (encoding: UTF-8).
[2025-03-31 15:58:13] [TRACE]   [OmnipathR] JSON validation successful: TRUE
[2025-03-31 15:58:13] [INFO]    [OmnipathR] Initialized cache: `/Users/biocbuild/Library/Caches/OmnipathR`.
[2025-03-31 15:58:13] [TRACE]   [OmnipathR] Running on a build server, wiping cache.
[2025-03-31 15:58:13] [TRACE]   [OmnipathR] Cache is at `/Users/biocbuild/Library/Caches/OmnipathR`.
[2025-03-31 15:58:13] [TRACE]   [OmnipathR] Contains 1 files.
[2025-03-31 15:58:13] [TRACE]   [OmnipathR] Cache is locked: FALSE.
[2025-03-31 15:58:13] [TRACE]   [OmnipathR] Reading JSON from `/Users/biocbuild/Library/Caches/OmnipathR/cache.json` (encoding: UTF-8).
[2025-03-31 15:58:13] [TRACE]   [OmnipathR] JSON validation successful: TRUE
[2025-03-31 15:58:13] [SUCCESS] [OmnipathR] Removing all cache contents from `/Users/biocbuild/Library/Caches/OmnipathR`.
[2025-03-31 15:58:13] [TRACE]   [OmnipathR] Pandoc version: `2.7.3`.
[2025-03-31 15:58:13] [TRACE]   [OmnipathR] Reading JSON from `/Library/Frameworks/R.framework/Versions/4.4-x86_64/Resources/library/00LOCK-OmnipathR/00new/OmnipathR/db/db_def.json` (encoding: UTF-8).
[2025-03-31 15:58:13] [TRACE]   [OmnipathR] JSON validation successful: TRUE
[2025-03-31 15:58:13] [TRACE]   [OmnipathR] Reading JSON from `/Library/Frameworks/R.framework/Versions/4.4-x86_64/Resources/library/00LOCK-OmnipathR/00new/OmnipathR/internal/magic_bytes.json` (encoding: UTF-8).
[2025-03-31 15:58:13] [TRACE]   [OmnipathR] JSON validation successful: TRUE
[2025-03-31 15:58:13] [TRACE]   [OmnipathR] Reading JSON from `/Library/Frameworks/R.framework/Versions/4.4-x86_64/Resources/library/00LOCK-OmnipathR/00new/OmnipathR/internal/urls.json` (encoding: UTF-8).
[2025-03-31 15:58:13] [TRACE]   [OmnipathR] JSON validation successful: TRUE
[2025-03-31 15:58:13] [TRACE]   [OmnipathR] Reading JSON from `/Library/Frameworks/R.framework/Versions/4.4-x86_64/Resources/library/00LOCK-OmnipathR/00new/OmnipathR/internal/id_types.json` (encoding: UTF-8).
[2025-03-31 15:58:13] [TRACE]   [OmnipathR] JSON validation successful: TRUE
[2025-03-31 15:58:13] [TRACE]   [OmnipathR] Cache locked: FALSE
** testing if installed package can be loaded from final location
[2025-03-31 15:58:18] [TRACE]   [OmnipathR] Reading JSON from `/Users/biocbuild/Library/Caches/OmnipathR/cache.json` (encoding: UTF-8).
[2025-03-31 15:58:18] [TRACE]   [OmnipathR] JSON validation successful: TRUE
[2025-03-31 15:58:18] [INFO]    [OmnipathR] Initialized cache: `/Users/biocbuild/Library/Caches/OmnipathR`.
[2025-03-31 15:58:18] [TRACE]   [OmnipathR] Running on a build server, wiping cache.
[2025-03-31 15:58:18] [TRACE]   [OmnipathR] Cache is at `/Users/biocbuild/Library/Caches/OmnipathR`.
[2025-03-31 15:58:18] [TRACE]   [OmnipathR] Contains 1 files.
[2025-03-31 15:58:18] [TRACE]   [OmnipathR] Cache is locked: FALSE.
[2025-03-31 15:58:18] [TRACE]   [OmnipathR] Reading JSON from `/Users/biocbuild/Library/Caches/OmnipathR/cache.json` (encoding: UTF-8).
[2025-03-31 15:58:18] [TRACE]   [OmnipathR] JSON validation successful: TRUE
[2025-03-31 15:58:18] [SUCCESS] [OmnipathR] Removing all cache contents from `/Users/biocbuild/Library/Caches/OmnipathR`.
[2025-03-31 15:58:18] [TRACE]   [OmnipathR] Pandoc version: `2.7.3`.
[2025-03-31 15:58:18] [TRACE]   [OmnipathR] Reading JSON from `/Library/Frameworks/R.framework/Versions/4.4-x86_64/Resources/library/OmnipathR/db/db_def.json` (encoding: UTF-8).
[2025-03-31 15:58:18] [TRACE]   [OmnipathR] JSON validation successful: TRUE
[2025-03-31 15:58:18] [TRACE]   [OmnipathR] Reading JSON from `/Library/Frameworks/R.framework/Versions/4.4-x86_64/Resources/library/OmnipathR/internal/magic_bytes.json` (encoding: UTF-8).
[2025-03-31 15:58:18] [TRACE]   [OmnipathR] JSON validation successful: TRUE
[2025-03-31 15:58:19] [TRACE]   [OmnipathR] Reading JSON from `/Library/Frameworks/R.framework/Versions/4.4-x86_64/Resources/library/OmnipathR/internal/urls.json` (encoding: UTF-8).
[2025-03-31 15:58:19] [TRACE]   [OmnipathR] JSON validation successful: TRUE
[2025-03-31 15:58:19] [TRACE]   [OmnipathR] Reading JSON from `/Library/Frameworks/R.framework/Versions/4.4-x86_64/Resources/library/OmnipathR/internal/id_types.json` (encoding: UTF-8).
[2025-03-31 15:58:19] [TRACE]   [OmnipathR] JSON validation successful: TRUE
[2025-03-31 15:58:19] [TRACE]   [OmnipathR] Cache locked: FALSE
** testing if installed package keeps a record of temporary installation path
* DONE (OmnipathR)

Tests output

OmnipathR.Rcheck/tests/testthat.Rout


R version 4.4.3 (2025-02-28) -- "Trophy Case"
Copyright (C) 2025 The R Foundation for Statistical Computing
Platform: x86_64-apple-darwin20

R is free software and comes with ABSOLUTELY NO WARRANTY.
You are welcome to redistribute it under certain conditions.
Type 'license()' or 'licence()' for distribution details.

R is a collaborative project with many contributors.
Type 'contributors()' for more information and
'citation()' on how to cite R or R packages in publications.

Type 'demo()' for some demos, 'help()' for on-line help, or
'help.start()' for an HTML browser interface to help.
Type 'q()' to quit R.

> #!/usr/bin/env Rscript
> 
> #
> #  This file is part of the `OmnipathR` R package
> #
> #  Copyright
> #  2018-2024
> #  Saez Lab, Uniklinik RWTH Aachen, Heidelberg University
> #
> #  File author(s): Alberto Valdeolivas
> #                  Dénes Türei (turei.denes@gmail.com)
> #                  Attila Gábor
> #
> #  Distributed under the MIT (Expat) License.
> #  See accompanying file `LICENSE` or find a copy at
> #      https://directory.fsf.org/wiki/License:Expat
> #
> #  Website: https://r.omnipathdb.org/
> #  Git repo: https://github.com/saezlab/OmnipathR
> #
> 
> 
> library(testthat)
> library(OmnipathR)
[2025-04-01 07:03:54] [TRACE]   [OmnipathR] Reading JSON from `/Users/biocbuild/Library/Caches/OmnipathR/cache.json` (encoding: UTF-8).
[2025-04-01 07:03:54] [TRACE]   [OmnipathR] JSON validation successful: TRUE
[2025-04-01 07:03:54] [INFO]    [OmnipathR] Initialized cache: `/Users/biocbuild/Library/Caches/OmnipathR`.
[2025-04-01 07:03:54] [TRACE]   [OmnipathR] Running on a build server, wiping cache.
[2025-04-01 07:03:54] [TRACE]   [OmnipathR] Cache is at `/Users/biocbuild/Library/Caches/OmnipathR`.
[2025-04-01 07:03:54] [TRACE]   [OmnipathR] Contains 21 files.
[2025-04-01 07:03:54] [TRACE]   [OmnipathR] Cache is locked: FALSE.
[2025-04-01 07:03:54] [TRACE]   [OmnipathR] Reading JSON from `/Users/biocbuild/Library/Caches/OmnipathR/cache.json` (encoding: UTF-8).
[2025-04-01 07:03:54] [TRACE]   [OmnipathR] JSON validation successful: TRUE
[2025-04-01 07:03:54] [SUCCESS] [OmnipathR] Removing all cache contents from `/Users/biocbuild/Library/Caches/OmnipathR`.
[2025-04-01 07:03:54] [TRACE]   [OmnipathR] Pandoc version: `2.7.3`.
[2025-04-01 07:03:54] [TRACE]   [OmnipathR] Reading JSON from `/Library/Frameworks/R.framework/Versions/4.4-x86_64/Resources/library/OmnipathR/db/db_def.json` (encoding: UTF-8).
[2025-04-01 07:03:54] [TRACE]   [OmnipathR] JSON validation successful: TRUE
[2025-04-01 07:03:54] [TRACE]   [OmnipathR] Reading JSON from `/Library/Frameworks/R.framework/Versions/4.4-x86_64/Resources/library/OmnipathR/internal/magic_bytes.json` (encoding: UTF-8).
[2025-04-01 07:03:54] [TRACE]   [OmnipathR] JSON validation successful: TRUE
[2025-04-01 07:03:54] [TRACE]   [OmnipathR] Reading JSON from `/Library/Frameworks/R.framework/Versions/4.4-x86_64/Resources/library/OmnipathR/internal/urls.json` (encoding: UTF-8).
[2025-04-01 07:03:54] [TRACE]   [OmnipathR] JSON validation successful: TRUE
[2025-04-01 07:03:54] [TRACE]   [OmnipathR] Reading JSON from `/Library/Frameworks/R.framework/Versions/4.4-x86_64/Resources/library/OmnipathR/internal/id_types.json` (encoding: UTF-8).
[2025-04-01 07:03:54] [TRACE]   [OmnipathR] JSON validation successful: TRUE
[2025-04-01 07:03:54] [TRACE]   [OmnipathR] Cache locked: FALSE
> 
> test_check('OmnipathR')
[ FAIL 0 | WARN 0 | SKIP 0 | PASS 34 ]
> 
> proc.time()
   user  system elapsed 
 21.246   1.516  43.689 

Example timings

OmnipathR.Rcheck/OmnipathR-Ex.timings

nameusersystemelapsed
OmnipathR0.0010.0020.002
all_uniprot_acs0.0360.0050.041
all_uniprots 1.549 0.15895.614
ancestors0.0170.0020.019
annotated_network1.3840.0959.651
annotation_categories101.437 0.381104.991
annotation_resources0.1290.0070.645
annotations0.4940.0281.288
biomart_query1.4840.1632.591
bioplex10.0180.0010.019
bioplex20.0190.0020.020
bioplex30.0170.0010.019
bioplex_all0.0190.0020.021
bioplex_hct116_10.0190.0010.020
bma_motif_es0.6970.0441.763
bma_motif_vs0.3180.0110.820
chalmers_gem0.0200.0010.021
chalmers_gem_id_mapping_table0.0180.0010.020
chalmers_gem_id_type0.0040.0000.004
chalmers_gem_metabolites0.0180.0010.023
chalmers_gem_network0.0190.0010.023
chalmers_gem_raw0.0190.0010.022
chalmers_gem_reactions0.0180.0010.019
common_name0.0550.0010.060
complex_genes0.7910.0432.259
complex_resources0.1650.0060.652
complexes0.2620.0090.747
consensuspathdb_download0.0000.0010.001
consensuspathdb_raw_table0.0170.0010.017
cosmos_pkn0.0010.0000.000
curated_ligand_receptor_interactions 9.681 0.37517.683
curated_ligrec_stats 60.849 1.682121.446
database_summary2.7940.0554.011
descendants0.0190.0010.022
ensembl_dataset0.0190.0010.020
ensembl_id_mapping_table 1.773 0.13616.653
ensembl_id_type0.0040.0000.006
ensembl_name0.2090.0050.222
ensembl_organisms0.2630.0030.280
ensembl_organisms_raw0.2880.0080.307
ensembl_orthology0.0010.0020.002
enzsub_graph4.3890.1046.074
enzsub_resources0.1250.0050.647
enzyme_substrate2.9600.0233.651
evex_download0.0170.0020.020
evidences0.0000.0000.001
extra_attr_values28.767 0.45331.097
extra_attrs16.016 0.07916.502
extra_attrs_to_cols25.290 0.10026.069
filter_by_resource13.893 0.27115.640
filter_extra_attrs51.958 0.33360.975
filter_intercell 9.654 0.72218.949
filter_intercell_network0.0360.0020.079
find_all_paths12.878 0.26724.305
from_evidences0.0010.0010.002
get_db000
get_ontology_db0.0180.0020.040
giant_component22.048 0.47743.889
go_annot_download20.608 2.19436.645
go_annot_slim0.0010.0010.001
go_ontology_download0.0170.0010.038
guide2pharma_download0.0190.0020.038
harmonizome_download0.0170.0020.047
has_extra_attrs16.286 0.15124.450
hmdb_id_mapping_table0.0180.0010.021
hmdb_id_type0.0040.0010.007
hmdb_metabolite_fields0.0010.0020.002
hmdb_protein_fields0.0000.0010.002
hmdb_table0.0180.0020.021
homologene_download0.0190.0020.021
homologene_raw0.0370.0030.042
homologene_uniprot_orthology0.0180.0010.021
hpo_download3.5690.3844.208
htridb_download0.0170.0010.021
id_translation_resources0.0010.0010.001
id_types0.0760.0010.079
inbiomap_download0.0000.0010.001
inbiomap_raw0.0000.0000.002
interaction_datasets0.6750.0491.205
interaction_graph0.8400.0121.585
interaction_resources0.1290.0120.802
interaction_types0.0860.0060.113
intercell0.7970.0611.421
intercell_categories0.8400.0731.252
intercell_consensus_filter2.0030.1632.915
intercell_generic_categories0.0820.0040.090
intercell_network0.0190.0020.022
intercell_resources0.1260.0060.816
intercell_summary0.0950.0300.203
is_ontology_id0.0000.0000.001
is_swissprot0.0590.0030.063
is_trembl0.0540.0030.060
is_uniprot0.0190.0010.021
kegg_info0.0180.0010.020
kegg_open0.0170.0010.019
kegg_pathway_annotations0.0000.0000.001
kegg_pathway_download0.0180.0020.020
kegg_pathway_list0.0180.0010.019
kegg_pathways_download0.0010.0010.002
kegg_picture0.1160.0128.052
kegg_process0.0350.0020.037
latin_name0.1050.0010.109
load_db0.1950.0080.212
ncbi_taxid0.1070.0010.119
nichenet_build_model0.0000.0000.001
nichenet_expression_data0.0200.0020.022
nichenet_gr_network0.0550.0030.065
nichenet_gr_network_evex0.0190.0010.023
nichenet_gr_network_harmonizome0.0190.0010.023
nichenet_gr_network_htridb0.0180.0010.022
nichenet_gr_network_omnipath26.777 1.00830.422
nichenet_gr_network_pathwaycommons0.0180.0010.020
nichenet_gr_network_regnetwork0.0210.0020.024
nichenet_gr_network_remap0.0200.0020.022
nichenet_gr_network_trrust0.0170.0010.061
nichenet_ligand_activities0.0010.0010.002
nichenet_ligand_target_links0.0000.0020.002
nichenet_ligand_target_matrix0.0000.0010.001
nichenet_lr_network0.0520.0040.060
nichenet_lr_network_guide2pharma0.0170.0010.019
nichenet_lr_network_omnipath0.0910.0070.102
nichenet_lr_network_ramilowski0.0180.0010.021
nichenet_main0.0010.0010.002
nichenet_networks0.0850.0090.099
nichenet_optimization0.0000.0010.001
nichenet_remove_orphan_ligands0.0500.0030.054
nichenet_results_dir0.0000.0000.001
nichenet_signaling_network0.0540.0030.062
nichenet_signaling_network_cpdb0.0180.0010.020
nichenet_signaling_network_evex0.0170.0010.020
nichenet_signaling_network_harmonizome0.0180.0010.019
nichenet_signaling_network_inbiomap000
nichenet_signaling_network_omnipath18.484 0.56420.761
nichenet_signaling_network_pathwaycommons0.0180.0010.021
nichenet_signaling_network_vinayagam0.0180.0020.021
nichenet_test0.0000.0010.001
nichenet_workarounds0.0000.0000.001
obo_parser0.1650.0110.230
oma_code0.0520.0020.055
oma_organisms0.1070.0040.115
oma_pairwise0.0170.0020.020
oma_pairwise_genesymbols0.0180.0010.019
oma_pairwise_translated0.0170.0010.019
omnipath-interactions56.976 1.56182.633
omnipath_cache_autoclean0.0000.0010.001
omnipath_cache_clean0.0160.0010.036
omnipath_cache_clean_db0.2850.0120.532
omnipath_cache_download_ready0.9990.0861.884
omnipath_cache_filter_versions0.1790.0190.231
omnipath_cache_get0.1490.0160.167
omnipath_cache_key0.0020.0000.003
omnipath_cache_latest_or_new0.1100.0130.124
omnipath_cache_load0.9150.0361.775
omnipath_cache_move_in0.2850.0290.375
omnipath_cache_remove0.2240.0200.312
omnipath_cache_save0.2580.0240.438
omnipath_cache_search0.0010.0010.001
omnipath_cache_set_ext0.1400.0140.174
omnipath_cache_update_status0.1590.0150.219
omnipath_cache_wipe0.0000.0000.001
omnipath_config_path0.0010.0010.002
omnipath_for_cosmos17.176 0.37740.536
omnipath_load_config0.0000.0010.001
omnipath_log0.0000.0010.000
omnipath_logfile0.0030.0010.013
omnipath_msg0.0090.0010.022
omnipath_query 9.475 0.06018.446
omnipath_reset_config0.0000.0010.011
omnipath_save_config0.0000.0010.001
omnipath_set_cachedir0.0500.0040.102
omnipath_set_console_loglevel0.0070.0010.007
omnipath_set_logfile_loglevel0.0070.0000.008
omnipath_set_loglevel0.0040.0010.004
omnipath_show_db0.1780.0020.367
omnipath_unlock_cache_db0.0000.0000.001
only_from0.0010.0010.000
ontology_ensure_id0.0010.0010.002
ontology_ensure_name0.0010.0010.003
ontology_name_id0.0010.0010.003
organism_for0.0800.0020.163
pathwaycommons_download0.0010.0010.012
pivot_annotations16.574 1.38326.976
preppi_download0.0010.0010.002
preppi_filter0.0020.0010.002
print_bma_motif_es0.3690.0361.203
print_bma_motif_vs0.2240.0060.718
print_interactions12.895 0.30815.658
print_path_es0.9060.0441.981
print_path_vs4.6300.0956.586
pubmed_open 9.507 0.13010.040
query_info0.1620.0153.096
ramilowski_download0.0010.0010.002
ramp_id_mapping_table0.0010.0010.002
ramp_id_type0.0040.0010.005
ramp_sqlite0.0010.0000.002
ramp_table0.0010.0010.002
ramp_tables0.0010.0000.001
regnetwork_directions0.0010.0010.002
regnetwork_download0.0010.0010.003
relations_list_to_table0.1660.0090.299
relations_table_to_graph0.0000.0000.001
relations_table_to_list0.1400.0060.190
remap_dorothea_download0.0010.0010.002
remap_filtered0.0000.0000.001
remap_tf_target_download0.0010.0010.002
resource_info0.2930.1260.984
resources0.1120.0060.782
resources_colname0.9070.0881.760
resources_in9.1980.0389.716
show_network0.0000.0000.001
signed_ptms11.856 0.05313.083
simplify_intercell_network0.0010.0010.002
static_table 9.687 0.72814.156
static_tables0.0910.0010.203
stitch_actions0.0010.0010.003
stitch_links0.0010.0000.001
stitch_network0.0010.0010.002
stitch_remove_prefixes0.0120.0010.013
swap_relations0.1430.0050.169
swissprots_only0.0590.0000.062
tfcensus_download0.3010.0210.480
translate_ids 1.839 0.13220.135
translate_ids_multi13.246 0.21528.959
trembls_only0.0580.0000.060
trrust_download0.0010.0010.002
uniprot_full_id_mapping_table 1.470 0.14189.783
uniprot_genesymbol_cleanup0.0010.0010.001
uniprot_id_mapping_table0.0010.0010.002
uniprot_id_type0.0040.0010.005
uniprot_idmapping_id_types0.3190.0170.823
unique_intercell_network0.0010.0010.002
unnest_evidences0.0000.0000.001
uploadlists_id_type0.0040.0010.004
vinayagam_download0.0010.0010.002
walk_ontology_tree0.0020.0020.003
with_extra_attrs20.787 0.27121.814
with_references0.7430.0431.951
zenodo_download0.0020.0010.004