Back to Multiple platform build/check report for BioC 3.20: simplified long |
|
This page was generated on 2025-04-02 19:35 -0400 (Wed, 02 Apr 2025).
Hostname | OS | Arch (*) | R version | Installed pkgs |
---|---|---|---|---|
nebbiolo2 | Linux (Ubuntu 24.04.1 LTS) | x86_64 | 4.4.3 (2025-02-28) -- "Trophy Case" | 4764 |
palomino8 | Windows Server 2022 Datacenter | x64 | 4.4.3 (2025-02-28 ucrt) -- "Trophy Case" | 4495 |
merida1 | macOS 12.7.5 Monterey | x86_64 | 4.4.3 (2025-02-28) -- "Trophy Case" | 4522 |
kjohnson1 | macOS 13.6.6 Ventura | arm64 | 4.4.3 (2025-02-28) -- "Trophy Case" | 4449 |
taishan | Linux (openEuler 24.03 LTS) | aarch64 | 4.4.3 (2025-02-28) -- "Trophy Case" | 4426 |
Click on any hostname to see more info about the system (e.g. compilers) (*) as reported by 'uname -p', except on Windows and Mac OS X |
Package 897/2289 | Hostname | OS / Arch | INSTALL | BUILD | CHECK | BUILD BIN | ||||||||
GRaNIE 1.10.0 (landing page) Christian Arnold
| nebbiolo2 | Linux (Ubuntu 24.04.1 LTS) / x86_64 | OK | OK | OK | ![]() | ||||||||
palomino8 | Windows Server 2022 Datacenter / x64 | OK | OK | WARNINGS | OK | ![]() | ||||||||
merida1 | macOS 12.7.5 Monterey / x86_64 | OK | OK | OK | OK | ![]() | ||||||||
kjohnson1 | macOS 13.6.6 Ventura / arm64 | OK | OK | OK | OK | ![]() | ||||||||
taishan | Linux (openEuler 24.03 LTS) / aarch64 | OK | OK | OK | ||||||||||
To the developers/maintainers of the GRaNIE package: - Allow up to 24 hours (and sometimes 48 hours) for your latest push to git@git.bioconductor.org:packages/GRaNIE.git to reflect on this report. See Troubleshooting Build Report for more information. - Use the following Renviron settings to reproduce errors and warnings. - If 'R CMD check' started to fail recently on the Linux builder(s) over a missing dependency, add the missing dependency to 'Suggests:' in your DESCRIPTION file. See Renviron.bioc for more information. - See Martin Grigorov's blog post for how to debug Linux ARM64 related issues on a x86_64 host. |
Package: GRaNIE |
Version: 1.10.0 |
Command: /home/biocbuild/R/R/bin/R CMD check --install=check:GRaNIE.install-out.txt --library=/home/biocbuild/R/R/site-library --no-vignettes --timings GRaNIE_1.10.0.tar.gz |
StartedAt: 2025-04-01 07:09:00 -0000 (Tue, 01 Apr 2025) |
EndedAt: 2025-04-01 07:17:42 -0000 (Tue, 01 Apr 2025) |
EllapsedTime: 521.6 seconds |
RetCode: 0 |
Status: OK |
CheckDir: GRaNIE.Rcheck |
Warnings: 0 |
############################################################################## ############################################################################## ### ### Running command: ### ### /home/biocbuild/R/R/bin/R CMD check --install=check:GRaNIE.install-out.txt --library=/home/biocbuild/R/R/site-library --no-vignettes --timings GRaNIE_1.10.0.tar.gz ### ############################################################################## ############################################################################## * using log directory ‘/home/biocbuild/bbs-3.20-bioc/meat/GRaNIE.Rcheck’ * using R version 4.4.3 (2025-02-28) * using platform: aarch64-unknown-linux-gnu * R was compiled by aarch64-unknown-linux-gnu-gcc (GCC) 14.2.0 GNU Fortran (GCC) 14.2.0 * running under: openEuler 24.03 (LTS) * using session charset: UTF-8 * using option ‘--no-vignettes’ * checking for file ‘GRaNIE/DESCRIPTION’ ... OK * this is package ‘GRaNIE’ version ‘1.10.0’ * package encoding: UTF-8 * checking package namespace information ... OK * checking package dependencies ... OK * checking if this is a source package ... OK * checking if there is a namespace ... OK * checking for hidden files and directories ... OK * checking for portable file names ... OK * checking for sufficient/correct file permissions ... OK * checking whether package ‘GRaNIE’ can be installed ... OK * checking installed package size ... OK * checking package directory ... OK * checking ‘build’ directory ... OK * checking DESCRIPTION meta-information ... OK * checking top-level files ... OK * checking for left-over files ... OK * checking index information ... OK * checking package subdirectories ... OK * checking code files for non-ASCII characters ... OK * checking R files for syntax errors ... OK * checking whether the package can be loaded ... OK * checking whether the package can be loaded with stated dependencies ... OK * checking whether the package can be unloaded cleanly ... OK * checking whether the namespace can be loaded with stated dependencies ... OK * checking whether the namespace can be unloaded cleanly ... OK * checking loading without being on the library search path ... OK * checking whether startup messages can be suppressed ... OK * checking dependencies in R code ... OK * checking S3 generic/method consistency ... OK * checking replacement functions ... OK * checking foreign function calls ... OK * checking R code for possible problems ... NOTE .performIHW: no visible binding for global variable 'adj_pvalue' Undefined global functions or variables: adj_pvalue * checking Rd files ... OK * checking Rd metadata ... OK * checking Rd cross-references ... OK * checking for missing documentation entries ... OK * checking for code/documentation mismatches ... OK * checking Rd \usage sections ... OK * checking Rd contents ... OK * checking for unstated dependencies in examples ... OK * checking files in ‘vignettes’ ... OK * checking examples ... OK Examples with CPU (user + system) or elapsed time > 5s user system elapsed generateStatsSummary 6.930 0.052 7.649 addSNPData 5.239 0.392 9.043 plotDiagnosticPlots_peakGene 5.042 0.123 5.901 plotCommunitiesEnrichment 4.116 0.101 5.562 plotCommunitiesStats 2.937 0.116 8.110 * checking for unstated dependencies in vignettes ... OK * checking package vignettes ... OK * checking running R code from vignettes ... SKIPPED * checking re-building of vignette outputs ... SKIPPED * checking PDF version of manual ... OK * DONE Status: 1 NOTE See ‘/home/biocbuild/bbs-3.20-bioc/meat/GRaNIE.Rcheck/00check.log’ for details.
GRaNIE.Rcheck/00install.out
############################################################################## ############################################################################## ### ### Running command: ### ### /home/biocbuild/R/R/bin/R CMD INSTALL GRaNIE ### ############################################################################## ############################################################################## * installing to library ‘/home/biocbuild/R/R-4.4.3/site-library’ * installing *source* package ‘GRaNIE’ ... ** using staged installation ** R ** byte-compile and prepare package for lazy loading ** help *** installing help indices *** copying figures ** building package indices ** installing vignettes ** testing if installed package can be loaded from temporary location ** testing if installed package can be loaded from final location ** testing if installed package keeps a record of temporary installation path * DONE (GRaNIE)
GRaNIE.Rcheck/GRaNIE-Ex.timings
name | user | system | elapsed | |
AR_classification_wrapper | 0 | 0 | 0 | |
addConnections_TF_peak | 2.835 | 0.114 | 4.640 | |
addConnections_peak_gene | 2.454 | 0.093 | 3.945 | |
addData | 0 | 0 | 0 | |
addSNPData | 5.239 | 0.392 | 9.043 | |
addTFBS | 0 | 0 | 0 | |
add_TF_gene_correlation | 1.569 | 0.032 | 2.267 | |
add_featureVariation | 0.001 | 0.000 | 0.000 | |
build_eGRN_graph | 1.587 | 0.058 | 2.330 | |
calculateCommunitiesEnrichment | 3.346 | 0.124 | 4.210 | |
calculateCommunitiesStats | 1.601 | 0.031 | 2.300 | |
calculateGeneralEnrichment | 1.945 | 0.086 | 3.340 | |
calculateTFEnrichment | 2.140 | 0.044 | 2.874 | |
changeOutputDirectory | 1.647 | 0.008 | 2.897 | |
deleteIntermediateData | 1.685 | 0.008 | 2.354 | |
filterConnectionsForPlotting | 1.738 | 0.039 | 3.031 | |
filterData | 3.076 | 0.088 | 4.988 | |
filterGRNAndConnectGenes | 1.609 | 0.012 | 2.958 | |
generateStatsSummary | 6.930 | 0.052 | 7.649 | |
getCounts | 1.822 | 0.036 | 2.525 | |
getGRNConnections | 2.514 | 0.052 | 3.246 | |
getGRNSummary | 2.421 | 0.020 | 3.595 | |
getParameters | 1.629 | 0.032 | 2.307 | |
getTopNodes | 1.728 | 0.008 | 2.430 | |
initializeGRN | 0.023 | 0.000 | 0.024 | |
loadExampleObject | 1.673 | 0.054 | 2.398 | |
nGenes | 2.406 | 0.066 | 3.650 | |
nPeaks | 1.602 | 0.033 | 2.322 | |
nTFs | 1.613 | 0.020 | 2.385 | |
overlapPeaksAndTFBS | 1.567 | 0.019 | 2.294 | |
performAllNetworkAnalyses | 0 | 0 | 0 | |
plotCommunitiesEnrichment | 4.116 | 0.101 | 5.562 | |
plotCommunitiesStats | 2.937 | 0.116 | 8.110 | |
plotCorrelations | 2.849 | 0.089 | 3.632 | |
plotDiagnosticPlots_TFPeaks | 3.425 | 0.096 | 4.216 | |
plotDiagnosticPlots_peakGene | 5.042 | 0.123 | 5.901 | |
plotGeneralEnrichment | 1.862 | 0.034 | 2.571 | |
plotGeneralGraphStats | 2.667 | 0.140 | 3.497 | |
plotPCA_all | 3.556 | 0.089 | 4.883 | |
plotTFEnrichment | 2.413 | 0.102 | 3.253 | |
plot_stats_connectionSummary | 2.320 | 0.152 | 3.190 | |
visualizeGRN | 2.986 | 0.043 | 3.647 | |