Back to Multiple platform build/check report for BioC 3.20: simplified long |
|
This page was generated on 2025-04-02 19:28 -0400 (Wed, 02 Apr 2025).
Hostname | OS | Arch (*) | R version | Installed pkgs |
---|---|---|---|---|
nebbiolo2 | Linux (Ubuntu 24.04.1 LTS) | x86_64 | 4.4.3 (2025-02-28) -- "Trophy Case" | 4764 |
palomino8 | Windows Server 2022 Datacenter | x64 | 4.4.3 (2025-02-28 ucrt) -- "Trophy Case" | 4495 |
merida1 | macOS 12.7.5 Monterey | x86_64 | 4.4.3 (2025-02-28) -- "Trophy Case" | 4522 |
kjohnson1 | macOS 13.6.6 Ventura | arm64 | 4.4.3 (2025-02-28) -- "Trophy Case" | 4449 |
taishan | Linux (openEuler 24.03 LTS) | aarch64 | 4.4.3 (2025-02-28) -- "Trophy Case" | 4426 |
Click on any hostname to see more info about the system (e.g. compilers) (*) as reported by 'uname -p', except on Windows and Mac OS X |
Package 897/2289 | Hostname | OS / Arch | INSTALL | BUILD | CHECK | BUILD BIN | ||||||||
GRaNIE 1.10.0 (landing page) Christian Arnold
| nebbiolo2 | Linux (Ubuntu 24.04.1 LTS) / x86_64 | OK | OK | OK | ![]() | ||||||||
palomino8 | Windows Server 2022 Datacenter / x64 | OK | OK | WARNINGS | OK | ![]() | ||||||||
merida1 | macOS 12.7.5 Monterey / x86_64 | OK | OK | OK | OK | ![]() | ||||||||
kjohnson1 | macOS 13.6.6 Ventura / arm64 | OK | OK | OK | OK | ![]() | ||||||||
taishan | Linux (openEuler 24.03 LTS) / aarch64 | OK | OK | OK | ||||||||||
To the developers/maintainers of the GRaNIE package: - Allow up to 24 hours (and sometimes 48 hours) for your latest push to git@git.bioconductor.org:packages/GRaNIE.git to reflect on this report. See Troubleshooting Build Report for more information. - Use the following Renviron settings to reproduce errors and warnings. - If 'R CMD check' started to fail recently on the Linux builder(s) over a missing dependency, add the missing dependency to 'Suggests:' in your DESCRIPTION file. See Renviron.bioc for more information. |
Package: GRaNIE |
Version: 1.10.0 |
Command: /home/biocbuild/bbs-3.20-bioc/R/bin/R CMD check --install=check:GRaNIE.install-out.txt --library=/home/biocbuild/bbs-3.20-bioc/R/site-library --timings GRaNIE_1.10.0.tar.gz |
StartedAt: 2025-03-31 22:43:31 -0400 (Mon, 31 Mar 2025) |
EndedAt: 2025-03-31 22:53:58 -0400 (Mon, 31 Mar 2025) |
EllapsedTime: 626.9 seconds |
RetCode: 0 |
Status: OK |
CheckDir: GRaNIE.Rcheck |
Warnings: 0 |
############################################################################## ############################################################################## ### ### Running command: ### ### /home/biocbuild/bbs-3.20-bioc/R/bin/R CMD check --install=check:GRaNIE.install-out.txt --library=/home/biocbuild/bbs-3.20-bioc/R/site-library --timings GRaNIE_1.10.0.tar.gz ### ############################################################################## ############################################################################## * using log directory ‘/home/biocbuild/bbs-3.20-bioc/meat/GRaNIE.Rcheck’ * using R version 4.4.3 (2025-02-28) * using platform: x86_64-pc-linux-gnu * R was compiled by gcc (Ubuntu 13.3.0-6ubuntu2~24.04) 13.3.0 GNU Fortran (Ubuntu 13.3.0-6ubuntu2~24.04) 13.3.0 * running under: Ubuntu 24.04.2 LTS * using session charset: UTF-8 * checking for file ‘GRaNIE/DESCRIPTION’ ... OK * this is package ‘GRaNIE’ version ‘1.10.0’ * package encoding: UTF-8 * checking package namespace information ... OK * checking package dependencies ... OK * checking if this is a source package ... OK * checking if there is a namespace ... OK * checking for hidden files and directories ... OK * checking for portable file names ... OK * checking for sufficient/correct file permissions ... OK * checking whether package ‘GRaNIE’ can be installed ... OK * checking installed package size ... OK * checking package directory ... OK * checking ‘build’ directory ... OK * checking DESCRIPTION meta-information ... OK * checking top-level files ... OK * checking for left-over files ... OK * checking index information ... OK * checking package subdirectories ... OK * checking code files for non-ASCII characters ... OK * checking R files for syntax errors ... OK * checking whether the package can be loaded ... OK * checking whether the package can be loaded with stated dependencies ... OK * checking whether the package can be unloaded cleanly ... OK * checking whether the namespace can be loaded with stated dependencies ... OK * checking whether the namespace can be unloaded cleanly ... OK * checking loading without being on the library search path ... OK * checking whether startup messages can be suppressed ... OK * checking dependencies in R code ... OK * checking S3 generic/method consistency ... OK * checking replacement functions ... OK * checking foreign function calls ... OK * checking R code for possible problems ... NOTE .performIHW: no visible binding for global variable 'adj_pvalue' Undefined global functions or variables: adj_pvalue * checking Rd files ... OK * checking Rd metadata ... OK * checking Rd cross-references ... OK * checking for missing documentation entries ... OK * checking for code/documentation mismatches ... OK * checking Rd \usage sections ... OK * checking Rd contents ... OK * checking for unstated dependencies in examples ... OK * checking files in ‘vignettes’ ... OK * checking examples ... OK Examples with CPU (user + system) or elapsed time > 5s user system elapsed generateStatsSummary 10.054 0.229 11.909 addSNPData 4.960 0.638 8.345 getGRNConnections 5.019 0.312 6.154 filterData 4.988 0.241 6.914 plotDiagnosticPlots_peakGene 4.989 0.199 5.676 nGenes 4.591 0.272 6.209 getGRNSummary 4.295 0.099 5.117 addConnections_TF_peak 3.776 0.060 5.906 * checking for unstated dependencies in vignettes ... OK * checking package vignettes ... OK * checking re-building of vignette outputs ... OK * checking PDF version of manual ... OK * DONE Status: 1 NOTE See ‘/home/biocbuild/bbs-3.20-bioc/meat/GRaNIE.Rcheck/00check.log’ for details.
GRaNIE.Rcheck/00install.out
############################################################################## ############################################################################## ### ### Running command: ### ### /home/biocbuild/bbs-3.20-bioc/R/bin/R CMD INSTALL GRaNIE ### ############################################################################## ############################################################################## * installing to library ‘/home/biocbuild/bbs-3.20-bioc/R/site-library’ * installing *source* package ‘GRaNIE’ ... ** using staged installation ** R ** byte-compile and prepare package for lazy loading ** help *** installing help indices *** copying figures ** building package indices ** installing vignettes ** testing if installed package can be loaded from temporary location ** testing if installed package can be loaded from final location ** testing if installed package keeps a record of temporary installation path * DONE (GRaNIE)
GRaNIE.Rcheck/GRaNIE-Ex.timings
name | user | system | elapsed | |
AR_classification_wrapper | 0 | 0 | 0 | |
addConnections_TF_peak | 3.776 | 0.060 | 5.906 | |
addConnections_peak_gene | 3.162 | 0.207 | 3.842 | |
addData | 0 | 0 | 0 | |
addSNPData | 4.960 | 0.638 | 8.345 | |
addTFBS | 0 | 0 | 0 | |
add_TF_gene_correlation | 1.634 | 0.071 | 2.157 | |
add_featureVariation | 0 | 0 | 0 | |
build_eGRN_graph | 1.730 | 0.059 | 2.227 | |
calculateCommunitiesEnrichment | 3.613 | 0.345 | 4.385 | |
calculateCommunitiesStats | 3.148 | 0.094 | 4.584 | |
calculateGeneralEnrichment | 2.977 | 0.172 | 3.629 | |
calculateTFEnrichment | 3.347 | 0.161 | 4.690 | |
changeOutputDirectory | 2.553 | 0.054 | 3.623 | |
deleteIntermediateData | 2.667 | 0.081 | 3.584 | |
filterConnectionsForPlotting | 3.317 | 0.119 | 4.668 | |
filterData | 4.988 | 0.241 | 6.914 | |
filterGRNAndConnectGenes | 1.786 | 0.047 | 2.281 | |
generateStatsSummary | 10.054 | 0.229 | 11.909 | |
getCounts | 2.803 | 0.048 | 3.643 | |
getGRNConnections | 5.019 | 0.312 | 6.154 | |
getGRNSummary | 4.295 | 0.099 | 5.117 | |
getParameters | 3.071 | 0.057 | 3.595 | |
getTopNodes | 2.266 | 0.029 | 2.943 | |
initializeGRN | 0.019 | 0.003 | 0.022 | |
loadExampleObject | 2.447 | 0.062 | 2.974 | |
nGenes | 4.591 | 0.272 | 6.209 | |
nPeaks | 3.231 | 0.044 | 3.758 | |
nTFs | 2.166 | 0.023 | 2.649 | |
overlapPeaksAndTFBS | 1.708 | 0.020 | 2.191 | |
performAllNetworkAnalyses | 0 | 0 | 0 | |
plotCommunitiesEnrichment | 4.293 | 0.040 | 4.785 | |
plotCommunitiesStats | 2.714 | 0.051 | 3.203 | |
plotCorrelations | 3.210 | 0.122 | 3.785 | |
plotDiagnosticPlots_TFPeaks | 3.084 | 0.031 | 3.555 | |
plotDiagnosticPlots_peakGene | 4.989 | 0.199 | 5.676 | |
plotGeneralEnrichment | 3.394 | 0.085 | 4.473 | |
plotGeneralGraphStats | 2.638 | 0.071 | 3.121 | |
plotPCA_all | 3.807 | 0.087 | 4.320 | |
plotTFEnrichment | 2.386 | 0.016 | 2.847 | |
plot_stats_connectionSummary | 2.340 | 0.038 | 2.831 | |
visualizeGRN | 2.587 | 0.017 | 3.042 | |