Back to Multiple platform build/check report for BioC 3.20:   simplified   long
ABC[D]EFGHIJKLMNOPQRSTUVWXYZ

This page was generated on 2025-04-02 19:35 -0400 (Wed, 02 Apr 2025).

HostnameOSArch (*)R versionInstalled pkgs
nebbiolo2Linux (Ubuntu 24.04.1 LTS)x86_644.4.3 (2025-02-28) -- "Trophy Case" 4764
palomino8Windows Server 2022 Datacenterx644.4.3 (2025-02-28 ucrt) -- "Trophy Case" 4495
merida1macOS 12.7.5 Montereyx86_644.4.3 (2025-02-28) -- "Trophy Case" 4522
kjohnson1macOS 13.6.6 Venturaarm644.4.3 (2025-02-28) -- "Trophy Case" 4449
taishanLinux (openEuler 24.03 LTS)aarch644.4.3 (2025-02-28) -- "Trophy Case" 4426
Click on any hostname to see more info about the system (e.g. compilers)      (*) as reported by 'uname -p', except on Windows and Mac OS X

Package 504/2289HostnameOS / ArchINSTALLBUILDCHECKBUILD BIN
DAPAR 1.38.0  (landing page)
Samuel Wieczorek
Snapshot Date: 2025-03-31 13:00 -0400 (Mon, 31 Mar 2025)
git_url: https://git.bioconductor.org/packages/DAPAR
git_branch: RELEASE_3_20
git_last_commit: 62bc537
git_last_commit_date: 2024-10-29 10:04:09 -0400 (Tue, 29 Oct 2024)
nebbiolo2Linux (Ubuntu 24.04.1 LTS) / x86_64  OK    OK    OK  UNNEEDED, same version is already published
palomino8Windows Server 2022 Datacenter / x64  OK    OK    OK    OK  UNNEEDED, same version is already published
merida1macOS 12.7.5 Monterey / x86_64  OK    OK    OK    OK  UNNEEDED, same version is already published
kjohnson1macOS 13.6.6 Ventura / arm64  OK    OK    OK    OK  UNNEEDED, same version is already published
taishanLinux (openEuler 24.03 LTS) / aarch64  OK    OK    OK  


CHECK results for DAPAR on taishan

To the developers/maintainers of the DAPAR package:
- Allow up to 24 hours (and sometimes 48 hours) for your latest push to git@git.bioconductor.org:packages/DAPAR.git to reflect on this report. See Troubleshooting Build Report for more information.
- Use the following Renviron settings to reproduce errors and warnings.
- If 'R CMD check' started to fail recently on the Linux builder(s) over a missing dependency, add the missing dependency to 'Suggests:' in your DESCRIPTION file. See Renviron.bioc for more information.
- See Martin Grigorov's blog post for how to debug Linux ARM64 related issues on a x86_64 host.

raw results


Summary

Package: DAPAR
Version: 1.38.0
Command: /home/biocbuild/R/R/bin/R CMD check --install=check:DAPAR.install-out.txt --library=/home/biocbuild/R/R/site-library --no-vignettes --timings DAPAR_1.38.0.tar.gz
StartedAt: 2025-04-01 05:38:31 -0000 (Tue, 01 Apr 2025)
EndedAt: 2025-04-01 05:48:09 -0000 (Tue, 01 Apr 2025)
EllapsedTime: 577.5 seconds
RetCode: 0
Status:   OK  
CheckDir: DAPAR.Rcheck
Warnings: 0

Command output

##############################################################################
##############################################################################
###
### Running command:
###
###   /home/biocbuild/R/R/bin/R CMD check --install=check:DAPAR.install-out.txt --library=/home/biocbuild/R/R/site-library --no-vignettes --timings DAPAR_1.38.0.tar.gz
###
##############################################################################
##############################################################################


* using log directory ‘/home/biocbuild/bbs-3.20-bioc/meat/DAPAR.Rcheck’
* using R version 4.4.3 (2025-02-28)
* using platform: aarch64-unknown-linux-gnu
* R was compiled by
    aarch64-unknown-linux-gnu-gcc (GCC) 14.2.0
    GNU Fortran (GCC) 14.2.0
* running under: openEuler 24.03 (LTS)
* using session charset: UTF-8
* using option ‘--no-vignettes’
* checking for file ‘DAPAR/DESCRIPTION’ ... OK
* checking extension type ... Package
* this is package ‘DAPAR’ version ‘1.38.0’
* package encoding: UTF-8
* checking package namespace information ... OK
* checking package dependencies ... NOTE
Vignette dependency required without any vignettes:: ‘knitr’
* checking if this is a source package ... OK
* checking if there is a namespace ... OK
* checking for hidden files and directories ... OK
* checking for portable file names ... OK
* checking for sufficient/correct file permissions ... OK
* checking whether package ‘DAPAR’ can be installed ... OK
* checking installed package size ... OK
* checking package directory ... OK
* checking DESCRIPTION meta-information ... OK
* checking top-level files ... OK
* checking for left-over files ... OK
* checking index information ... OK
* checking package subdirectories ... OK
* checking code files for non-ASCII characters ... OK
* checking R files for syntax errors ... OK
* checking whether the package can be loaded ... OK
* checking whether the package can be loaded with stated dependencies ... OK
* checking whether the package can be unloaded cleanly ... OK
* checking whether the namespace can be loaded with stated dependencies ... OK
* checking whether the namespace can be unloaded cleanly ... OK
* checking loading without being on the library search path ... OK
* checking whether startup messages can be suppressed ... OK
* checking dependencies in R code ... OK
* checking S3 generic/method consistency ... OK
* checking replacement functions ... OK
* checking foreign function calls ... OK
* checking R code for possible problems ... NOTE
Check_Dataset_Validity: no visible global function definition for
  ‘exprs’
OWAnova: no visible global function definition for ‘aov’
aggregateIterParallel: no visible binding for global variable ‘cond’
averageIntensities: no visible binding for global variable ‘condition’
averageIntensities: no visible binding for global variable ‘feature’
averageIntensities: no visible binding for global variable ‘intensity’
createMSnset: no visible global function definition for
  ‘installed.packages’
createMSnset: no visible binding for global variable ‘Prostar.loc’
createMSnset2: no visible global function definition for
  ‘installed.packages’
createMSnset2: no visible binding for global variable ‘Prostar.loc’
diffAnaVolcanoplot_rCharts: no visible binding for global variable ‘x’
diffAnaVolcanoplot_rCharts: no visible binding for global variable ‘y’
diffAnaVolcanoplot_rCharts: no visible binding for global variable ‘g’
display.CC.visNet: no visible binding for global variable
  ‘layout_nicely’
getTextForGOAnalysis: no visible binding for global variable
  ‘textGOParams’
getTextForGOAnalysis: no visible binding for global variable ‘input’
globalAdjPval: no visible global function definition for ‘stack’
heatmapForMissingValues: no visible binding for global variable ‘par’
limmaCompleteTest: no visible binding for global variable ‘A’
limmaCompleteTest: no visible binding for global variable ‘B’
limmaCompleteTest: no visible binding for global variable ‘P.Value’
pepa.test: no visible global function definition for ‘nodes<-’
testAnovaModels : <anonymous>: no visible global function definition
  for ‘TukeyHSD’
visualizeClusters: no visible binding for global variable
  ‘adjusted_pvalues’
visualizeClusters: no visible binding for global variable ‘Condition’
visualizeClusters: no visible binding for global variable ‘Intensity’
visualizeClusters: no visible binding for global variable
  ‘FDR_threshold’
visualizeClusters: no visible binding for global variable ‘feature’
wrapperClassic1wayAnova: no visible binding for global variable
  ‘Pr(>F)1’
wrapperRunClustering: no visible global function definition for ‘str_c’
Undefined global functions or variables:
  A B Condition FDR_threshold Intensity P.Value Pr(>F)1 Prostar.loc
  TukeyHSD adjusted_pvalues aov cond condition exprs feature g input
  installed.packages intensity layout_nicely nodes<- par stack str_c
  textGOParams x y
Consider adding
  importFrom("graphics", "par")
  importFrom("stats", "TukeyHSD", "aov")
  importFrom("utils", "installed.packages", "stack")
to your NAMESPACE file.
* checking Rd files ... OK
* checking Rd metadata ... OK
* checking Rd cross-references ... OK
* checking for missing documentation entries ... OK
* checking for code/documentation mismatches ... OK
* checking Rd \usage sections ... OK
* checking Rd contents ... OK
* checking for unstated dependencies in examples ... OK
* checking examples ... OK
Examples with CPU (user + system) or elapsed time > 5s
                                   user system elapsed
wrapper.compareNormalizationD_HC 51.066 11.579  64.298
wrapper.dapar.impute.mi          20.330  0.491  20.969
barplotEnrichGO_HC                8.426  0.979   9.804
enrich_GO                         4.850  0.422   5.321
barplotGroupGO_HC                 4.939  0.225   5.182
* checking for unstated dependencies in ‘tests’ ... OK
* checking tests ...
  Running ‘testthat.R’
 OK
* checking PDF version of manual ... OK
* DONE

Status: 2 NOTEs
See
  ‘/home/biocbuild/bbs-3.20-bioc/meat/DAPAR.Rcheck/00check.log’
for details.


Installation output

DAPAR.Rcheck/00install.out

##############################################################################
##############################################################################
###
### Running command:
###
###   /home/biocbuild/R/R/bin/R CMD INSTALL DAPAR
###
##############################################################################
##############################################################################


* installing to library ‘/home/biocbuild/R/R-4.4.3/site-library’
* installing *source* package ‘DAPAR’ ...
** using staged installation
** R
** inst
** byte-compile and prepare package for lazy loading
** help
*** installing help indices
** building package indices
** testing if installed package can be loaded from temporary location
** testing if installed package can be loaded from final location
** testing if installed package keeps a record of temporary installation path
* DONE (DAPAR)

Tests output

DAPAR.Rcheck/tests/testthat.Rout


R version 4.4.3 (2025-02-28) -- "Trophy Case"
Copyright (C) 2025 The R Foundation for Statistical Computing
Platform: aarch64-unknown-linux-gnu

R is free software and comes with ABSOLUTELY NO WARRANTY.
You are welcome to redistribute it under certain conditions.
Type 'license()' or 'licence()' for distribution details.

R is a collaborative project with many contributors.
Type 'contributors()' for more information and
'citation()' on how to cite R or R packages in publications.

Type 'demo()' for some demos, 'help()' for on-line help, or
'help.start()' for an HTML browser interface to help.
Type 'q()' to quit R.

> library(testthat)
> library(DAPAR)

This is the 'DAPAR' version 1.38.0.

  To get started, visit
    http://www.prostar-proteomics.org/


> 
> test_check("DAPAR")

 Iterations: 

 1 / 1  - Imputation MNAR OK - 
Imputation MCAR in progress - 
3 % - 6 % - 9 % - 12 % - 15 % - 18 % - 21 % - 24 % - 27 % - 30 % - 33 % - 36 % - 39 % - 42 % - 45 % - 48 % - 51 % - 54 % - 57 % - 60 % - 63 % - 66 % - 69 % - 72 % - 75 % - 78 % - 81 % - 84 % - 87 % - 90 % - 93 % - 96 % - 99 % - 
 Iterations: 

 1 / 1  - Imputation MNAR OK - 
Imputation MCAR in progress - 
3 % - 6 % - 9 % - 12 % - 15 % - 18 % - 21 % - 24 % - 27 % - 30 % - 33 % - 36 % - 39 % - 42 % - 45 % - 48 % - 51 % - 54 % - 57 % - 60 % - 63 % - 66 % - 69 % - 72 % - 75 % - 78 % - 81 % - 84 % - 87 % - 90 % - 93 % - 96 % - 99 % - 
 Imputation in condition  1 ...
 In progress: 10 % - 20 % - 30 % - 40 % - 50 % - 60 % - 70 % - 80 % - 90 % - 100 % - 
 Imputation in condition  2 ...
 In progress: 10 % - 20 % - 30 % - 40 % - 50 % - 60 % - 70 % - 80 % - 90 % - 100 % - [ FAIL 0 | WARN 17 | SKIP 0 | PASS 66 ]

[ FAIL 0 | WARN 17 | SKIP 0 | PASS 66 ]
> 
> proc.time()
   user  system elapsed 
 39.052   1.369  40.777 

Example timings

DAPAR.Rcheck/DAPAR-Ex.timings

nameusersystemelapsed
AggregateMetacell0.3870.0120.403
BuildAdjacencyMatrix0.2980.0040.302
BuildColumnToProteinDataset0.3710.0040.377
BuildMetaCell0.6180.0200.646
CVDistD_HC3.1590.1683.393
Children0.0070.0000.006
CountPep1.0460.1231.173
ExtendPalette0.0300.0040.035
GOAnalysisSave000
GetCC1.9800.0622.049
GetColorsForConditions0.2590.0000.260
GetDetailedNbPeptides0.2850.0000.286
GetDetailedNbPeptidesUsed000
GetIndices_BasedOnConditions0.2810.0000.282
GetIndices_MetacellFiltering0.2980.0080.307
GetIndices_WholeLine0.2830.0000.284
GetIndices_WholeMatrix0.2810.0040.286
GetKeyId0.2530.0040.258
GetMatAdj0.3290.0000.329
GetMetacell000
GetMetacellTags0.2640.0150.279
GetNbPeptidesUsed0.2840.0080.292
GetNbTags000
GetSoftAvailables0.0000.0000.001
GetTypeofData0.2500.0080.258
Get_AllComparisons0.2700.0040.278
GlobalQuantileAlignment0.2830.0000.289
GraphPepProt0.2860.0040.290
LH0000
LH0.lm0.0000.0000.001
LH1000
LH1.lm000
LOESS1.6520.0081.663
MeanCentering0.3070.0040.310
MetaCellFiltering0.4850.0040.490
MetacellFilteringScope000
Metacell_DIA_NN0.5230.0040.528
Metacell_generic0.4450.0000.446
Metacell_maxquant0.4780.0000.479
Metacell_proline0.4330.0040.438
NumericalFiltering0.3100.0120.323
NumericalgetIndicesOfLinesToRemove0.2690.0040.273
OWAnova0.0080.0000.007
QuantileCentering0.2570.0000.257
SetCC1.9300.0802.015
SetMatAdj0.3220.0000.322
Set_POV_MEC_tags0.2790.0000.280
StringBasedFiltering0.3120.0120.324
StringBasedFiltering20.3080.0000.308
SumByColumns1.5270.0081.539
SymFilteringOperators000
UpdateMetacellAfterImputation0.2950.0000.298
aggregateIter0.4900.0040.495
aggregateIterParallel000
aggregateMean0.3860.0040.391
aggregateSum0.4010.0000.402
aggregateTopn0.3540.0040.359
applyAnovasOnProteins0.0850.0000.086
averageIntensities0.4290.0590.533
barplotEnrichGO_HC8.4260.9799.804
barplotGroupGO_HC4.9390.2255.182
boxPlotD_HC0.3020.0310.337
buildGraph1.4330.0521.490
check.conditions0.2450.0040.249
check.design0.2520.0000.253
checkClusterability3.3680.5373.949
classic1wayAnova000
compareNormalizationD_HC0.1280.0160.144
compute.selection.table0.7880.0640.868
compute_t_tests1.4300.0831.534
corrMatrixD_HC0.4590.0200.480
createMSnset1.8580.0921.958
createMSnset21.7690.0281.805
dapar_hc_ExportMenu0.1580.0240.185
dapar_hc_chart0.0660.0080.076
deleteLinesFromIndices0.2990.0040.305
densityPlotD_HC3.1350.7354.014
diffAnaComputeAdjustedPValues0.1390.0240.166
diffAnaComputeFDR000
diffAnaGetSignificant0.2620.0350.306
diffAnaSave0.2180.0480.274
diffAnaVolcanoplot0.1340.0230.160
diffAnaVolcanoplot_rCharts0.3820.0670.461
display.CC.visNet1.5410.0761.646
enrich_GO4.8500.4225.321
finalizeAggregation000
findMECBlock0.2910.0160.307
formatHSDResults000
formatLimmaResult0.1400.0110.154
formatPHResults000
formatPHTResults000
fudge2LRT000
get.pep.prot.cc1.3680.0211.393
getDesignLevel0.2400.0040.244
getIndicesConditions0.2420.0040.247
getIndicesOfLinesToRemove0.2610.0070.269
getListNbValuesInLines0.2440.0000.244
getNumberOf0.2670.0000.268
getNumberOfEmptyLines0.2850.0000.286
getPourcentageOfMV0.2680.0040.273
getProcessingInfo0.240.000.24
getProteinsStats0.2750.0040.281
getQuantile4Imp0.0540.0030.058
getTextForAggregation0.0000.0000.001
getTextForAnaDiff0.0010.0000.000
getTextForFiltering000
getTextForGOAnalysis000
getTextForHypothesisTest0.0000.0000.001
getTextForNewDataset0.0030.0000.002
getTextForNormalization000
getTextForpeptideImputation000
getTextForproteinImputation0.0000.0000.001
globalAdjPval0.4760.0240.506
group_GO4.7640.1554.961
hc_logFC_DensityPlot0.5900.1070.699
hc_mvTypePlot20.8930.1311.049
heatmapD0.5660.0160.589
heatmapForMissingValues0.1680.0040.172
histPValue_HC0.2130.0160.230
impute.pa20.3290.0000.331
inner.aggregate.iter0.3290.0070.342
inner.aggregate.topn0.3690.0080.378
inner.mean0.2960.0040.299
inner.sum0.2940.0040.298
is.subset0.0010.0000.000
limmaCompleteTest1.7130.0321.748
listSheets000
make.contrast0.2790.0000.279
make.design.10.2770.0000.278
make.design.20.4390.0000.441
make.design.30.2720.0040.276
make.design0.2720.0000.271
match.metacell0.3020.0000.302
metacell.def0.0060.0000.006
metacellHisto_HC0.3340.0160.352
metacellPerLinesHistoPerCondition_HC0.4570.0200.480
metacellPerLinesHisto_HC0.5920.0510.647
metacombine0.0790.0000.082
mvImage2.6750.0802.769
my_hc_ExportMenu0.1710.0230.200
my_hc_chart0.1730.0160.191
nonzero0.0230.0000.023
normalizeMethods.dapar000
pepa.test0.3020.0000.302
pkgs.require000
plotJitter1.4370.0761.516
plotJitter_rCharts1.3000.0121.315
plotPCA_Eigen0.3480.0000.349
plotPCA_Eigen_hc0.2460.0040.251
plotPCA_Ind0.2500.0080.264
plotPCA_Var0.2460.0000.247
postHocTest000
proportionConRev_HC0.0570.0080.065
rbindMSnset0.3510.0200.372
reIntroduceMEC0.3080.0160.329
readExcel000
removeLines0.3020.0040.309
samLRT000
saveParameters0.2480.0040.253
scatterplotEnrichGO_HC4.7650.1274.907
search.metacell.tags0.0080.0010.008
separateAdjPval0.1580.0120.170
splitAdjacencyMat0.2990.0000.299
test.design0.2740.0000.274
testAnovaModels0.0930.0030.099
thresholdpval4fdr000
translatedRandomBeta0.0030.0000.003
univ_AnnotDbPkg0.1860.0110.199
violinPlotD0.4040.0090.426
visualizeClusters1.5000.0811.611
vsn0.5590.0040.566
wrapper.CVDistD_HC1.9640.6122.686
wrapper.compareNormalizationD_HC51.06611.57964.298
wrapper.corrMatrixD_HC0.5360.0240.562
wrapper.dapar.impute.mi20.330 0.49120.969
wrapper.heatmapD0.4470.0120.461
wrapper.impute.KNN0.3330.0010.335
wrapper.impute.detQuant0.3290.0070.339
wrapper.impute.fixedValue0.3380.0030.343
wrapper.impute.mle0.2870.0040.293
wrapper.impute.pa0.1060.0050.112
wrapper.impute.pa20.2880.0120.301
wrapper.impute.slsa0.4410.0240.466
wrapper.mvImage0.1300.0080.139
wrapper.normalizeD0.260.000.26
wrapper.pca0.1310.0040.134
wrapperCalibrationPlot0.1670.0160.184
wrapperClassic1wayAnova000
wrapperRunClustering2.4040.2152.636
write.excel0.6710.0480.728
writeMSnsetToCSV0.2770.0040.286
writeMSnsetToExcel0.9160.0710.990