Back to Multiple platform build/check report for BioC 3.20: simplified long |
|
This page was generated on 2025-04-02 19:28 -0400 (Wed, 02 Apr 2025).
Hostname | OS | Arch (*) | R version | Installed pkgs |
---|---|---|---|---|
nebbiolo2 | Linux (Ubuntu 24.04.1 LTS) | x86_64 | 4.4.3 (2025-02-28) -- "Trophy Case" | 4764 |
palomino8 | Windows Server 2022 Datacenter | x64 | 4.4.3 (2025-02-28 ucrt) -- "Trophy Case" | 4495 |
merida1 | macOS 12.7.5 Monterey | x86_64 | 4.4.3 (2025-02-28) -- "Trophy Case" | 4522 |
kjohnson1 | macOS 13.6.6 Ventura | arm64 | 4.4.3 (2025-02-28) -- "Trophy Case" | 4449 |
taishan | Linux (openEuler 24.03 LTS) | aarch64 | 4.4.3 (2025-02-28) -- "Trophy Case" | 4426 |
Click on any hostname to see more info about the system (e.g. compilers) (*) as reported by 'uname -p', except on Windows and Mac OS X |
Package 504/2289 | Hostname | OS / Arch | INSTALL | BUILD | CHECK | BUILD BIN | ||||||||
DAPAR 1.38.0 (landing page) Samuel Wieczorek
| nebbiolo2 | Linux (Ubuntu 24.04.1 LTS) / x86_64 | OK | OK | OK | ![]() | ||||||||
palomino8 | Windows Server 2022 Datacenter / x64 | OK | OK | OK | OK | ![]() | ||||||||
merida1 | macOS 12.7.5 Monterey / x86_64 | OK | OK | OK | OK | ![]() | ||||||||
kjohnson1 | macOS 13.6.6 Ventura / arm64 | OK | OK | OK | OK | ![]() | ||||||||
taishan | Linux (openEuler 24.03 LTS) / aarch64 | OK | OK | OK | ||||||||||
To the developers/maintainers of the DAPAR package: - Allow up to 24 hours (and sometimes 48 hours) for your latest push to git@git.bioconductor.org:packages/DAPAR.git to reflect on this report. See Troubleshooting Build Report for more information. - Use the following Renviron settings to reproduce errors and warnings. - If 'R CMD check' started to fail recently on the Linux builder(s) over a missing dependency, add the missing dependency to 'Suggests:' in your DESCRIPTION file. See Renviron.bioc for more information. |
Package: DAPAR |
Version: 1.38.0 |
Command: /home/biocbuild/bbs-3.20-bioc/R/bin/R CMD check --install=check:DAPAR.install-out.txt --library=/home/biocbuild/bbs-3.20-bioc/R/site-library --timings DAPAR_1.38.0.tar.gz |
StartedAt: 2025-03-31 21:20:41 -0400 (Mon, 31 Mar 2025) |
EndedAt: 2025-03-31 21:28:47 -0400 (Mon, 31 Mar 2025) |
EllapsedTime: 486.5 seconds |
RetCode: 0 |
Status: OK |
CheckDir: DAPAR.Rcheck |
Warnings: 0 |
############################################################################## ############################################################################## ### ### Running command: ### ### /home/biocbuild/bbs-3.20-bioc/R/bin/R CMD check --install=check:DAPAR.install-out.txt --library=/home/biocbuild/bbs-3.20-bioc/R/site-library --timings DAPAR_1.38.0.tar.gz ### ############################################################################## ############################################################################## * using log directory ‘/home/biocbuild/bbs-3.20-bioc/meat/DAPAR.Rcheck’ * using R version 4.4.3 (2025-02-28) * using platform: x86_64-pc-linux-gnu * R was compiled by gcc (Ubuntu 13.3.0-6ubuntu2~24.04) 13.3.0 GNU Fortran (Ubuntu 13.3.0-6ubuntu2~24.04) 13.3.0 * running under: Ubuntu 24.04.2 LTS * using session charset: UTF-8 * checking for file ‘DAPAR/DESCRIPTION’ ... OK * checking extension type ... Package * this is package ‘DAPAR’ version ‘1.38.0’ * package encoding: UTF-8 * checking package namespace information ... OK * checking package dependencies ... NOTE Vignette dependency required without any vignettes:: ‘knitr’ * checking if this is a source package ... OK * checking if there is a namespace ... OK * checking for hidden files and directories ... OK * checking for portable file names ... OK * checking for sufficient/correct file permissions ... OK * checking whether package ‘DAPAR’ can be installed ... OK * checking installed package size ... OK * checking package directory ... OK * checking DESCRIPTION meta-information ... OK * checking top-level files ... OK * checking for left-over files ... OK * checking index information ... OK * checking package subdirectories ... OK * checking code files for non-ASCII characters ... OK * checking R files for syntax errors ... OK * checking whether the package can be loaded ... OK * checking whether the package can be loaded with stated dependencies ... OK * checking whether the package can be unloaded cleanly ... OK * checking whether the namespace can be loaded with stated dependencies ... OK * checking whether the namespace can be unloaded cleanly ... OK * checking loading without being on the library search path ... OK * checking whether startup messages can be suppressed ... OK * checking dependencies in R code ... OK * checking S3 generic/method consistency ... OK * checking replacement functions ... OK * checking foreign function calls ... OK * checking R code for possible problems ... NOTE Check_Dataset_Validity: no visible global function definition for ‘exprs’ OWAnova: no visible global function definition for ‘aov’ aggregateIterParallel: no visible binding for global variable ‘cond’ averageIntensities: no visible binding for global variable ‘condition’ averageIntensities: no visible binding for global variable ‘feature’ averageIntensities: no visible binding for global variable ‘intensity’ createMSnset: no visible global function definition for ‘installed.packages’ createMSnset: no visible binding for global variable ‘Prostar.loc’ createMSnset2: no visible global function definition for ‘installed.packages’ createMSnset2: no visible binding for global variable ‘Prostar.loc’ diffAnaVolcanoplot_rCharts: no visible binding for global variable ‘x’ diffAnaVolcanoplot_rCharts: no visible binding for global variable ‘y’ diffAnaVolcanoplot_rCharts: no visible binding for global variable ‘g’ display.CC.visNet: no visible binding for global variable ‘layout_nicely’ getTextForGOAnalysis: no visible binding for global variable ‘textGOParams’ getTextForGOAnalysis: no visible binding for global variable ‘input’ globalAdjPval: no visible global function definition for ‘stack’ heatmapForMissingValues: no visible binding for global variable ‘par’ limmaCompleteTest: no visible binding for global variable ‘A’ limmaCompleteTest: no visible binding for global variable ‘B’ limmaCompleteTest: no visible binding for global variable ‘P.Value’ pepa.test: no visible global function definition for ‘nodes<-’ testAnovaModels : <anonymous>: no visible global function definition for ‘TukeyHSD’ visualizeClusters: no visible binding for global variable ‘adjusted_pvalues’ visualizeClusters: no visible binding for global variable ‘Condition’ visualizeClusters: no visible binding for global variable ‘Intensity’ visualizeClusters: no visible binding for global variable ‘FDR_threshold’ visualizeClusters: no visible binding for global variable ‘feature’ wrapperClassic1wayAnova: no visible binding for global variable ‘Pr(>F)1’ wrapperRunClustering: no visible global function definition for ‘str_c’ Undefined global functions or variables: A B Condition FDR_threshold Intensity P.Value Pr(>F)1 Prostar.loc TukeyHSD adjusted_pvalues aov cond condition exprs feature g input installed.packages intensity layout_nicely nodes<- par stack str_c textGOParams x y Consider adding importFrom("graphics", "par") importFrom("stats", "TukeyHSD", "aov") importFrom("utils", "installed.packages", "stack") to your NAMESPACE file. * checking Rd files ... OK * checking Rd metadata ... OK * checking Rd cross-references ... OK * checking for missing documentation entries ... OK * checking for code/documentation mismatches ... OK * checking Rd \usage sections ... OK * checking Rd contents ... OK * checking for unstated dependencies in examples ... OK * checking examples ... OK Examples with CPU (user + system) or elapsed time > 5s user system elapsed wrapper.compareNormalizationD_HC 37.344 11.714 49.466 wrapper.dapar.impute.mi 15.340 0.401 15.752 barplotEnrichGO_HC 7.603 1.092 8.766 * checking for unstated dependencies in ‘tests’ ... OK * checking tests ... Running ‘testthat.R’ OK * checking PDF version of manual ... OK * DONE Status: 2 NOTEs See ‘/home/biocbuild/bbs-3.20-bioc/meat/DAPAR.Rcheck/00check.log’ for details.
DAPAR.Rcheck/00install.out
############################################################################## ############################################################################## ### ### Running command: ### ### /home/biocbuild/bbs-3.20-bioc/R/bin/R CMD INSTALL DAPAR ### ############################################################################## ############################################################################## * installing to library ‘/home/biocbuild/bbs-3.20-bioc/R/site-library’ * installing *source* package ‘DAPAR’ ... ** using staged installation ** R ** inst ** byte-compile and prepare package for lazy loading ** help *** installing help indices ** building package indices ** testing if installed package can be loaded from temporary location ** testing if installed package can be loaded from final location ** testing if installed package keeps a record of temporary installation path * DONE (DAPAR)
DAPAR.Rcheck/tests/testthat.Rout
R version 4.4.3 (2025-02-28) -- "Trophy Case" Copyright (C) 2025 The R Foundation for Statistical Computing Platform: x86_64-pc-linux-gnu R is free software and comes with ABSOLUTELY NO WARRANTY. You are welcome to redistribute it under certain conditions. Type 'license()' or 'licence()' for distribution details. R is a collaborative project with many contributors. Type 'contributors()' for more information and 'citation()' on how to cite R or R packages in publications. Type 'demo()' for some demos, 'help()' for on-line help, or 'help.start()' for an HTML browser interface to help. Type 'q()' to quit R. > library(testthat) > library(DAPAR) This is the 'DAPAR' version 1.38.0. To get started, visit http://www.prostar-proteomics.org/ > > test_check("DAPAR") Iterations: 1 / 1 - Imputation MNAR OK - Imputation MCAR in progress - 3 % - 6 % - 9 % - 12 % - 15 % - 18 % - 21 % - 24 % - 27 % - 30 % - 33 % - 36 % - 39 % - 42 % - 45 % - 48 % - 51 % - 54 % - 57 % - 60 % - 63 % - 66 % - 69 % - 72 % - 75 % - 78 % - 81 % - 84 % - 87 % - 90 % - 93 % - 96 % - 99 % - Iterations: 1 / 1 - Imputation MNAR OK - Imputation MCAR in progress - 3 % - 6 % - 9 % - 12 % - 15 % - 18 % - 21 % - 24 % - 27 % - 30 % - 33 % - 36 % - 39 % - 42 % - 45 % - 48 % - 51 % - 54 % - 57 % - 60 % - 63 % - 66 % - 69 % - 72 % - 75 % - 78 % - 81 % - 84 % - 87 % - 90 % - 93 % - 96 % - 99 % - Imputation in condition 1 ... In progress: 10 % - 20 % - 30 % - 40 % - 50 % - 60 % - 70 % - 80 % - 90 % - 100 % - Imputation in condition 2 ... In progress: 10 % - 20 % - 30 % - 40 % - 50 % - 60 % - 70 % - 80 % - 90 % - 100 % - [ FAIL 0 | WARN 17 | SKIP 0 | PASS 66 ] [ FAIL 0 | WARN 17 | SKIP 0 | PASS 66 ] > > proc.time() user system elapsed 30.574 1.355 31.995
DAPAR.Rcheck/DAPAR-Ex.timings
name | user | system | elapsed | |
AggregateMetacell | 0.536 | 0.023 | 0.559 | |
BuildAdjacencyMatrix | 0.464 | 0.018 | 0.483 | |
BuildColumnToProteinDataset | 0.516 | 0.011 | 0.528 | |
BuildMetaCell | 0.501 | 0.017 | 0.520 | |
CVDistD_HC | 2.204 | 0.090 | 2.333 | |
Children | 0.005 | 0.000 | 0.004 | |
CountPep | 1.315 | 0.116 | 1.431 | |
ExtendPalette | 0.024 | 0.000 | 0.024 | |
GOAnalysisSave | 0 | 0 | 0 | |
GetCC | 2.624 | 0.084 | 2.709 | |
GetColorsForConditions | 0.443 | 0.007 | 0.450 | |
GetDetailedNbPeptides | 0.459 | 0.007 | 0.466 | |
GetDetailedNbPeptidesUsed | 0 | 0 | 0 | |
GetIndices_BasedOnConditions | 0.453 | 0.012 | 0.466 | |
GetIndices_MetacellFiltering | 0.463 | 0.008 | 0.472 | |
GetIndices_WholeLine | 0.449 | 0.014 | 0.464 | |
GetIndices_WholeMatrix | 0.465 | 0.019 | 0.483 | |
GetKeyId | 0.433 | 0.016 | 0.448 | |
GetMatAdj | 0.475 | 0.016 | 0.491 | |
GetMetacell | 0 | 0 | 0 | |
GetMetacellTags | 0.447 | 0.015 | 0.462 | |
GetNbPeptidesUsed | 0.443 | 0.021 | 0.465 | |
GetNbTags | 0 | 0 | 0 | |
GetSoftAvailables | 0 | 0 | 0 | |
GetTypeofData | 0.429 | 0.020 | 0.449 | |
Get_AllComparisons | 0.262 | 0.009 | 0.271 | |
GlobalQuantileAlignment | 0.457 | 0.029 | 0.486 | |
GraphPepProt | 0.463 | 0.015 | 0.478 | |
LH0 | 0 | 0 | 0 | |
LH0.lm | 0 | 0 | 0 | |
LH1 | 0 | 0 | 0 | |
LH1.lm | 0 | 0 | 0 | |
LOESS | 1.163 | 0.014 | 1.177 | |
MeanCentering | 0.467 | 0.025 | 0.491 | |
MetaCellFiltering | 0.591 | 0.014 | 0.606 | |
MetacellFilteringScope | 0.000 | 0.000 | 0.001 | |
Metacell_DIA_NN | 0.485 | 0.000 | 0.485 | |
Metacell_generic | 0.375 | 0.001 | 0.376 | |
Metacell_maxquant | 0.413 | 0.002 | 0.415 | |
Metacell_proline | 0.361 | 0.002 | 0.363 | |
NumericalFiltering | 0.484 | 0.005 | 0.490 | |
NumericalgetIndicesOfLinesToRemove | 0.444 | 0.010 | 0.454 | |
OWAnova | 0.006 | 0.000 | 0.006 | |
QuantileCentering | 0.433 | 0.010 | 0.443 | |
SetCC | 2.412 | 0.073 | 2.485 | |
SetMatAdj | 0.488 | 0.007 | 0.495 | |
Set_POV_MEC_tags | 0.452 | 0.008 | 0.461 | |
StringBasedFiltering | 0.469 | 0.012 | 0.481 | |
StringBasedFiltering2 | 0.468 | 0.006 | 0.474 | |
SumByColumns | 1.246 | 0.006 | 1.253 | |
SymFilteringOperators | 0 | 0 | 0 | |
UpdateMetacellAfterImputation | 0.460 | 0.004 | 0.464 | |
aggregateIter | 0.602 | 0.005 | 0.608 | |
aggregateIterParallel | 0 | 0 | 0 | |
aggregateMean | 0.511 | 0.013 | 0.524 | |
aggregateSum | 0.53 | 0.01 | 0.54 | |
aggregateTopn | 0.509 | 0.011 | 0.520 | |
applyAnovasOnProteins | 0.135 | 0.000 | 0.136 | |
averageIntensities | 0.482 | 0.036 | 0.521 | |
barplotEnrichGO_HC | 7.603 | 1.092 | 8.766 | |
barplotGroupGO_HC | 4.413 | 0.432 | 4.854 | |
boxPlotD_HC | 0.306 | 0.034 | 0.339 | |
buildGraph | 1.836 | 0.247 | 2.084 | |
check.conditions | 0.429 | 0.018 | 0.447 | |
check.design | 0.426 | 0.011 | 0.437 | |
checkClusterability | 2.720 | 1.016 | 3.775 | |
classic1wayAnova | 0 | 0 | 0 | |
compareNormalizationD_HC | 0.158 | 0.022 | 0.179 | |
compute.selection.table | 0.643 | 0.067 | 0.711 | |
compute_t_tests | 0.997 | 0.120 | 1.121 | |
corrMatrixD_HC | 0.567 | 0.053 | 0.621 | |
createMSnset | 1.448 | 0.114 | 1.563 | |
createMSnset2 | 1.456 | 0.059 | 1.516 | |
dapar_hc_ExportMenu | 0.104 | 0.026 | 0.132 | |
dapar_hc_chart | 0.045 | 0.013 | 0.058 | |
deleteLinesFromIndices | 0.470 | 0.011 | 0.482 | |
densityPlotD_HC | 2.389 | 0.723 | 3.134 | |
diffAnaComputeAdjustedPValues | 0.179 | 0.030 | 0.210 | |
diffAnaComputeFDR | 0 | 0 | 0 | |
diffAnaGetSignificant | 0.250 | 0.040 | 0.291 | |
diffAnaSave | 0.26 | 0.04 | 0.30 | |
diffAnaVolcanoplot | 0.203 | 0.014 | 0.218 | |
diffAnaVolcanoplot_rCharts | 0.350 | 0.067 | 0.419 | |
display.CC.visNet | 1.891 | 0.256 | 2.151 | |
enrich_GO | 4.014 | 0.250 | 4.272 | |
finalizeAggregation | 0 | 0 | 0 | |
findMECBlock | 0.469 | 0.031 | 0.500 | |
formatHSDResults | 0 | 0 | 0 | |
formatLimmaResult | 0.158 | 0.026 | 0.184 | |
formatPHResults | 0 | 0 | 0 | |
formatPHTResults | 0 | 0 | 0 | |
fudge2LRT | 0 | 0 | 0 | |
get.pep.prot.cc | 1.782 | 0.206 | 1.989 | |
getDesignLevel | 0.427 | 0.008 | 0.435 | |
getIndicesConditions | 0.422 | 0.012 | 0.433 | |
getIndicesOfLinesToRemove | 0.440 | 0.016 | 0.456 | |
getListNbValuesInLines | 0.422 | 0.012 | 0.434 | |
getNumberOf | 0.434 | 0.018 | 0.453 | |
getNumberOfEmptyLines | 0.447 | 0.009 | 0.456 | |
getPourcentageOfMV | 0.440 | 0.015 | 0.455 | |
getProcessingInfo | 0.418 | 0.011 | 0.430 | |
getProteinsStats | 0.453 | 0.009 | 0.463 | |
getQuantile4Imp | 0.116 | 0.003 | 0.118 | |
getTextForAggregation | 0 | 0 | 0 | |
getTextForAnaDiff | 0.000 | 0.000 | 0.001 | |
getTextForFiltering | 0.001 | 0.000 | 0.000 | |
getTextForGOAnalysis | 0 | 0 | 0 | |
getTextForHypothesisTest | 0.001 | 0.000 | 0.000 | |
getTextForNewDataset | 0.001 | 0.001 | 0.001 | |
getTextForNormalization | 0 | 0 | 0 | |
getTextForpeptideImputation | 0.001 | 0.000 | 0.000 | |
getTextForproteinImputation | 0 | 0 | 0 | |
globalAdjPval | 0.394 | 0.012 | 0.408 | |
group_GO | 4.195 | 0.202 | 4.403 | |
hc_logFC_DensityPlot | 0.573 | 0.147 | 0.722 | |
hc_mvTypePlot2 | 0.905 | 0.177 | 1.085 | |
heatmapD | 0.719 | 0.024 | 0.743 | |
heatmapForMissingValues | 0.196 | 0.018 | 0.215 | |
histPValue_HC | 0.227 | 0.046 | 0.274 | |
impute.pa2 | 0.503 | 0.023 | 0.525 | |
inner.aggregate.iter | 0.510 | 0.014 | 0.524 | |
inner.aggregate.topn | 0.526 | 0.026 | 0.552 | |
inner.mean | 0.490 | 0.021 | 0.511 | |
inner.sum | 0.475 | 0.014 | 0.489 | |
is.subset | 0.000 | 0.000 | 0.001 | |
limmaCompleteTest | 1.367 | 0.086 | 1.454 | |
listSheets | 0 | 0 | 0 | |
make.contrast | 0.472 | 0.006 | 0.478 | |
make.design.1 | 0.458 | 0.005 | 0.462 | |
make.design.2 | 0.622 | 0.015 | 0.637 | |
make.design.3 | 0.459 | 0.006 | 0.466 | |
make.design | 0.456 | 0.006 | 0.463 | |
match.metacell | 0.479 | 0.014 | 0.493 | |
metacell.def | 0.002 | 0.002 | 0.005 | |
metacellHisto_HC | 0.508 | 0.027 | 0.537 | |
metacellPerLinesHistoPerCondition_HC | 0.601 | 0.029 | 0.629 | |
metacellPerLinesHisto_HC | 0.698 | 0.054 | 0.754 | |
metacombine | 0.050 | 0.002 | 0.053 | |
mvImage | 1.934 | 0.122 | 2.059 | |
my_hc_ExportMenu | 0.124 | 0.024 | 0.148 | |
my_hc_chart | 0.135 | 0.022 | 0.156 | |
nonzero | 0.020 | 0.000 | 0.021 | |
normalizeMethods.dapar | 0 | 0 | 0 | |
pepa.test | 0.484 | 0.009 | 0.493 | |
pkgs.require | 0.000 | 0.000 | 0.001 | |
plotJitter | 1.776 | 0.169 | 1.945 | |
plotJitter_rCharts | 1.588 | 0.067 | 1.655 | |
plotPCA_Eigen | 0.492 | 0.016 | 0.508 | |
plotPCA_Eigen_hc | 0.428 | 0.005 | 0.432 | |
plotPCA_Ind | 0.431 | 0.020 | 0.452 | |
plotPCA_Var | 0.423 | 0.012 | 0.436 | |
postHocTest | 0 | 0 | 0 | |
proportionConRev_HC | 0.042 | 0.010 | 0.052 | |
rbindMSnset | 0.499 | 0.032 | 0.532 | |
reIntroduceMEC | 0.476 | 0.016 | 0.492 | |
readExcel | 0 | 0 | 0 | |
removeLines | 0.459 | 0.019 | 0.478 | |
samLRT | 0 | 0 | 0 | |
saveParameters | 0.431 | 0.019 | 0.450 | |
scatterplotEnrichGO_HC | 4.068 | 0.265 | 4.340 | |
search.metacell.tags | 0.006 | 0.000 | 0.006 | |
separateAdjPval | 0.20 | 0.01 | 0.21 | |
splitAdjacencyMat | 0.481 | 0.009 | 0.490 | |
test.design | 0.458 | 0.012 | 0.471 | |
testAnovaModels | 0.146 | 0.008 | 0.154 | |
thresholdpval4fdr | 0 | 0 | 0 | |
translatedRandomBeta | 0.001 | 0.001 | 0.002 | |
univ_AnnotDbPkg | 0.128 | 0.015 | 0.143 | |
violinPlotD | 0.411 | 0.013 | 0.424 | |
visualizeClusters | 1.078 | 0.098 | 1.179 | |
vsn | 0.674 | 0.019 | 0.694 | |
wrapper.CVDistD_HC | 1.582 | 0.408 | 2.000 | |
wrapper.compareNormalizationD_HC | 37.344 | 11.714 | 49.466 | |
wrapper.corrMatrixD_HC | 0.611 | 0.028 | 0.638 | |
wrapper.dapar.impute.mi | 15.340 | 0.401 | 15.752 | |
wrapper.heatmapD | 0.645 | 0.012 | 0.657 | |
wrapper.impute.KNN | 0.491 | 0.016 | 0.506 | |
wrapper.impute.detQuant | 0.492 | 0.015 | 0.507 | |
wrapper.impute.fixedValue | 0.496 | 0.021 | 0.518 | |
wrapper.impute.mle | 0.463 | 0.013 | 0.475 | |
wrapper.impute.pa | 0.152 | 0.007 | 0.161 | |
wrapper.impute.pa2 | 0.464 | 0.033 | 0.498 | |
wrapper.impute.slsa | 0.570 | 0.025 | 0.594 | |
wrapper.mvImage | 0.172 | 0.013 | 0.186 | |
wrapper.normalizeD | 0.459 | 0.006 | 0.466 | |
wrapper.pca | 0.178 | 0.017 | 0.195 | |
wrapperCalibrationPlot | 0.217 | 0.014 | 0.231 | |
wrapperClassic1wayAnova | 0 | 0 | 0 | |
wrapperRunClustering | 2.223 | 0.187 | 2.416 | |
write.excel | 0.799 | 0.062 | 0.861 | |
writeMSnsetToCSV | 0.462 | 0.017 | 0.479 | |
writeMSnsetToExcel | 0.951 | 0.098 | 1.052 | |