Back to the "Multiple platform build/check report" |
This page was generated on 2013-10-08 16:07:33 -0700 (Tue, 08 Oct 2013).
Package 37/156 | Hostname | OS / Arch | BUILD | CHECK | BUILD BIN | ||||
DLBCL 1.3.6 Marcus Dittrich
| george2 | Linux (Ubuntu 12.04.1 LTS) / x86_64 | OK | WARNINGS | |||||
moscato2 | Windows Server 2008 R2 Enterprise SP1 (64-bit) / x64 | OK | WARNINGS | OK | |||||
petty | Mac OS X Snow Leopard (10.6.8) / x86_64 | OK | WARNINGS | [ OK ] |
Package: DLBCL |
Version: 1.3.6 |
Command: rm -rf DLBCL.buildbin-libdir && mkdir DLBCL.buildbin-libdir && /Users/biocbuild/BBS/utils/build-universal.sh DLBCL_1.3.6.tar.gz /Library/Frameworks/R.framework/Versions/Current/Resources/bin/R DLBCL.buildbin-libdir |
StartedAt: 2013-10-08 14:47:11 -0700 (Tue, 08 Oct 2013) |
EndedAt: 2013-10-08 14:47:20 -0700 (Tue, 08 Oct 2013) |
EllapsedTime: 8.9 seconds |
RetCode: 0 |
Status: OK |
PackageFile: DLBCL_1.3.6.tgz |
PackageFileSize: 5.534 MiB |
>>>>>>> >>>>>>> INSTALLATION WITH 'R CMD INSTALL --preclean --no-multiarch --library=DLBCL.buildbin-libdir DLBCL_1.3.6.tar.gz' >>>>>>> * installing *source* package 'DLBCL' ... ** data ** help *** installing help indices ** building package indices ** testing if installed package can be loaded * DONE (DLBCL)