Back to the "Multiple platform build/check report" |
This page was generated on 2013-10-08 16:07:25 -0700 (Tue, 08 Oct 2013).
Package 37/156 | Hostname | OS / Arch | BUILD | CHECK | BUILD BIN | ||||
DLBCL 1.3.6 Marcus Dittrich
| george2 | Linux (Ubuntu 12.04.1 LTS) / x86_64 | OK | WARNINGS | |||||
moscato2 | Windows Server 2008 R2 Enterprise SP1 (64-bit) / x64 | OK | WARNINGS | [ OK ] | |||||
petty | Mac OS X Snow Leopard (10.6.8) / x86_64 | OK | WARNINGS | OK |
Package: DLBCL |
Version: 1.3.6 |
Command: rm -rf DLBCL.buildbin-libdir && mkdir DLBCL.buildbin-libdir && E:\biocbld\bbs-2.12-bioc\R\bin\R.exe CMD INSTALL --build --merge-multiarch --library=DLBCL.buildbin-libdir DLBCL_1.3.6.tar.gz |
StartedAt: 2013-10-08 14:22:42 -0700 (Tue, 08 Oct 2013) |
EndedAt: 2013-10-08 14:24:08 -0700 (Tue, 08 Oct 2013) |
EllapsedTime: 86.9 seconds |
RetCode: 0 |
Status: OK |
PackageFile: DLBCL_1.3.6.zip |
PackageFileSize: 5.537 MiB |
install for i386 * installing *source* package 'DLBCL' ... ** data ** help *** installing help indices ** building package indices ** testing if installed package can be loaded install for x64 * installing *source* package 'DLBCL' ... ** testing if installed package can be loaded * MD5 sums packaged installation of 'DLBCL' as DLBCL_1.3.6.zip * DONE (DLBCL)