Welcome to mirrors.dotsrc.org

All our mirrors of open source software are available via http, https, ftp and an onion service. More information about our mirrors including statistics and contact information is available on our mirror info pages.

For information about dotsrc.org and our other services please go to our website.

Index of /bioconductor/checkResults/devel/data-experiment-LATEST/

File Name  ↓ File Size  ↓ Date  ↓ 
Parent directory/--
MetaGxPancreas/-2025-04-29 19:41:55
Hiiragi2013/-2025-04-29 19:41:54
benchmarkfdrData2019/-2025-04-08 19:35:03
MetaGxOvarian/-2025-04-29 19:41:55
BioPlex/-2025-04-29 19:41:54
emtdata/-2025-04-29 19:41:54
GSE159526/-2025-04-29 19:41:54
affydata/-2025-04-29 19:41:54
WGSmapp/-2025-04-29 19:41:55
ewceData/-2025-04-29 19:41:54
adductData/-2025-04-29 19:41:54
scanMiRData/-2025-04-29 19:41:55
TCGAMethylation450k/-2025-04-29 19:41:55
RnaSeqSampleSizeData/-2025-04-29 19:41:55
fission/-2025-04-29 19:41:54
hapmap100kxba/-2025-04-29 19:41:54
GSBenchMark/-2025-04-29 19:41:54
DAPARdata/-2025-04-29 19:41:54
timecoursedata/-2025-04-29 19:41:55
spqnData/-2025-04-29 19:41:55
yeastNagalakshmi/-2025-04-29 19:41:55
antiProfilesData/-2025-04-29 19:41:54
MMDiffBamSubset/-2025-04-29 19:41:55
minfiData/-2025-04-29 19:41:55
QDNAseq.mm10/-2025-04-29 19:41:55
breakpointRdata/-2025-04-29 19:41:54
TENxBrainData/-2025-04-29 19:41:55
chipseqDBData/-2025-04-29 19:41:54
PtH2O2lipids/-2025-04-29 19:41:55
ChAMPdata/-2025-04-29 19:41:54
CopyhelpeR/-2025-04-29 19:41:54
PWMEnrich.Dmelanogaster.background/-2025-04-29 19:41:55
humanHippocampus2024/-2025-04-29 19:41:54
GenomicDistributionsData/-2025-04-29 19:41:54
beta7/-2025-04-29 19:41:54
FlowSorted.Blood.450k/-2025-04-29 19:41:54
methylclockData/-2025-04-29 19:41:55
pasilla/-2025-04-29 19:41:55
SCLCBam/-2025-04-29 19:41:55
lydata/-2025-04-29 19:41:54
scaeData/-2025-04-29 19:41:55
DExMAdata/-2025-04-29 19:41:54
bronchialIL13/-2025-04-29 19:41:54
HarmonizedTCGAData/-2025-04-29 19:41:54
mvoutData/-2025-04-29 19:41:55
seq2pathway.data/-2025-04-29 19:41:55
mtbls2/-2025-04-29 19:41:55
CluMSIDdata/-2025-04-29 19:41:54
preciseTADhub/-2025-04-29 19:41:55
maqcExpression4plex/-2025-04-29 19:41:54
FANTOM3and4CAGE/-2025-04-29 19:41:54
CLLmethylation/-2025-04-29 19:41:54
STexampleData/-2025-04-29 19:41:55
HighlyReplicatedRNASeq/-2025-04-29 19:41:54
MerfishData/-2025-04-29 19:41:54
yeastGSData/-2025-04-29 19:41:55
plotgardenerData/-2025-04-29 19:41:55
DMRcatedata/-2025-04-29 19:41:54
hgu133plus2CellScore/-2025-04-29 19:41:54
metaMSdata/-2025-04-29 19:41:55
flowPloidyData/-2025-04-29 19:41:54
prostateCancerStockholm/-2025-04-29 19:41:55
HIVcDNAvantWout03/-2025-04-29 19:41:54
curatedOvarianData/-2025-04-29 19:41:54
cnvGSAdata/-2025-04-29 19:41:54
ptairData/-2025-04-29 19:41:55
FlowSorted.DLPFC.450k/-2025-04-29 19:41:54
TabulaMurisSenisData/-2025-04-29 19:41:55
curatedTBData/-2025-04-29 19:41:54
BloodCancerMultiOmics2017/-2025-04-29 19:41:54
cMap2data/-2025-04-29 19:41:54
chipenrich.data/-2025-04-29 19:41:54
synapterdata/-2025-04-08 19:35:04
imcdatasets/-2025-04-29 19:41:54
GSE13015/-2025-04-29 19:41:54
LRcellTypeMarkers/-2025-04-29 19:41:54
hapmapsnp5/-2025-04-29 19:41:54
SBGNview.data/-2025-04-29 19:41:55
DonaPLLP2013/-2025-04-29 19:41:54
NetActivityData/-2025-04-29 19:41:55
ListerEtAlBSseq/-2025-04-29 19:41:54
QDNAseq.hg19/-2025-04-29 19:41:55
RforProteomics/-2025-04-29 19:41:55
cancerdata/-2025-04-29 19:41:54
tissueTreg/-2025-04-29 19:41:55
curatedPCaData/-2025-04-29 19:41:54
KOdata/-2025-04-29 19:41:54
SpikeInSubset/-2025-04-29 19:41:55
TargetSearchData/-2025-04-29 19:41:55
MetaScope/-2025-04-29 19:41:55
EpipwR.data/-2025-04-29 19:41:54
RnBeads.rn5/-2025-04-29 19:41:55
DLBCL/-2025-04-29 19:41:54
AssessORFData/-2025-04-29 19:41:54
EGSEAdata/-2025-04-29 19:41:54
BeadSorted.Saliva.EPIC/-2025-04-29 19:41:54
gaschYHS/-2025-04-29 19:41:54
DvDdata/-2025-04-29 19:41:54
homosapienDEE2CellScore/-2025-04-29 19:41:54
COPDSexualDimorphism.data/-2025-04-29 19:41:54
celarefData/-2025-04-29 19:41:54
mouse4302barcodevecs/-2025-04-29 19:41:55
chromstaRData/-2025-04-29 19:41:54
PCHiCdata/-2025-04-29 19:41:55
prostateCancerVarambally/-2025-04-29 19:41:55
Affyhgu133A2Expr/-2025-04-29 19:41:54
CRCL18/-2025-04-29 19:41:54
leeBamViews/-2025-04-29 19:41:54
hapmap100khind/-2025-04-29 19:41:54
ASICSdata/-2025-04-29 19:41:54
seqc/-2025-04-29 19:41:55
RNAseqData.HNRNPC.bam.chr14/-2025-04-29 19:41:55
nanotubes/-2025-04-29 19:41:55
HDCytoData/-2025-04-29 19:41:54
MEDIPSData/-2025-04-29 19:41:54
HiContactsData/-2025-04-29 19:41:54
clustifyrdatahub/-2025-04-29 19:41:54
scpdata/-2025-04-29 19:41:55
DNAZooData/-2025-04-29 19:41:54
HiCDataHumanIMR90/-2025-04-29 19:41:54
TCGAcrcmiRNA/-2025-04-29 19:41:55
hgu133plus2barcodevecs/-2025-04-29 19:41:54
shinyMethylData/-2025-04-29 19:41:55
SubcellularSpatialData/-2025-04-29 19:41:55
JASPAR2014/-2025-04-29 19:41:54
ARRmData/-2025-04-29 19:41:54
colonCA/-2025-04-29 19:41:54
TENxVisiumData/-2025-04-29 19:41:55
RnBeads.mm9/-2025-04-29 19:41:55
Affyhgu133Plus2Expr/-2025-04-29 19:41:54
hgu133abarcodevecs/-2025-04-29 19:41:54
M3DExampleData/-2025-04-29 19:41:54
ReactomeGSA.data/-2025-04-29 19:41:55
mcsurvdata/-2025-04-29 19:41:54
HSMMSingleCell/-2025-04-29 19:41:54
prostateCancerGrasso/-2025-04-29 19:41:55
spatialLIBD/-2025-04-29 19:41:55
GSE62944/-2025-04-29 19:41:54
curatedTCGAData/-2025-04-29 19:41:54
PasillaTranscriptExpr/-2025-04-29 19:41:55
ALLMLL/-2025-04-29 19:41:54
miRcompData/-2025-04-29 19:41:55
EatonEtAlChIPseq/-2025-04-29 19:41:54
CytoMethIC/-2025-04-29 19:41:54
FlowSorted.Blood.EPIC/-2025-04-29 19:41:54
TumourMethData/-2025-04-29 19:41:55
microbiomeDataSets/-2025-04-29 19:41:55
HelloRangesData/-2025-04-29 19:41:54
PWMEnrich.Hsapiens.background/-2025-04-29 19:41:55
curatedBreastData/-2025-04-29 19:41:54
PREDAsampledata/-2025-04-29 19:41:55
HumanAffyData/-2025-04-29 19:41:54
bsseqData/-2025-04-29 19:41:54
qPLEXdata/-2025-04-29 19:41:55
hapmap500knsp/-2025-04-29 19:41:54
MouseAgingData/-2025-04-29 19:41:55
NanoporeRNASeq/-2025-04-29 19:41:55
mosaicsExample/-2025-04-29 19:41:55
marinerData/-2025-04-29 19:41:54
JohnsonKinaseData/-2025-04-29 19:41:54
TimerQuant/-2025-04-29 19:41:55
RTCGA.methylation/-2025-04-29 19:41:55
tinesath1probe/-2025-04-29 19:41:55
davidTiling/-2025-04-29 19:41:54
MethylAidData/-2025-04-29 19:41:55
hapmap500ksty/-2025-04-29 19:41:54
gageData/-2025-04-29 19:41:54
RcisTarget.hg19.motifDBs.cisbpOnly.500bp/-2025-04-29 19:41:55
gDNAinRNAseqData/-2025-04-29 19:41:54
leukemiasEset/-2025-04-29 19:41:54
FlowSorted.CordBloodNorway.450k/-2025-04-29 19:41:54
RTCGA.clinical/-2025-04-29 19:41:55
frmaExampleData/-2025-04-29 19:41:54
humanStemCell/-2025-04-29 19:41:54
TENET.ExperimentHub/-2025-04-29 19:41:55
RTCGA.PANCAN12/-2025-04-29 19:41:55
mCSEAdata/-2025-04-29 19:41:54
crisprScoreData/-2025-04-29 19:41:54
tofsimsData/-2025-04-29 19:41:55
affycompData/-2025-04-29 19:41:54
tuberculosis/-2025-04-29 19:41:55
ChimpHumanBrainData/-2025-04-29 19:41:54
ecoliLeucine/-2025-04-29 19:41:54
HD2013SGI/-2025-04-29 19:41:54
flowWorkspaceData/-2025-04-29 19:41:54
FlowSorted.CordBloodCombined.450k/-2025-04-29 19:41:54
hapmapsnp6/-2025-04-29 19:41:54
NGScopyData/-2025-04-29 19:41:55
prostateCancerCamcap/-2025-04-29 19:41:55
SNAGEEdata/-2025-04-29 19:41:55
biotmleData/-2025-04-29 19:41:54
lumiBarnes/-2025-04-29 19:41:54
SomaticCancerAlterations/-2025-04-29 19:41:55
Illumina450ProbeVariants.db/-2025-04-29 19:41:54
tximportData/-2025-04-29 19:41:55
SFEData/-2025-04-29 19:41:55
GeuvadisTranscriptExpr/-2025-04-29 19:41:54
hgu2beta7/-2025-04-29 19:41:54
celldex/-2025-04-29 19:41:54
curatedBladderData/-2025-04-29 19:41:54
stemHypoxia/-2025-04-29 19:41:55
curatedAdipoArray/-2025-04-29 19:41:54
prebsdata/-2025-04-29 19:41:55
tartare/-2025-04-29 19:41:55
fourDNData/-2025-04-29 19:41:54
breastCancerUNT/-2025-04-29 19:41:54
TCGAWorkflowData/-2025-04-29 19:41:55
Fletcher2013b/-2025-04-29 19:41:54
PWMEnrich.Mmusculus.background/-2025-04-29 19:41:55
QUBICdata/-2025-04-29 19:41:55
curatedCRCData/-2025-04-29 19:41:54
GWASdata/-2025-04-29 19:41:54
spatialDmelxsim/-2025-04-29 19:41:55
minionSummaryData/-2025-04-29 19:41:55
AneuFinderData/-2025-04-29 19:41:54
FIs/-2025-04-29 19:41:54
BeadArrayUseCases/-2025-04-29 19:41:54
yeastExpData/-2025-04-29 19:41:55
yeastRNASeq/-2025-04-29 19:41:55
LegATo/-2025-04-29 19:41:54
airway/-2025-04-29 19:41:54
MOFAdata/-2025-04-29 19:41:55
healthyFlowData/-2025-04-29 19:41:54
NCIgraphData/-2025-04-29 19:41:55
pRolocdata/-2025-04-29 19:41:55
dressCheck/-2025-04-29 19:41:54
MicrobiomeBenchmarkData/-2025-04-29 19:41:55
gDRtestData/-2025-04-29 19:41:54
sesameData/-2025-04-29 19:41:55
GSE103322/-2025-04-29 19:41:54
CopyNeutralIMA/-2025-04-29 19:41:54
RGMQLlib/-2025-04-29 19:41:55
curatedAdipoRNA/-2025-04-29 19:41:54
Neve2006/-2025-04-29 19:41:55
RTCGA.mutations/-2025-04-29 19:41:55
brgedata/-2025-04-29 19:41:54
HEEBOdata/-2025-04-29 19:41:54
MetaGxBreast/-2025-04-29 19:41:54
xcoredata/-2025-04-29 19:41:55
MethylSeqData/-2025-04-29 19:41:55
HCAData/-2025-04-29 19:41:54
CLL/-2025-04-29 19:41:54
RTCGA.miRNASeq/-2025-04-29 19:41:55
LungCancerLines/-2025-04-29 19:41:54
pasillaBamSubset/-2025-04-29 19:41:55
SpatialDatasets/-2025-04-29 19:41:55
RTCGA.RPPA/-2025-04-29 19:41:55
zebrafishRNASeq/-2025-04-29 19:41:55
msdata/-2025-04-29 19:41:55
ELMER.data/-2025-04-29 19:41:54
minfiDataEPIC/-2025-04-29 19:41:55
MAQCsubset/-2025-04-29 19:41:54
CoSIAdata/-2025-04-29 19:41:54
RTCGA.rnaseq/-2025-04-29 19:41:55
msd16s/-2025-04-29 19:41:55
scATAC.Explorer/-2025-04-29 19:41:55
oct4/-2025-04-29 19:41:55
WES.1KG.WUGSC/-2025-04-29 19:41:55
multiWGCNAdata/-2025-04-29 19:41:55
DuoClustering2018/-2025-04-29 19:41:54
TCGAbiolinksGUI.data/-2025-04-29 19:41:55
pepDat/-2025-04-29 19:41:55
MACSdata/-2025-04-29 19:41:54
dyebiasexamples/-2025-04-29 19:41:54
DeSousa2013/-2025-04-29 19:41:54
seventyGeneData/-2025-04-29 19:41:55
topdownrdata/-2025-04-29 19:41:55
MSMB/-2025-04-29 19:41:55
msqc1/-2025-04-29 19:41:55
scMultiome/-2025-04-29 19:41:55
breastCancerUPP/-2025-04-29 19:41:54
CCl4/-2025-04-29 19:41:54
pd.atdschip.tiling/-2025-04-29 19:41:55
Affymoe4302Expr/-2025-04-29 19:41:54
diffloopdata/-2025-04-29 19:41:54
estrogen/-2025-04-29 19:41:54
ProteinGymR/-2025-04-29 19:41:55
raerdata/-2025-04-29 19:41:55
FlowSorted.CordBlood.450k/-2025-04-29 19:41:54
SomatiCAData/-2025-04-29 19:41:55
breastCancerNKI/-2025-04-29 19:41:54
bodymapRat/-2025-04-29 19:41:54
SNAData/-2025-04-29 19:41:55
biscuiteerData/-2025-04-29 19:41:54
SNPhoodData/-2025-04-29 19:41:55
Single.mTEC.Transcriptomes/-2025-04-29 19:41:55
ConnectivityMap/-2025-04-29 19:41:54
sampleClassifierData/-2025-04-29 19:41:55
muSpaData/-2025-04-29 19:41:55
AffymetrixDataTestFiles/-2025-04-29 19:41:54
genomationData/-2025-04-29 19:41:54
macrophage/-2025-04-29 19:41:54
orthosData/-2025-04-29 19:41:55
MUGAExampleData/-2025-04-29 19:41:55
simpIntLists/-2025-04-29 19:41:55
CardinalWorkflows/-2025-04-29 19:41:54
ObMiTi/-2025-04-29 19:41:55
RRBSdata/-2025-04-29 19:41:55
TargetScoreData/-2025-04-29 19:41:55
parathyroidSE/-2025-04-08 19:35:04
cfToolsData/-2025-04-29 19:41:54
scTHI.data/-2025-04-29 19:41:55
geneLenDataBase/-2025-04-29 19:41:54
etec16s/-2025-04-29 19:41:54
TMExplorer/-2025-04-29 19:41:55
TENxXeniumData/-2025-04-29 19:41:55
easierData/-2025-04-29 19:41:54
harbChIP/-2025-04-29 19:41:54
diggitdata/-2025-04-29 19:41:54
derfinderData/-2025-04-29 19:41:54
JASPAR2016/-2025-04-29 19:41:54
HCATonsilData/-2025-04-29 19:41:54
Iyer517/-2025-04-29 19:41:54
microRNAome/-2025-04-29 19:41:55
rcellminerData/-2025-04-29 19:41:55
tinesath1cdf/-2025-04-29 19:41:55
fibroEset/-2025-04-29 19:41:54
Fletcher2013a/-2025-04-29 19:41:54
VectraPolarisData/-2025-04-29 19:41:55
HiCDataLymphoblast/-2025-04-29 19:41:54
RITANdata/-2025-04-29 19:41:55
vulcandata/-2025-04-29 19:41:55
muleaData/-2025-04-29 19:41:55
LungCancerACvsSCCGEO/-2025-04-29 19:41:54
COSMIC.67/-2025-04-29 19:41:54
HMP2Data/-2025-04-29 19:41:54
RTCGA.CNV/-2025-04-29 19:41:55
ccdata/-2025-04-29 19:41:54
furrowSeg/-2025-04-29 19:41:54
grndata/-2025-04-29 19:41:54
aracne.networks/-2025-04-29 19:41:54
serumStimulation/-2025-04-29 19:41:55
TabulaMurisData/-2025-04-29 19:41:55
EpiMix.data/-2025-04-29 19:41:54
gcspikelite/-2025-04-29 19:41:54
lungExpression/-2025-04-29 19:41:54
GIGSEAdata/-2025-04-29 19:41:54
msPurityData/-2025-04-29 19:41:55
TENxBUSData/-2025-04-29 19:41:55
OMICsPCAdata/-2025-04-29 19:41:55
NestLink/-2025-04-29 19:41:55
eoPredData/-2025-04-29 19:41:54
epimutacionsData/-2025-04-29 19:41:54
ChIPexoQualExample/-2025-04-29 19:41:54
WeberDivechaLCdata/-2025-04-29 19:41:55
SimBenchData/-2025-04-29 19:41:55
muscData/-2025-04-29 19:41:55
CONFESSdata/-2025-04-29 19:41:54
SpikeIn/-2025-04-29 19:41:55
healthyControlsPresenceChecker/-2025-04-29 19:41:54
rheumaticConditionWOLLBOLD/-2025-04-29 19:41:55
kidpack/-2025-04-29 19:41:54
ITALICSData/-2025-04-29 19:41:54
RTCGA.mRNA/-2025-04-29 19:41:55
PathNetData/-2025-04-29 19:41:55
RnBeads.mm10/-2025-04-29 19:41:55
COHCAPanno/-2025-04-29 19:41:54
TBX20BamSubset/-2025-04-29 19:41:55
SingleCellMultiModal/-2025-04-29 19:41:55
Affyhgu133aExpr/-2025-04-29 19:41:54
CellMapperData/-2025-04-29 19:41:54
KEGGdzPathwaysGEO/-2025-04-29 19:41:54
ProData/-2025-04-29 19:41:55
MouseThymusAgeing/-2025-04-29 19:41:55
TENxPBMCData/-2025-04-29 19:41:55
gpaExample/-2025-04-29 19:41:54
PepsNMRData/-2025-04-29 19:41:55
bladderbatch/-2025-04-29 19:41:54
LiebermanAidenHiC2009/-2025-04-29 19:41:54
VariantToolsData/-2025-04-29 19:41:55
AshkenazimSonChr21/-2025-04-29 19:41:54
rRDPData/-2025-04-29 19:41:55
RMassBankData/-2025-04-29 19:41:55
beadarrayExampleData/-2025-04-29 19:41:54
XhybCasneuf/-2025-04-29 19:41:55
systemPipeRdata/-2025-04-29 19:41:55
NxtIRFdata/-2025-04-29 19:41:55
h5vcData/-2025-04-29 19:41:54
miRNATarget/-2025-04-29 19:41:55
KEGGandMetacoreDzPathwaysGEO/-2025-04-29 19:41:54
signatureSearchData/-2025-04-29 19:41:55
breastCancerMAINZ/-2025-04-29 19:41:54
DropletTestFiles/-2025-04-29 19:41:54
BioImageDbs/-2025-04-29 19:41:54
HMP16SData/-2025-04-29 19:41:54
ffpeExampleData/-2025-04-29 19:41:54
TCGAcrcmRNA/-2025-04-29 19:41:55
HarmanData/-2025-04-29 19:41:54
HiBED/-2025-04-29 19:41:54
IlluminaDataTestFiles/-2025-04-29 19:41:54
AmpAffyExample/-2025-04-29 19:41:54
SVM2CRMdata/-2025-04-29 19:41:55
golubEsets/-2025-04-29 19:41:54
RUVnormalizeData/-2025-04-29 19:41:55
bcellViper/-2025-04-29 19:41:54
ALL/-2025-04-29 19:41:54
optimalFlowData/-2025-04-29 19:41:55
TransOmicsData/-2025-04-29 19:41:55
mammaPrintData/-2025-04-29 19:41:54
IHWpaper/-2025-04-29 19:41:54
SingleMoleculeFootprintingData/-2025-04-29 19:41:55
dorothea/-2025-04-29 19:41:54
RnBeads.hg19/-2025-04-29 19:41:55
tweeDEseqCountData/-2025-04-29 19:41:55
FieldEffectCrc/-2025-04-29 19:41:54
RegParallel/-2025-04-29 19:41:55
PhyloProfileData/-2025-04-29 19:41:55
breastCancerVDX/-2025-04-29 19:41:54
breastCancerTRANSBIG/-2025-04-29 19:41:54
RNAmodR.Data/-2025-04-29 19:41:55
smokingMouse/-2025-04-29 19:41:55
ChIPXpressData/-2025-04-29 19:41:54
depmap/-2025-04-29 19:41:54
MEEBOdata/-2025-04-29 19:41:54
MouseGastrulationData/-2025-04-29 19:41:55
scRNAseq/-2025-04-29 19:41:55
prostateCancerTaylor/-2025-04-29 19:41:55
GSVAdata/-2025-04-29 19:41:54
faahKO/-2025-04-29 19:41:54
OnassisJavaLibs/-2025-04-29 19:41:55
octad.db/-2025-04-29 19:41:55
yeastCC/-2025-04-29 19:41:55
blimaTestingData/-2025-04-29 19:41:54
RnBeads.hg38/-2025-04-29 19:41:55
DrugVsDiseasedata/-2025-04-29 19:41:54
pumadata/-2025-04-29 19:41:55
bugphyzz/-2025-04-29 19:41:54
curatedAdipoChIP/-2025-04-29 19:41:54
nullrangesData/-2025-04-29 19:41:55
msigdb/-2025-04-29 19:41:55
curatedMetagenomicData/-2025-04-29 19:41:54
fabiaData/-2025-04-29 19:41:54
skipped-index.dcf0 B2025-04-29 19:41:53
DEVEL3b.png2.6 KiB2025-04-29 19:41:53
Renviron.bioc3.3 KiB2025-04-29 19:41:53
report.js6.0 KiB2025-04-29 19:41:53
120px-Red_Light_Icon.svg.png7.0 KiB2025-04-29 19:41:53
nebbiolo2-NodeInfo.html7.0 KiB2025-04-29 19:41:53
120px-Green_Light_Icon.svg.png7.1 KiB2025-04-29 19:41:53
120px-Blue_Light_Icon.svg.png7.1 KiB2025-04-29 19:41:53
report.css11.0 KiB2025-04-29 19:41:53
PROPAGATION_STATUS_DB.txt31.0 KiB2025-04-29 19:41:53
meat-index.dcf46.1 KiB2025-04-29 19:41:53
BUILD_STATUS_DB.txt46.9 KiB2025-04-29 19:41:53
nebbiolo2-R-instpkgs.html517.4 KiB2025-04-29 19:41:53
index.html593.9 KiB2025-04-29 19:41:55
report.tgz1.1 MiB2025-04-29 19:41:57