##############################################################################
##############################################################################
###
### Running command:
###
### /home/biocbuild/bbs-3.6-bioc/R/bin/R CMD build --keep-empty-dirs --no-resave-data AffymetrixDataTestFiles
###
##############################################################################
##############################################################################
* checking for file ‘AffymetrixDataTestFiles/DESCRIPTION’ ... OK
* preparing ‘AffymetrixDataTestFiles’:
* checking DESCRIPTION meta-information ... OK
* checking for LF line-endings in source and make files
* checking for empty or unneeded directories
* building ‘AffymetrixDataTestFiles_0.15.0.tar.gz’
Warning in utils::tar(filepath, pkgname, compression = "gzip", compression_level = 9L, :
storing paths of more than 100 bytes is not portable:
‘AffymetrixDataTestFiles/inst/annotationData/chipTypes/HuGene-1_0-st-v1/HuGene-1_0-st-v1.r4,10_probesets.pgf’
Warning in utils::tar(filepath, pkgname, compression = "gzip", compression_level = 9L, :
storing paths of more than 100 bytes is not portable:
‘AffymetrixDataTestFiles/inst/annotationData/chipTypes/Mapping10K_Xba131/3.ASCII/Mapping10K_Xba131.CDF’