pathprint 1.5.2 Sokratis Kariotis
Snapshot Date: 2017-08-15 17:18:21 -0400 (Tue, 15 Aug 2017) | URL: https://hedgehog.fhcrc.org/bioconductor/trunk/madman/Rpacks/pathprint | Last Changed Rev: 129685 / Revision: 131943 | Last Changed Date: 2017-05-18 05:27:28 -0400 (Thu, 18 May 2017) |
| malbec1 | Linux (Ubuntu 16.04.1 LTS) / x86_64 | OK | ERROR | skipped | | |
tokay1 | Windows Server 2012 R2 Standard / x64 | [ OK ] | ERROR | skipped | skipped | |
veracruz1 | OS X 10.11.6 El Capitan / x86_64 | OK | OK | OK | OK |  |
##############################################################################
##############################################################################
###
### Running command:
###
### rm -rf pathprint.buildbin-libdir && mkdir pathprint.buildbin-libdir && C:\cygwin\bin\curl.exe -O https://malbec1.bioconductor.org/BBS/3.6/bioc/src/contrib/pathprint_1.5.2.tar.gz && C:\Users\biocbuild\bbs-3.6-bioc\R\bin\R.exe CMD INSTALL --build --library=pathprint.buildbin-libdir --merge-multiarch pathprint_1.5.2.tar.gz && C:\Users\biocbuild\bbs-3.6-bioc\R\bin\R.exe CMD INSTALL pathprint_1.5.2.zip && rm pathprint_1.5.2.tar.gz pathprint_1.5.2.zip
###
##############################################################################
##############################################################################
% Total % Received % Xferd Average Speed Time Time Time Current
Dload Upload Total Spent Left Speed
0 0 0 0 0 0 0 0 --:--:-- --:--:-- --:--:-- 0
100 2992k 100 2992k 0 0 18.6M 0 --:--:-- --:--:-- --:--:-- 18.9M
install for i386
* installing *source* package 'pathprint' ...
** R
** data
** inst
** preparing package for lazy loading
** help
*** installing help indices
** building package indices
** installing vignettes
** testing if installed package can be loaded
install for x64
* installing *source* package 'pathprint' ...
** testing if installed package can be loaded
* MD5 sums
packaged installation of 'pathprint' as pathprint_1.5.2.zip
* DONE (pathprint)
* installing to library 'C:/Users/biocbuild/bbs-3.6-bioc/R/library'
package 'pathprint' successfully unpacked and MD5 sums checked