oligoClasses 1.39.1 Benilton Carvalho and Robert Scharpf
Snapshot Date: 2017-08-15 17:18:21 -0400 (Tue, 15 Aug 2017) | URL: https://hedgehog.fhcrc.org/bioconductor/trunk/madman/Rpacks/oligoClasses | Last Changed Rev: 131232 / Revision: 131943 | Last Changed Date: 2017-07-14 13:27:23 -0400 (Fri, 14 Jul 2017) |
| malbec1 | Linux (Ubuntu 16.04.1 LTS) / x86_64 | OK | OK | WARNINGS | |  |
tokay1 | Windows Server 2012 R2 Standard / x64 | OK | OK | WARNINGS | [ OK ] |  |
veracruz1 | OS X 10.11.6 El Capitan / x86_64 | OK | OK | WARNINGS | OK |  |
##############################################################################
##############################################################################
###
### Running command:
###
### cd oligoClasses.buildbin-libdir/oligoClasses && zip -r ../../oligoClasses_1.39.1.zip . & cd ../..
###
##############################################################################
##############################################################################
adding: data/ (372 bytes security) (stored 0%)
adding: data/efsExample.rda (332 bytes security) (stored 0%)
adding: data/locusLevelData.rda (332 bytes security) (deflated 0%)
adding: data/oligoSetExample.rda (332 bytes security) (deflated 0%)
adding: data/scqsExample.rda (332 bytes security) (stored 0%)
adding: data/sfsExample.rda (332 bytes security) (stored 0%)
adding: data/sqsExample.rda (332 bytes security) (stored 0%)
adding: DESCRIPTION (332 bytes security) (deflated 52%)
adding: extdata/ (372 bytes security) (stored 0%)
adding: extdata/genomeAnnotatedDataFrameExample.rds (332 bytes security) (deflated 0%)
adding: extdata/seqlengths_hg18.rda (332 bytes security) (stored 0%)
adding: extdata/seqlengths_hg19.rda (332 bytes security) (stored 0%)
adding: help/ (372 bytes security) (stored 0%)
adding: help/aliases.rds (332 bytes security) (stored 0%)
adding: help/AnIndex (332 bytes security) (deflated 85%)
adding: help/oligoClasses.rdb (332 bytes security) (deflated 2%)
adding: help/oligoClasses.rdx (332 bytes security) (deflated 1%)
adding: help/paths.rds (332 bytes security) (stored 0%)
adding: html/ (372 bytes security) (stored 0%)
adding: html/00Index.html (332 bytes security) (deflated 90%)
adding: html/R.css (332 bytes security) (deflated 75%)
adding: INDEX (332 bytes security) (deflated 68%)
adding: MD5 (332 bytes security) (deflated 45%)
adding: Meta/ (372 bytes security) (stored 0%)
adding: Meta/data.rds (332 bytes security) (stored 0%)
adding: Meta/features.rds (332 bytes security) (stored 0%)
adding: Meta/hsearch.rds (332 bytes security) (deflated 1%)
adding: Meta/links.rds (332 bytes security) (stored 0%)
adding: Meta/nsInfo.rds (332 bytes security) (stored 0%)
adding: Meta/package.rds (332 bytes security) (stored 0%)
adding: Meta/Rd.rds (332 bytes security) (stored 0%)
adding: NAMESPACE (332 bytes security) (deflated 67%)
adding: NEWS.Rd (332 bytes security) (deflated 57%)
adding: R/ (372 bytes security) (stored 0%)
adding: R/oligoClasses (332 bytes security) (deflated 41%)
adding: R/oligoClasses.rdb (332 bytes security) (deflated 25%)
adding: R/oligoClasses.rdx (332 bytes security) (deflated 5%)
adding: unitTests/ (372 bytes security) (stored 0%)
adding: unitTests/Makefile (332 bytes security) (deflated 62%)
adding: unitTests/report.html (332 bytes security) (deflated 79%)
adding: unitTests/report.txt (332 bytes security) (deflated 70%)
adding: unitTests/reportSummary.txt (332 bytes security) (deflated 42%)
adding: unitTests/test_annotation.R (332 bytes security) (deflated 61%)
adding: unitTests/test_classes.R (332 bytes security) (deflated 74%)
adding: unitTests/test_conversions.R (332 bytes security) (deflated 55%)
adding: unitTests/test_RangedDataCNV-class.R (332 bytes security) (deflated 50%)