ggbio 1.25.3 Michael Lawrence
Snapshot Date: 2017-08-15 17:18:21 -0400 (Tue, 15 Aug 2017) | URL: https://hedgehog.fhcrc.org/bioconductor/trunk/madman/Rpacks/ggbio | Last Changed Rev: 130801 / Revision: 131943 | Last Changed Date: 2017-06-30 10:03:41 -0400 (Fri, 30 Jun 2017) |
| malbec1 | Linux (Ubuntu 16.04.1 LTS) / x86_64 | OK | OK | OK | |  |
tokay1 | Windows Server 2012 R2 Standard / x64 | OK | OK | OK | OK |  |
veracruz1 | OS X 10.11.6 El Capitan / x86_64 | OK | OK | OK | [ OK ] |  |
##############################################################################
##############################################################################
###
### Running command:
###
### rm -rf ggbio.buildbin-libdir && mkdir ggbio.buildbin-libdir && /Users/biocbuild/BBS/utils/build-universal.sh ggbio_1.25.3.tar.gz /Library/Frameworks/R.framework/Versions/Current/Resources/bin/R ggbio.buildbin-libdir
###
##############################################################################
##############################################################################
>>>>>>>
>>>>>>> INSTALLATION WITH 'R CMD INSTALL --preclean --no-multiarch --library=ggbio.buildbin-libdir ggbio_1.25.3.tar.gz'
>>>>>>>
* installing *source* package ‘ggbio’ ...
** R
** inst
** preparing package for lazy loading
No methods found in "RSQLite" for requests: dbGetQuery
Creating a new generic function for 'rescale' in package 'ggbio'
Creating a new generic function for 'xlim' in package 'ggbio'
Creating a new generic function for 'geom_rect' in package 'ggbio'
Creating a new generic function for 'geom_segment' in package 'ggbio'
Creating a new generic function for 'geom_bar' in package 'ggbio'
Creating a new generic function for 'stat_identity' in package 'ggbio'
Creating a new generic function for 'stat_bin' in package 'ggbio'
** help
*** installing help indices
** building package indices
** installing vignettes
** testing if installed package can be loaded
No methods found in "RSQLite" for requests: dbGetQuery
* DONE (ggbio)