genefu 2.9.0 Benjamin Haibe-Kains , Markus Schroeder
Snapshot Date: 2017-08-15 17:18:21 -0400 (Tue, 15 Aug 2017) | URL: https://hedgehog.fhcrc.org/bioconductor/trunk/madman/Rpacks/genefu | Last Changed Rev: 129129 / Revision: 131943 | Last Changed Date: 2017-04-24 15:50:57 -0400 (Mon, 24 Apr 2017) |
| malbec1 | Linux (Ubuntu 16.04.1 LTS) / x86_64 | OK | OK | WARNINGS | |  |
tokay1 | Windows Server 2012 R2 Standard / x64 | OK | OK | WARNINGS | [ OK ] |  |
veracruz1 | OS X 10.11.6 El Capitan / x86_64 | OK | OK | WARNINGS | OK |  |
##############################################################################
##############################################################################
###
### Running command:
###
### cd genefu.buildbin-libdir/genefu && zip -r ../../genefu_2.9.0.zip . & cd ../..
###
##############################################################################
##############################################################################
adding: data/ (372 bytes security) (stored 0%)
adding: data/datalist (332 bytes security) (deflated 53%)
adding: data/Rdata.rdb (332 bytes security) (deflated 1%)
adding: data/Rdata.rds (332 bytes security) (stored 0%)
adding: data/Rdata.rdx (332 bytes security) (stored 0%)
adding: DESCRIPTION (332 bytes security) (deflated 42%)
adding: doc/ (372 bytes security) (stored 0%)
adding: doc/genefu.pdf (332 bytes security) (deflated 9%)
adding: doc/genefu.R (332 bytes security) (deflated 74%)
adding: doc/genefu.Rnw (332 bytes security) (deflated 70%)
adding: doc/index.html (332 bytes security) (deflated 57%)
adding: extdata/ (372 bytes security) (stored 0%)
adding: extdata/bentink2012_angiogenic.csv (332 bytes security) (deflated 46%)
adding: extdata/crijns2009_sig.csv (332 bytes security) (deflated 47%)
adding: extdata/desmedt2008_genemodules.csv (332 bytes security) (deflated 60%)
adding: extdata/filipits2011_sig_endopredict.csv (332 bytes security) (deflated 47%)
adding: extdata/haibekains2009_sig_genius.csv (332 bytes security) (deflated 62%)
adding: extdata/loi2008_tamr13.csv (332 bytes security) (deflated 62%)
adding: extdata/loi2010_pik3cags.csv (332 bytes security) (deflated 67%)
adding: extdata/paik2004_sig_oncotypedx.csv (332 bytes security) (deflated 49%)
adding: extdata/pam50_model.csv (332 bytes security) (deflated 51%)
adding: extdata/scmgene_robust_model.csv (332 bytes security) (deflated 40%)
adding: extdata/scmod1_robust_model.csv (332 bytes security) (deflated 65%)
adding: extdata/scmod2_robust_model.csv (332 bytes security) (deflated 67%)
adding: extdata/sotiriou2006_sig_ggi.csv (332 bytes security) (deflated 55%)
adding: extdata/spentzos2011_sig.csv (332 bytes security) (deflated 50%)
adding: extdata/ssp2003_model.csv (332 bytes security) (deflated 69%)
adding: extdata/ssp2006_model.csv (332 bytes security) (deflated 78%)
adding: extdata/T.E.9CELL-LINE.txt (332 bytes security) (deflated 64%)
adding: extdata/tcga2011_sig.csv (332 bytes security) (deflated 55%)
adding: extdata/veer2002_sig_gene70.csv (332 bytes security) (deflated 51%)
adding: extdata/wang2005_sig_gene76.csv (332 bytes security) (deflated 51%)
adding: extdata/wirapati2008_genemodules.csv (332 bytes security) (deflated 55%)
adding: extdata/yoshihara2010_sig.csv (332 bytes security) (deflated 53%)
adding: help/ (372 bytes security) (stored 0%)
adding: help/aliases.rds (332 bytes security) (stored 0%)
adding: help/AnIndex (332 bytes security) (deflated 67%)
adding: help/genefu.rdb (332 bytes security) (deflated 2%)
adding: help/genefu.rdx (332 bytes security) (stored 0%)
adding: help/paths.rds (332 bytes security) (stored 0%)
adding: html/ (372 bytes security) (stored 0%)
adding: html/00Index.html (332 bytes security) (deflated 82%)
adding: html/R.css (332 bytes security) (deflated 75%)
adding: INDEX (332 bytes security) (deflated 76%)
adding: MD5 (332 bytes security) (deflated 46%)
adding: Meta/ (372 bytes security) (stored 0%)
adding: Meta/data.rds (332 bytes security) (stored 0%)
adding: Meta/features.rds (332 bytes security) (stored 0%)
adding: Meta/hsearch.rds (332 bytes security) (stored 0%)
adding: Meta/links.rds (332 bytes security) (stored 0%)
adding: Meta/nsInfo.rds (332 bytes security) (stored 0%)
adding: Meta/package.rds (332 bytes security) (stored 0%)
adding: Meta/Rd.rds (332 bytes security) (stored 0%)
adding: Meta/vignette.rds (332 bytes security) (stored 0%)
adding: NAMESPACE (332 bytes security) (deflated 35%)
adding: R/ (372 bytes security) (stored 0%)
adding: R/genefu (332 bytes security) (deflated 41%)
adding: R/genefu.rdb (332 bytes security) (deflated 0%)
adding: R/genefu.rdx (332 bytes security) (stored 0%)