chimera 1.19.0 Raffaele A Calogero
Snapshot Date: 2017-08-15 17:18:21 -0400 (Tue, 15 Aug 2017) | URL: https://hedgehog.fhcrc.org/bioconductor/trunk/madman/Rpacks/chimera | Last Changed Rev: 129129 / Revision: 131943 | Last Changed Date: 2017-04-24 15:50:57 -0400 (Mon, 24 Apr 2017) |
| malbec1 | Linux (Ubuntu 16.04.1 LTS) / x86_64 | OK | OK | OK | |  |
tokay1 | Windows Server 2012 R2 Standard / x64 | OK | OK | OK | [ OK ] |  |
veracruz1 | OS X 10.11.6 El Capitan / x86_64 | OK | OK | OK | OK |  |
##############################################################################
##############################################################################
###
### Running command:
###
### cd chimera.buildbin-libdir/chimera && zip -r ../../chimera_1.19.0.zip . & cd ../..
###
##############################################################################
##############################################################################
adding: CITATION (332 bytes security) (deflated 59%)
adding: DESCRIPTION (332 bytes security) (deflated 47%)
adding: doc/ (372 bytes security) (stored 0%)
adding: doc/chimera.pdf (332 bytes security) (deflated 18%)
adding: doc/chimera.R (332 bytes security) (deflated 75%)
adding: doc/chimera.Rnw (332 bytes security) (deflated 68%)
adding: doc/index.html (332 bytes security) (deflated 58%)
adding: examples/ (372 bytes security) (stored 0%)
adding: examples/defuse_TP_FP.txt (332 bytes security) (deflated 55%)
adding: examples/Edgreen_fm.txt (332 bytes security) (deflated 68%)
adding: examples/edgren.stat.detection.txt (332 bytes security) (deflated 70%)
adding: examples/Edgren_cs.txt (332 bytes security) (deflated 63%)
adding: examples/Edgren_df.tsv (332 bytes security) (deflated 66%)
adding: examples/Edgren_true.positives.txt (332 bytes security) (deflated 55%)
adding: examples/fset_ARFGEF2-SULF2.rda (332 bytes security) (stored 0%)
adding: examples/mcf7.FMFusionReport (332 bytes security) (deflated 62%)
adding: examples/mcf7_sample_1.fq (332 bytes security) (deflated 68%)
adding: examples/mcf7_sample_2.fq (332 bytes security) (deflated 67%)
adding: examples/mcf7_trs_accepted_hits.bam (332 bytes security) (deflated 0%)
adding: examples/mcf7_trs_accepted_hits.bam_sorted.bam (332 bytes security) (deflated 0%)
adding: examples/mcf7_trs_accepted_hits.bam_sorted.bam.bai (332 bytes security) (deflated 56%)
adding: examples/SULF2_ARFGEF2.fa (332 bytes security) (deflated 68%)
adding: examples/uc002xtx.4-272_uc010zyd.2-988.fa (332 bytes security) (deflated 62%)
adding: examples/uc002xtx.4-272_uc010zyd.2-988_R1.fastq (332 bytes security) (deflated 78%)
adding: examples/uc002xtx.4-272_uc010zyd.2-988_R2.fastq (332 bytes security) (deflated 79%)
adding: examples/uc002xvp.1-243_uc002iyu.4-1031.fa (332 bytes security) (deflated 63%)
adding: examples/uc002xvp.1-243_uc002iyu.4-1031_R1.fastq (332 bytes security) (deflated 80%)
adding: examples/uc002xvp.1-243_uc002iyu.4-1031_R2.fastq (332 bytes security) (deflated 80%)
adding: help/ (372 bytes security) (stored 0%)
adding: help/aliases.rds (332 bytes security) (stored 0%)
adding: help/AnIndex (332 bytes security) (deflated 69%)
adding: help/chimera.rdb (332 bytes security) (deflated 2%)
adding: help/chimera.rdx (332 bytes security) (stored 0%)
adding: help/paths.rds (332 bytes security) (stored 0%)
adding: html/ (372 bytes security) (stored 0%)
adding: html/00Index.html (332 bytes security) (deflated 80%)
adding: html/R.css (332 bytes security) (deflated 75%)
adding: INDEX (332 bytes security) (deflated 71%)
adding: libs/ (372 bytes security) (stored 0%)
adding: libs/i386/ (372 bytes security) (stored 0%)
adding: libs/i386/chimera.dll (332 bytes security) (deflated 65%)
adding: libs/x64/ (372 bytes security) (stored 0%)
adding: libs/x64/chimera.dll (332 bytes security) (deflated 67%)
adding: MD5 (332 bytes security) (deflated 47%)
adding: Meta/ (372 bytes security) (stored 0%)
adding: Meta/features.rds (332 bytes security) (stored 0%)
adding: Meta/hsearch.rds (332 bytes security) (stored 0%)
adding: Meta/links.rds (332 bytes security) (stored 0%)
adding: Meta/nsInfo.rds (332 bytes security) (stored 0%)
adding: Meta/package.rds (332 bytes security) (stored 0%)
adding: Meta/Rd.rds (332 bytes security) (stored 0%)
adding: Meta/vignette.rds (332 bytes security) (stored 0%)
adding: NAMESPACE (332 bytes security) (deflated 40%)
adding: NEWS (332 bytes security) (deflated 63%)
adding: R/ (372 bytes security) (stored 0%)
adding: R/chimera (332 bytes security) (deflated 41%)
adding: R/chimera.rdb (332 bytes security) (deflated 23%)
adding: R/chimera.rdx (332 bytes security) (stored 0%)