Chicago 1.5.0 Mikhail Spivakov
Snapshot Date: 2017-08-15 17:18:21 -0400 (Tue, 15 Aug 2017) | URL: https://hedgehog.fhcrc.org/bioconductor/trunk/madman/Rpacks/Chicago | Last Changed Rev: 129129 / Revision: 131943 | Last Changed Date: 2017-04-24 15:50:57 -0400 (Mon, 24 Apr 2017) |
| malbec1 | Linux (Ubuntu 16.04.1 LTS) / x86_64 | OK | OK | OK | |  |
tokay1 | Windows Server 2012 R2 Standard / x64 | OK | OK | OK | [ OK ] |  |
veracruz1 | OS X 10.11.6 El Capitan / x86_64 | OK | OK | OK | OK |  |
##############################################################################
##############################################################################
###
### Running command:
###
### cd Chicago.buildbin-libdir/Chicago && zip -r ../../Chicago_1.5.0.zip . & cd ../..
###
##############################################################################
##############################################################################
adding: CITATION (332 bytes security) (deflated 58%)
adding: data/ (372 bytes security) (stored 0%)
adding: data/cdUnitTest.rda (332 bytes security) (deflated 0%)
adding: DESCRIPTION (332 bytes security) (deflated 36%)
adding: doc/ (372 bytes security) (stored 0%)
adding: doc/Chicago.html (332 bytes security) (deflated 50%)
adding: doc/Chicago.R (332 bytes security) (deflated 76%)
adding: doc/Chicago.Rmd (332 bytes security) (deflated 63%)
adding: doc/index.html (332 bytes security) (deflated 58%)
adding: extdata/ (372 bytes security) (stored 0%)
adding: extdata/unitTestChIP/ (372 bytes security) (stored 0%)
adding: extdata/unitTestChIP/featuresmESC.txt (332 bytes security) (deflated 48%)
adding: extdata/unitTestChIP/unitTestCTCF_ENCFF001ZQY.broadPeak.bed (332 bytes security) (deflated 65%)
adding: extdata/unitTestChIP/unitTestH3K27me3_ENCFF001ZJO.broadPeak.bed (332 bytes security) (deflated 57%)
adding: extdata/unitTestChIP/unitTestwgEncodeLicrHistoneEse14H3k27acME0129olaStdPk.broadPeak (332 bytes security) (deflated 70%)
adding: extdata/unitTestChIP/unitTestwgEncodeSydhHistEse14H3k04me3StdPk.narrowPeak (332 bytes security) (deflated 56%)
adding: extdata/unitTestChIP/unitTestwgEncodeSydhHistEse14H3k09me3StdPk.narrowPeak (332 bytes security) (deflated 54%)
adding: extdata/unitTestData/ (372 bytes security) (stored 0%)
adding: extdata/unitTestData/unitTest_mESC_rep1.chinput (332 bytes security) (deflated 70%)
adding: extdata/unitTestData/unitTest_mESC_rep2.chinput (332 bytes security) (deflated 69%)
adding: extdata/unitTestDesign/ (372 bytes security) (stored 0%)
adding: extdata/unitTestDesign/unitTest.baitmap (332 bytes security) (deflated 57%)
adding: extdata/unitTestDesign/unitTest.nbpb (332 bytes security) (deflated 95%)
adding: extdata/unitTestDesign/unitTest.npb (332 bytes security) (deflated 79%)
adding: extdata/unitTestDesign/unitTest.poe (332 bytes security) (deflated 71%)
adding: extdata/unitTestDesign/unitTest.rmap (332 bytes security) (deflated 67%)
adding: extdata/weights/ (372 bytes security) (stored 0%)
adding: extdata/weights/GM12878-2reps.settings (332 bytes security) (deflated 21%)
adding: extdata/weights/humanMacrophage-7reps.settings (332 bytes security) (deflated 17%)
adding: extdata/weights/mESC-2reps.settings (332 bytes security) (deflated 21%)
adding: help/ (372 bytes security) (stored 0%)
adding: help/aliases.rds (332 bytes security) (stored 0%)
adding: help/AnIndex (332 bytes security) (deflated 69%)
adding: help/Chicago.rdb (332 bytes security) (deflated 1%)
adding: help/Chicago.rdx (332 bytes security) (stored 0%)
adding: help/paths.rds (332 bytes security) (stored 0%)
adding: html/ (372 bytes security) (stored 0%)
adding: html/00Index.html (332 bytes security) (deflated 78%)
adding: html/R.css (332 bytes security) (deflated 75%)
adding: INDEX (332 bytes security) (deflated 61%)
adding: MD5 (332 bytes security) (deflated 49%)
adding: Meta/ (372 bytes security) (stored 0%)
adding: Meta/data.rds (332 bytes security) (stored 0%)
adding: Meta/features.rds (332 bytes security) (stored 0%)
adding: Meta/hsearch.rds (332 bytes security) (stored 0%)
adding: Meta/links.rds (332 bytes security) (stored 0%)
adding: Meta/nsInfo.rds (332 bytes security) (stored 0%)
adding: Meta/package.rds (332 bytes security) (stored 0%)
adding: Meta/Rd.rds (332 bytes security) (stored 0%)
adding: Meta/vignette.rds (332 bytes security) (stored 0%)
adding: NAMESPACE (332 bytes security) (deflated 49%)
adding: NEWS (332 bytes security) (deflated 46%)
adding: R/ (372 bytes security) (stored 0%)
adding: R/Chicago (332 bytes security) (deflated 41%)
adding: R/Chicago.rdb (332 bytes security) (deflated 18%)
adding: R/Chicago.rdx (332 bytes security) (stored 0%)