##############################################################################
##############################################################################
###
### Running command:
###
### cd MLSeq.buildbin-libdir/MLSeq && zip -r ../../MLSeq_1.16.0.zip . & cd ../..
###
##############################################################################
##############################################################################
adding: data/ (304 bytes security) (stored 0%)
adding: data/cervical.rda (264 bytes security) (deflated 0%)
adding: DESCRIPTION (264 bytes security) (deflated 37%)
adding: doc/ (304 bytes security) (stored 0%)
adding: doc/index.html (264 bytes security) (deflated 57%)
adding: doc/MLSeq.pdf (264 bytes security) (deflated 6%)
adding: doc/MLSeq.R (264 bytes security) (deflated 75%)
adding: doc/MLSeq.Rnw (264 bytes security) (deflated 63%)
adding: extdata/ (304 bytes security) (stored 0%)
adding: extdata/cervical.txt (264 bytes security) (deflated 69%)
adding: help/ (304 bytes security) (stored 0%)
adding: help/aliases.rds (264 bytes security) (stored 0%)
adding: help/AnIndex (264 bytes security) (deflated 66%)
adding: help/MLSeq.rdb (264 bytes security) (deflated 1%)
adding: help/MLSeq.rdx (264 bytes security) (stored 0%)
adding: help/paths.rds (264 bytes security) (stored 0%)
adding: html/ (304 bytes security) (stored 0%)
adding: html/00Index.html (264 bytes security) (deflated 74%)
adding: html/R.css (264 bytes security) (deflated 75%)
adding: INDEX (264 bytes security) (deflated 69%)
adding: MD5 (264 bytes security) (deflated 42%)
adding: Meta/ (304 bytes security) (stored 0%)
adding: Meta/data.rds (264 bytes security) (stored 0%)
adding: Meta/features.rds (264 bytes security) (stored 0%)
adding: Meta/hsearch.rds (264 bytes security) (stored 0%)
adding: Meta/links.rds (264 bytes security) (stored 0%)
adding: Meta/nsInfo.rds (264 bytes security) (stored 0%)
adding: Meta/package.rds (264 bytes security) (stored 0%)
adding: Meta/Rd.rds (264 bytes security) (stored 0%)
adding: Meta/vignette.rds (264 bytes security) (stored 0%)
adding: NAMESPACE (264 bytes security) (deflated 69%)
adding: R/ (304 bytes security) (stored 0%)
adding: R/MLSeq (264 bytes security) (deflated 41%)
adding: R/MLSeq.rdb (264 bytes security) (deflated 32%)
adding: R/MLSeq.rdx (264 bytes security) (stored 0%)