##############################################################################
##############################################################################
###
### Running command:
###
### chmod a+r CytoML -R && C:\Users\biocbuild\bbs-3.5-bioc\R\bin\R.exe CMD build --keep-empty-dirs --no-resave-data CytoML
###
##############################################################################
##############################################################################
* checking for file 'CytoML/DESCRIPTION' ... OK
* preparing 'CytoML':
* checking DESCRIPTION meta-information ... OK
* cleaning src
* installing the package to build vignettes
* creating vignettes ... OK
* cleaning src
* checking for LF line-endings in source and make files
* checking for empty or unneeded directories
WARNING: directory 'CytoML/inst/extdata/diva' is empty
WARNING: directory 'CytoML/inst/tests' is empty
* building 'CytoML_1.2.1.tar.gz'
Warning: file 'CytoML/configure' did not have execute permissions: corrected