##############################################################################
##############################################################################
###
### Running command:
###
### cd mvoutData.buildbin-libdir/mvoutData && zip -r ../../mvoutData_1.8.0.zip . & cd ../..
###
##############################################################################
##############################################################################
adding: data/ (256 bytes security) (stored 0%)
adding: data/datalist (188 bytes security) (stored 0%)
adding: data/ILM1.rda (188 bytes security) (deflated 0%)
adding: data/s12c.rda (188 bytes security) (deflated 0%)
adding: DESCRIPTION (188 bytes security) (deflated 42%)
adding: help/ (256 bytes security) (stored 0%)
adding: help/aliases.rds (188 bytes security) (deflated 1%)
adding: help/AnIndex (188 bytes security) (deflated 27%)
adding: help/mvoutData.rdb (188 bytes security) (stored 0%)
adding: help/mvoutData.rdx (188 bytes security) (stored 0%)
adding: help/paths.rds (188 bytes security) (stored 0%)
adding: html/ (256 bytes security) (stored 0%)
adding: html/00Index.html (188 bytes security) (deflated 54%)
adding: html/R.css (188 bytes security) (deflated 75%)
adding: INDEX (188 bytes security) (deflated 37%)
adding: MD5 (188 bytes security) (deflated 40%)
adding: Meta/ (256 bytes security) (stored 0%)
adding: Meta/data.rds (188 bytes security) (stored 0%)
adding: Meta/hsearch.rds (188 bytes security) (stored 0%)
adding: Meta/links.rds (188 bytes security) (stored 0%)
adding: Meta/nsInfo.rds (188 bytes security) (stored 0%)
adding: Meta/package.rds (188 bytes security) (stored 0%)
adding: Meta/Rd.rds (188 bytes security) (stored 0%)
adding: NAMESPACE (188 bytes security) (stored 0%)