Back to the "Multiple platform build/check report" |
This page was generated on 2015-10-24 19:25:51 -0400 (Sat, 24 Oct 2015).
Package 227/257 | Hostname | OS / Arch | INSTALL | BUILD | CHECK | BUILD BIN | |||||
SNAGEEdata 1.7.0 David Venet
| linux2.bioconductor.org | Linux (Ubuntu 14.04.2 LTS) / x86_64 | OK | OK | OK | ![]() | |||||
windows2.bioconductor.org | Windows Server 2012 R2 Enterprise SP1 (64-bit) / x64 | OK | [ OK ] | OK | OK | ||||||
morelia | Mac OS X Mavericks (10.9.5) / x86_64 | OK | OK | OK | OK |
Package: SNAGEEdata |
Version: 1.7.0 |
Command: chmod a+r SNAGEEdata -R && c:\biocbld\bbs-3.3-bioc\R\bin\R.exe CMD build --keep-empty-dirs --no-resave-data SNAGEEdata |
StartedAt: 2015-10-24 11:13:30 -0400 (Sat, 24 Oct 2015) |
EndedAt: 2015-10-24 11:13:33 -0400 (Sat, 24 Oct 2015) |
EllapsedTime: 3.2 seconds |
RetCode: 0 |
Status: OK |
PackageFile: SNAGEEdata_1.7.0.tar.gz |
PackageFileSize: 29.21 MiB |
############################################################################## ############################################################################## ### ### Running command: ### ### chmod a+r SNAGEEdata -R && c:\biocbld\bbs-3.3-bioc\R\bin\R.exe CMD build --keep-empty-dirs --no-resave-data SNAGEEdata ### ############################################################################## ############################################################################## * checking for file 'SNAGEEdata/DESCRIPTION' ... OK * preparing 'SNAGEEdata': * checking DESCRIPTION meta-information ... OK * checking for LF line-endings in source and make files * checking for empty or unneeded directories * building 'SNAGEEdata_1.7.0.tar.gz'