Back to the "Multiple platform build/check report" A  B  C  D  E  F  G  H  I  J  K  L  M  N  O  P  Q [R] S  T  U  V  W  X  Y  Z 

BioC 3.3: BUILD report for rSFFreader on morelia

This page was generated on 2016-04-21 13:23:45 -0700 (Thu, 21 Apr 2016).

Package 1011/1210HostnameOS / ArchINSTALLBUILDCHECKBUILD BIN
rSFFreader 0.19.0
Matt Settles
Snapshot Date: 2016-04-20 17:20:35 -0700 (Wed, 20 Apr 2016)
URL: https://hedgehog.fhcrc.org/bioconductor/trunk/madman/Rpacks/rSFFreader
Last Changed Rev: 111518 / Revision: 116626
Last Changed Date: 2015-12-15 11:30:59 -0800 (Tue, 15 Dec 2015)
zin2 Linux (Ubuntu 14.04.2 LTS) / x86_64  OK  OK  OK UNNEEDED, same version exists in internal repository
moscato2 Windows Server 2008 R2 Enterprise SP1 (64-bit) / x64 ...NOT SUPPORTED...NOT SUPPORTED...NOT SUPPORTED...
morelia Mac OS X Mavericks (10.9.5) / x86_64  OK [ OK ] OK  OK UNNEEDED, same version exists in internal repository

Summary

Package: rSFFreader
Version: 0.19.0
Command: /Library/Frameworks/R.framework/Versions/Current/Resources/bin/R CMD build --keep-empty-dirs --no-resave-data rSFFreader
StartedAt: 2016-04-20 20:36:15 -0700 (Wed, 20 Apr 2016)
EndedAt: 2016-04-20 20:36:42 -0700 (Wed, 20 Apr 2016)
EllapsedTime: 26.6 seconds
RetCode: 0
Status:  OK 
PackageFile: rSFFreader_0.19.0.tar.gz
PackageFileSize: 4.26 MiB

Command output

##############################################################################
##############################################################################
###
### Running command:
###
###   /Library/Frameworks/R.framework/Versions/Current/Resources/bin/R CMD build --keep-empty-dirs --no-resave-data rSFFreader
###
##############################################################################
##############################################################################


* checking for file ‘rSFFreader/DESCRIPTION’ ... OK
* preparing ‘rSFFreader’:
* checking DESCRIPTION meta-information ... OK
* cleaning src
* installing the package to build vignettes
* creating vignettes ... OK
* cleaning src
* checking for LF line-endings in source and make files
* checking for empty or unneeded directories
* building ‘rSFFreader_0.19.0.tar.gz’