Back to the "Multiple platform build/check report" A  B  C  D  E  F  G  H  I  J  K  L  M [N] O  P  Q  R  S  T  U  V  W  X  Y  Z 

BioC 3.3: INSTALL report for neaGUI on morelia

This page was generated on 2016-04-21 13:24:34 -0700 (Thu, 21 Apr 2016).

Package 773/1210HostnameOS / ArchINSTALLBUILDCHECKBUILD BIN
neaGUI 1.9.1
Setia Pramana
Snapshot Date: 2016-04-20 17:20:35 -0700 (Wed, 20 Apr 2016)
URL: https://hedgehog.fhcrc.org/bioconductor/trunk/madman/Rpacks/neaGUI
Last Changed Rev: 116033 / Revision: 116626
Last Changed Date: 2016-04-08 15:55:20 -0700 (Fri, 08 Apr 2016)
zin2 Linux (Ubuntu 14.04.2 LTS) / x86_64  OK  OK  ERROR 
moscato2 Windows Server 2008 R2 Enterprise SP1 (64-bit) / x64  OK  OK  ERROR  OK 
morelia Mac OS X Mavericks (10.9.5) / x86_64 [ OK ] OK  ERROR  OK 

Summary

Package: neaGUI
Version: 1.9.1
Command: /Library/Frameworks/R.framework/Versions/Current/Resources/bin/R CMD INSTALL neaGUI
StartedAt: 2016-04-20 18:11:21 -0700 (Wed, 20 Apr 2016)
EndedAt: 2016-04-20 18:11:29 -0700 (Wed, 20 Apr 2016)
EllapsedTime: 8.6 seconds
RetCode: 0
Status:  OK 

Command output

##############################################################################
##############################################################################
###
### Running command:
###
###   /Library/Frameworks/R.framework/Versions/Current/Resources/bin/R CMD INSTALL neaGUI
###
##############################################################################
##############################################################################


* installing to library ‘/Library/Frameworks/R.framework/Versions/3.3/Resources/library’
* installing *source* package ‘neaGUI’ ...
** R
** inst
** preparing package for lazy loading
** help
*** installing help indices
** building package indices
** installing vignettes
** testing if installed package can be loaded
Warning: Package 'neaGUI' is deprecated and will be removed from Bioconductor
  version 3.3
* DONE (neaGUI)