interactiveDisplay 1.10.2 Shawn Balcome
Snapshot Date: 2016-10-12 17:20:15 -0700 (Wed, 12 Oct 2016) | URL: https://hedgehog.fhcrc.org/bioconductor/branches/RELEASE_3_3/madman/Rpacks/interactiveDisplay | Last Changed Rev: 117513 / Revision: 122332 | Last Changed Date: 2016-05-15 13:18:19 -0700 (Sun, 15 May 2016) |
| zin2 | Linux (Ubuntu 14.04.2 LTS) / x86_64 | OK | OK | WARNINGS | |  |
moscato2 | Windows Server 2008 R2 Enterprise SP1 (64-bit) / x64 | OK | OK | WARNINGS | [ OK ] |  |
oaxaca | Mac OS X Mavericks (10.9.5) / x86_64 | OK | OK | WARNINGS | OK |  |
##############################################################################
##############################################################################
###
### Running command:
###
### cd interactiveDisplay.buildbin-libdir/interactiveDisplay && zip -r ../../interactiveDisplay_1.10.2.zip . & cd ../..
###
##############################################################################
##############################################################################
adding: data/ (256 bytes security) (stored 0%)
adding: data/expr.rda (188 bytes security) (deflated 0%)
adding: data/mmgr.rda (188 bytes security) (stored 0%)
adding: data/mmgrl.rda (188 bytes security) (stored 0%)
adding: data/se.rda (188 bytes security) (deflated 0%)
adding: DESCRIPTION (188 bytes security) (deflated 46%)
adding: doc/ (256 bytes security) (stored 0%)
adding: doc/index.html (188 bytes security) (deflated 61%)
adding: doc/interactiveDisplay.pdf (188 bytes security) (deflated 13%)
adding: doc/interactiveDisplay.R (188 bytes security) (deflated 79%)
adding: doc/interactiveDisplay.Rnw (188 bytes security) (deflated 70%)
adding: help/ (256 bytes security) (stored 0%)
adding: help/aliases.rds (188 bytes security) (stored 0%)
adding: help/AnIndex (188 bytes security) (deflated 72%)
adding: help/interactiveDisplay.rdb (188 bytes security) (deflated 3%)
adding: help/interactiveDisplay.rdx (188 bytes security) (stored 0%)
adding: help/paths.rds (188 bytes security) (stored 0%)
adding: html/ (256 bytes security) (stored 0%)
adding: html/00Index.html (188 bytes security) (deflated 73%)
adding: html/R.css (188 bytes security) (deflated 75%)
adding: INDEX (188 bytes security) (deflated 67%)
adding: MD5 (188 bytes security) (deflated 47%)
adding: Meta/ (256 bytes security) (stored 0%)
adding: Meta/data.rds (188 bytes security) (stored 0%)
adding: Meta/hsearch.rds (188 bytes security) (stored 0%)
adding: Meta/links.rds (188 bytes security) (stored 0%)
adding: Meta/nsInfo.rds (188 bytes security) (stored 0%)
adding: Meta/package.rds (188 bytes security) (stored 0%)
adding: Meta/Rd.rds (188 bytes security) (stored 0%)
adding: Meta/vignette.rds (188 bytes security) (stored 0%)
adding: NAMESPACE (188 bytes security) (deflated 56%)
adding: R/ (256 bytes security) (stored 0%)
adding: R/interactiveDisplay (188 bytes security) (deflated 41%)
adding: R/interactiveDisplay.rdb (188 bytes security) (deflated 38%)
adding: R/interactiveDisplay.rdx (188 bytes security) (stored 0%)
adding: www/ (256 bytes security) (stored 0%)
adding: www/css/ (256 bytes security) (stored 0%)
adding: www/css/interactiveDisplay.css (188 bytes security) (deflated 19%)
adding: www/js/ (256 bytes security) (stored 0%)
adding: www/js/d3.v2.js (188 bytes security) (deflated 79%)
adding: www/js/demo.js (188 bytes security) (deflated 71%)
adding: www/js/editable.min.js (188 bytes security) (deflated 79%)
adding: www/js/graph.js (188 bytes security) (deflated 65%)
adding: www/js/jquery-svgpan.js (188 bytes security) (deflated 73%)
adding: www/js/jquery.dataTables.min.js (188 bytes security) (deflated 70%)
adding: www/js/jquery.dataTables.nightly.js (188 bytes security) (deflated 76%)
adding: www/js/jquery.js (188 bytes security) (deflated 64%)
adding: www/js/jquery.min.js (188 bytes security) (deflated 65%)
adding: www/js/jscolor/ (256 bytes security) (stored 0%)
adding: www/js/jscolor/arrow.gif (188 bytes security) (deflated 6%)
adding: www/js/jscolor/cross.gif (188 bytes security) (deflated 10%)
adding: www/js/jscolor/hs.png (188 bytes security) (deflated 0%)
adding: www/js/jscolor/hv.png (188 bytes security) (deflated 0%)
adding: www/js/jscolor/jscolor.js (188 bytes security) (deflated 75%)
adding: www/js/shiny2.js (188 bytes security) (deflated 78%)