Back to the "Multiple platform build/check report" A  B  C  D [E] F  G  H  I  J  K  L  M  N  O  P  Q  R  S  T  U  V  W  X  Y  Z 

BioC 3.3: BUILD report for epivizrData on morelia

This page was generated on 2016-04-21 13:28:11 -0700 (Thu, 21 Apr 2016).

Package 358/1210HostnameOS / ArchINSTALLBUILDCHECKBUILD BIN
epivizrData 0.99.3
Hector Corrada Bravo
Snapshot Date: 2016-04-20 17:20:35 -0700 (Wed, 20 Apr 2016)
URL: https://hedgehog.fhcrc.org/bioconductor/trunk/madman/Rpacks/epivizrData
Last Changed Rev: 116618 / Revision: 116626
Last Changed Date: 2016-04-20 13:55:04 -0700 (Wed, 20 Apr 2016)
zin2 Linux (Ubuntu 14.04.2 LTS) / x86_64  OK  OK  OK YES, new version is higher than in internal repository
moscato2 Windows Server 2008 R2 Enterprise SP1 (64-bit) / x64  OK  OK  OK  OK YES, new version is higher than in internal repository
morelia Mac OS X Mavericks (10.9.5) / x86_64  OK [ OK ] ERROR  OK 

Summary

Package: epivizrData
Version: 0.99.3
Command: /Library/Frameworks/R.framework/Versions/Current/Resources/bin/R CMD build --keep-empty-dirs --no-resave-data epivizrData
StartedAt: 2016-04-20 22:58:33 -0700 (Wed, 20 Apr 2016)
EndedAt: 2016-04-20 22:58:56 -0700 (Wed, 20 Apr 2016)
EllapsedTime: 23.2 seconds
RetCode: 0
Status:  OK 
PackageFile: epivizrData_0.99.3.tar.gz
PackageFileSize: 28.5 KiB

Command output

##############################################################################
##############################################################################
###
### Running command:
###
###   /Library/Frameworks/R.framework/Versions/Current/Resources/bin/R CMD build --keep-empty-dirs --no-resave-data epivizrData
###
##############################################################################
##############################################################################


* checking for file ‘epivizrData/DESCRIPTION’ ... OK
* preparing ‘epivizrData’:
* checking DESCRIPTION meta-information ... OK
* installing the package to build vignettes
* creating vignettes ... OK
* checking for LF line-endings in source and make files
* checking for empty or unneeded directories
* building ‘epivizrData_0.99.3.tar.gz’