Back to the "Multiple platform build/check report"[A] B  C  D  E  F  G  H  I  J  K  L  M  N  O  P  Q  R  S  T  U  V  W  X  Y  Z 

BioC 3.3: BUILD report for affxparser on morelia

This page was generated on 2016-04-21 13:19:37 -0700 (Thu, 21 Apr 2016).

Package 15/1210HostnameOS / ArchINSTALLBUILDCHECKBUILD BIN
affxparser 1.43.2
Kasper Daniel Hansen
Snapshot Date: 2016-04-20 17:20:35 -0700 (Wed, 20 Apr 2016)
URL: https://hedgehog.fhcrc.org/bioconductor/trunk/madman/Rpacks/affxparser
Last Changed Rev: 115964 / Revision: 116626
Last Changed Date: 2016-04-07 11:09:40 -0700 (Thu, 07 Apr 2016)
zin2 Linux (Ubuntu 14.04.2 LTS) / x86_64  OK  OK  WARNINGS UNNEEDED, same version exists in internal repository
moscato2 Windows Server 2008 R2 Enterprise SP1 (64-bit) / x64  OK  OK  OK  OK UNNEEDED, same version exists in internal repository
morelia Mac OS X Mavericks (10.9.5) / x86_64  OK [ OK ] WARNINGS  OK UNNEEDED, same version exists in internal repository

Summary

Package: affxparser
Version: 1.43.2
Command: /Library/Frameworks/R.framework/Versions/Current/Resources/bin/R CMD build --keep-empty-dirs --no-resave-data affxparser
StartedAt: 2016-04-20 18:42:50 -0700 (Wed, 20 Apr 2016)
EndedAt: 2016-04-20 18:42:59 -0700 (Wed, 20 Apr 2016)
EllapsedTime: 8.9 seconds
RetCode: 0
Status:  OK 
PackageFile: affxparser_1.43.2.tar.gz
PackageFileSize: 793.7 KiB

Command output

##############################################################################
##############################################################################
###
### Running command:
###
###   /Library/Frameworks/R.framework/Versions/Current/Resources/bin/R CMD build --keep-empty-dirs --no-resave-data affxparser
###
##############################################################################
##############################################################################


* checking for file ‘affxparser/DESCRIPTION’ ... OK
* preparing ‘affxparser’:
* checking DESCRIPTION meta-information ... OK
* cleaning src
* running ‘cleanup’
* checking for LF line-endings in source and make files
* checking for empty or unneeded directories
* building ‘affxparser_1.43.2.tar.gz’
Warning in utils::tar(filepath, pkgname, compression = "gzip", compression_level = 9L,  :
  storing paths of more than 100 bytes is not portable:
  ‘affxparser/src/fusion_sdk/calvin_files/writers/src/CalvinCHPQuantificationDetectionFileBufferWriter.cpp’
Warning in utils::tar(filepath, pkgname, compression = "gzip", compression_level = 9L,  :
  storing paths of more than 100 bytes is not portable:
  ‘affxparser/src/fusion_sdk/calvin_files/writers/src/CalvinCHPQuantificationDetectionFileBufferWriter.h’