Back to Multiple platform build/check report for BioC 3.21:   simplified   long
ABCDEFGHIJKLMNOPQRS[T]UVWXYZ

This page was generated on 2025-05-01 11:44 -0400 (Thu, 01 May 2025).

HostnameOSArch (*)R versionInstalled pkgs
nebbiolo1Linux (Ubuntu 24.04.1 LTS)x86_644.5.0 RC (2025-04-04 r88126) -- "How About a Twenty-Six" 4832
palomino7Windows Server 2022 Datacenterx644.5.0 RC (2025-04-04 r88126 ucrt) -- "How About a Twenty-Six" 4574
merida1macOS 12.7.5 Montereyx86_644.5.0 RC (2025-04-04 r88126) -- "How About a Twenty-Six" 4599
kjohnson1macOS 13.6.6 Venturaarm644.5.0 RC (2025-04-04 r88129) -- "How About a Twenty-Six" 4553
Click on any hostname to see more info about the system (e.g. compilers)      (*) as reported by 'uname -p', except on Windows and Mac OS X

Package 2245/2341HostnameOS / ArchINSTALLBUILDCHECKBUILD BIN
trio 3.46.0  (landing page)
Holger Schwender
Snapshot Date: 2025-04-28 17:48 -0400 (Mon, 28 Apr 2025)
git_url: https://git.bioconductor.org/packages/trio
git_branch: RELEASE_3_21
git_last_commit: db20b0d
git_last_commit_date: 2025-04-15 10:25:51 -0400 (Tue, 15 Apr 2025)
nebbiolo1Linux (Ubuntu 24.04.1 LTS) / x86_64  OK    OK    OK  UNNEEDED, same version is already published
palomino7Windows Server 2022 Datacenter / x64  OK    OK    OK    OK  UNNEEDED, same version is already published
merida1macOS 12.7.5 Monterey / x86_64  OK    OK    OK    OK  UNNEEDED, same version is already published
kjohnson1macOS 13.6.6 Ventura / arm64  OK    OK    OK    OK  UNNEEDED, same version is already published


CHECK results for trio on kjohnson1

To the developers/maintainers of the trio package:
- Allow up to 24 hours (and sometimes 48 hours) for your latest push to git@git.bioconductor.org:packages/trio.git to reflect on this report. See Troubleshooting Build Report for more information.
- Use the following Renviron settings to reproduce errors and warnings.
- If 'R CMD check' started to fail recently on the Linux builder(s) over a missing dependency, add the missing dependency to 'Suggests:' in your DESCRIPTION file. See Renviron.bioc for more information.

raw results


Summary

Package: trio
Version: 3.46.0
Command: /Library/Frameworks/R.framework/Resources/bin/R CMD check --install=check:trio.install-out.txt --library=/Library/Frameworks/R.framework/Resources/library --no-vignettes --timings trio_3.46.0.tar.gz
StartedAt: 2025-04-29 11:42:56 -0400 (Tue, 29 Apr 2025)
EndedAt: 2025-04-29 11:43:55 -0400 (Tue, 29 Apr 2025)
EllapsedTime: 58.6 seconds
RetCode: 0
Status:   OK  
CheckDir: trio.Rcheck
Warnings: 0

Command output

##############################################################################
##############################################################################
###
### Running command:
###
###   /Library/Frameworks/R.framework/Resources/bin/R CMD check --install=check:trio.install-out.txt --library=/Library/Frameworks/R.framework/Resources/library --no-vignettes --timings trio_3.46.0.tar.gz
###
##############################################################################
##############################################################################


* using log directory ‘/Users/biocbuild/bbs-3.21-bioc/meat/trio.Rcheck’
* using R version 4.5.0 RC (2025-04-04 r88129)
* using platform: aarch64-apple-darwin20
* R was compiled by
    Apple clang version 14.0.0 (clang-1400.0.29.202)
    GNU Fortran (GCC) 14.2.0
* running under: macOS Ventura 13.7.5
* using session charset: UTF-8
* using option ‘--no-vignettes’
* checking for file ‘trio/DESCRIPTION’ ... OK
* checking extension type ... Package
* this is package ‘trio’ version ‘3.46.0’
* checking package namespace information ... OK
* checking package dependencies ... OK
* checking if this is a source package ... OK
* checking if there is a namespace ... OK
* checking for hidden files and directories ... OK
* checking for portable file names ... OK
* checking for sufficient/correct file permissions ... OK
* checking whether package ‘trio’ can be installed ... OK
* checking installed package size ... OK
* checking package directory ... OK
* checking ‘build’ directory ... OK
* checking DESCRIPTION meta-information ... OK
* checking top-level files ... OK
* checking for left-over files ... OK
* checking index information ... OK
* checking package subdirectories ... OK
* checking code files for non-ASCII characters ... OK
* checking R files for syntax errors ... OK
* checking whether the package can be loaded ... OK
* checking whether the package can be loaded with stated dependencies ... OK
* checking whether the package can be unloaded cleanly ... OK
* checking whether the namespace can be loaded with stated dependencies ... OK
* checking whether the namespace can be unloaded cleanly ... OK
* checking whether startup messages can be suppressed ... OK
* checking dependencies in R code ... OK
* checking S3 generic/method consistency ... OK
* checking replacement functions ... OK
* checking foreign function calls ... NOTE
Foreign function call to a different package:
  .C("clogreg", ..., PACKAGE = "LogicReg")
See chapter ‘System and foreign language interfaces’ in the ‘Writing R
Extensions’ manual.
* checking R code for possible problems ... NOTE
read.pedfile: no visible binding for global variable ‘..ids.select’
Undefined global functions or variables:
  ..ids.select
* checking Rd files ... OK
* checking Rd metadata ... OK
* checking Rd cross-references ... OK
* checking for missing documentation entries ... OK
* checking for code/documentation mismatches ... OK
* checking Rd \usage sections ... OK
* checking Rd contents ... OK
* checking for unstated dependencies in examples ... OK
* checking contents of ‘data’ directory ... OK
* checking data for non-ASCII characters ... OK
* checking data for ASCII and uncompressed saves ... OK
* checking sizes of PDF files under ‘inst/doc’ ... OK
* checking installed files from ‘inst/doc’ ... OK
* checking files in ‘vignettes’ ... OK
* checking examples ... OK
* checking for unstated dependencies in vignettes ... OK
* checking package vignettes ... OK
* checking running R code from vignettes ... SKIPPED
* checking re-building of vignette outputs ... SKIPPED
* checking PDF version of manual ... OK
* DONE

Status: 2 NOTEs
See
  ‘/Users/biocbuild/bbs-3.21-bioc/meat/trio.Rcheck/00check.log’
for details.


Installation output

trio.Rcheck/00install.out

##############################################################################
##############################################################################
###
### Running command:
###
###   /Library/Frameworks/R.framework/Resources/bin/R CMD INSTALL trio
###
##############################################################################
##############################################################################


* installing to library ‘/Library/Frameworks/R.framework/Versions/4.5-arm64/Resources/library’
* installing *source* package ‘trio’ ...
** this is package ‘trio’ version ‘3.46.0’
** using staged installation
** R
** data
** inst
** byte-compile and prepare package for lazy loading
** help
*** installing help indices
** building package indices
** installing vignettes
** testing if installed package can be loaded from temporary location
** testing if installed package can be loaded from final location
** testing if installed package keeps a record of temporary installation path
* DONE (trio)

Tests output


Example timings

trio.Rcheck/trio-Ex.timings

nameusersystemelapsed
allelicTDT0.0090.0020.011
colEMlrt0.0310.0030.035
colGxE0.0040.0010.004
colGxGPerms1.8040.0831.894
colNtrios0.0050.0010.006
colPOlrt0.0080.0010.009
colTDTmaxTest0.0230.0030.025
colTDTsam0.0130.0010.015
findLDblocks0.0120.0020.014
getLD0.0070.0010.008
getMatPseudo0.0030.0000.004
lrControl000
ntrios2Dom0.0020.0000.003
ped2geno000
plot.LDblocks0.0230.0030.026
plot.getLD0.0130.0020.015
plot.trioLR1.2500.0501.306
poly4root0.0000.0000.001
print.colGxE0.0150.0030.017
print.trioFS1.8480.0301.880
print.trioLR0.8050.0150.865
probTDT0.0150.0070.021
read.pedfile000
removeSNPs0.0030.0010.004
scoreTDT0.0040.0010.005
tdt0.0080.0010.021
tdtGxG0.6290.0200.691
trio.check0.2150.0070.225
trio.data0.0020.0000.003
trio.permTest1.6260.0191.659
trio.power0.0040.0000.004
trio.prepare0.7540.0120.771
trio.sim0.1480.0020.150
trioFS1.7490.0211.783
trioLR0.7940.0170.825