Back to Multiple platform build/check report for BioC 3.21: simplified long |
|
This page was generated on 2025-04-28 13:02 -0400 (Mon, 28 Apr 2025).
Hostname | OS | Arch (*) | R version | Installed pkgs |
---|---|---|---|---|
nebbiolo1 | Linux (Ubuntu 24.04.1 LTS) | x86_64 | 4.5.0 RC (2025-04-04 r88126) -- "How About a Twenty-Six" | 4832 |
palomino7 | Windows Server 2022 Datacenter | x64 | 4.5.0 RC (2025-04-04 r88126 ucrt) -- "How About a Twenty-Six" | 4574 |
merida1 | macOS 12.7.5 Monterey | x86_64 | 4.5.0 RC (2025-04-04 r88126) -- "How About a Twenty-Six" | 4558 |
kjohnson1 | macOS 13.6.6 Ventura | arm64 | 4.5.0 RC (2025-04-04 r88129) -- "How About a Twenty-Six" | 4553 |
Click on any hostname to see more info about the system (e.g. compilers) (*) as reported by 'uname -p', except on Windows and Mac OS X |
Package 2235/2341 | Hostname | OS / Arch | INSTALL | BUILD | CHECK | BUILD BIN | ||||||||
treeclimbR 1.4.0 (landing page) Charlotte Soneson
| nebbiolo1 | Linux (Ubuntu 24.04.1 LTS) / x86_64 | OK | OK | OK | ![]() | ||||||||
palomino7 | Windows Server 2022 Datacenter / x64 | OK | OK | OK | OK | ![]() | ||||||||
merida1 | macOS 12.7.5 Monterey / x86_64 | OK | OK | OK | ERROR | |||||||||
kjohnson1 | macOS 13.6.6 Ventura / arm64 | OK | OK | OK | ERROR | |||||||||
To the developers/maintainers of the treeclimbR package: - Allow up to 24 hours (and sometimes 48 hours) for your latest push to git@git.bioconductor.org:packages/treeclimbR.git to reflect on this report. See Troubleshooting Build Report for more information. - Use the following Renviron settings to reproduce errors and warnings. - If 'R CMD check' started to fail recently on the Linux builder(s) over a missing dependency, add the missing dependency to 'Suggests:' in your DESCRIPTION file. See Renviron.bioc for more information. |
Package: treeclimbR |
Version: 1.4.0 |
Command: rm -rf treeclimbR.buildbin-libdir && mkdir treeclimbR.buildbin-libdir && /Users/biocbuild/BBS/utils/build-universal.sh treeclimbR_1.4.0.tar.gz /Library/Frameworks/R.framework/Resources/bin/R treeclimbR.buildbin-libdir |
StartedAt: 2025-04-26 19:37:02 -0400 (Sat, 26 Apr 2025) |
EndedAt: 2025-04-26 19:37:49 -0400 (Sat, 26 Apr 2025) |
EllapsedTime: 47.4 seconds |
RetCode: 1 |
Status: ERROR |
PackageFile: None |
PackageFileSize: NA |
############################################################################## ############################################################################## ### ### Running command: ### ### rm -rf treeclimbR.buildbin-libdir && mkdir treeclimbR.buildbin-libdir && /Users/biocbuild/BBS/utils/build-universal.sh treeclimbR_1.4.0.tar.gz /Library/Frameworks/R.framework/Resources/bin/R treeclimbR.buildbin-libdir ### ############################################################################## ############################################################################## >>>>>>> >>>>>>> INSTALLATION WITH 'R CMD INSTALL --preclean --no-multiarch --library=treeclimbR.buildbin-libdir treeclimbR_1.4.0.tar.gz' >>>>>>> * installing *source* package ‘treeclimbR’ ... ** this is package ‘treeclimbR’ version ‘1.4.0’ ** using staged installation ** R ** inst ** byte-compile and prepare package for lazy loading ** help *** installing help indices ** building package indices ** installing vignettes ** testing if installed package can be loaded from temporary location ** testing if installed package can be loaded from final location ** testing if installed package keeps a record of temporary installation path * DONE (treeclimbR) chown: treeclimbR.buildbin-libdir/treeclimbR/CITATION: Operation not permitted chown: treeclimbR.buildbin-libdir/treeclimbR/extdata/ds_sim_20_500_8de.rds: Operation not permitted chown: treeclimbR.buildbin-libdir/treeclimbR/extdata/tinytree_counts.rds: Operation not permitted chown: treeclimbR.buildbin-libdir/treeclimbR/extdata/throat_v35.rds: Operation not permitted chown: treeclimbR.buildbin-libdir/treeclimbR/extdata/da_sim_100_30_18de.rds: Operation not permitted chown: treeclimbR.buildbin-libdir/treeclimbR/extdata: Operation not permitted chown: treeclimbR.buildbin-libdir/treeclimbR/NEWS.md: Operation not permitted chown: treeclimbR.buildbin-libdir/treeclimbR/R/treeclimbR: Operation not permitted chown: treeclimbR.buildbin-libdir/treeclimbR/R/treeclimbR.rdb: Operation not permitted chown: treeclimbR.buildbin-libdir/treeclimbR/R/treeclimbR.rdx: Operation not permitted chown: treeclimbR.buildbin-libdir/treeclimbR/R: Operation not permitted chown: treeclimbR.buildbin-libdir/treeclimbR/Meta/vignette.rds: Operation not permitted chown: treeclimbR.buildbin-libdir/treeclimbR/Meta/links.rds: Operation not permitted chown: treeclimbR.buildbin-libdir/treeclimbR/Meta/features.rds: Operation not permitted chown: treeclimbR.buildbin-libdir/treeclimbR/Meta/nsInfo.rds: Operation not permitted chown: treeclimbR.buildbin-libdir/treeclimbR/Meta/package.rds: Operation not permitted chown: treeclimbR.buildbin-libdir/treeclimbR/Meta/hsearch.rds: Operation not permitted chown: treeclimbR.buildbin-libdir/treeclimbR/Meta/Rd.rds: Operation not permitted chown: treeclimbR.buildbin-libdir/treeclimbR/Meta: Operation not permitted chown: treeclimbR.buildbin-libdir/treeclimbR/NAMESPACE: Operation not permitted chown: treeclimbR.buildbin-libdir/treeclimbR/html/R.css: Operation not permitted chown: treeclimbR.buildbin-libdir/treeclimbR/html/00Index.html: Operation not permitted chown: treeclimbR.buildbin-libdir/treeclimbR/html: Operation not permitted chown: treeclimbR.buildbin-libdir/treeclimbR/DESCRIPTION: Operation not permitted chown: treeclimbR.buildbin-libdir/treeclimbR/scripts/throat_v35.R: Operation not permitted chown: treeclimbR.buildbin-libdir/treeclimbR/scripts/da_sim_100_30_18de.R: Operation not permitted chown: treeclimbR.buildbin-libdir/treeclimbR/scripts/ds_sim_20_500_8de.R: Operation not permitted chown: treeclimbR.buildbin-libdir/treeclimbR/scripts/tinytree_counts.R: Operation not permitted chown: treeclimbR.buildbin-libdir/treeclimbR/scripts: Operation not permitted chown: treeclimbR.buildbin-libdir/treeclimbR/INDEX: Operation not permitted chown: treeclimbR.buildbin-libdir/treeclimbR/doc/index.html: Operation not permitted chown: treeclimbR.buildbin-libdir/treeclimbR/doc/treeclimbR.html: Operation not permitted chown: treeclimbR.buildbin-libdir/treeclimbR/doc/treeclimbR.Rmd: Operation not permitted chown: treeclimbR.buildbin-libdir/treeclimbR/doc/treeclimbR.R: Operation not permitted chown: treeclimbR.buildbin-libdir/treeclimbR/doc: Operation not permitted chown: treeclimbR.buildbin-libdir/treeclimbR/help/AnIndex: Operation not permitted chown: treeclimbR.buildbin-libdir/treeclimbR/help/aliases.rds: Operation not permitted chown: treeclimbR.buildbin-libdir/treeclimbR/help/treeclimbR.rdb: Operation not permitted chown: treeclimbR.buildbin-libdir/treeclimbR/help/treeclimbR.rdx: Operation not permitted chown: treeclimbR.buildbin-libdir/treeclimbR/help/paths.rds: Operation not permitted chown: treeclimbR.buildbin-libdir/treeclimbR/help: Operation not permitted chown: treeclimbR.buildbin-libdir/treeclimbR: Operation not permitted