Back to Multiple platform build/check report for BioC 3.21: simplified long |
|
This page was generated on 2025-04-28 13:01 -0400 (Mon, 28 Apr 2025).
Hostname | OS | Arch (*) | R version | Installed pkgs |
---|---|---|---|---|
nebbiolo1 | Linux (Ubuntu 24.04.1 LTS) | x86_64 | 4.5.0 RC (2025-04-04 r88126) -- "How About a Twenty-Six" | 4832 |
palomino7 | Windows Server 2022 Datacenter | x64 | 4.5.0 RC (2025-04-04 r88126 ucrt) -- "How About a Twenty-Six" | 4574 |
merida1 | macOS 12.7.5 Monterey | x86_64 | 4.5.0 RC (2025-04-04 r88126) -- "How About a Twenty-Six" | 4558 |
kjohnson1 | macOS 13.6.6 Ventura | arm64 | 4.5.0 RC (2025-04-04 r88129) -- "How About a Twenty-Six" | 4553 |
Click on any hostname to see more info about the system (e.g. compilers) (*) as reported by 'uname -p', except on Windows and Mac OS X |
Package 2192/2341 | Hostname | OS / Arch | INSTALL | BUILD | CHECK | BUILD BIN | ||||||||
tidySummarizedExperiment 1.18.0 (landing page) Stefano Mangiola
| nebbiolo1 | Linux (Ubuntu 24.04.1 LTS) / x86_64 | OK | OK | OK | ![]() | ||||||||
palomino7 | Windows Server 2022 Datacenter / x64 | OK | OK | OK | OK | ![]() | ||||||||
merida1 | macOS 12.7.5 Monterey / x86_64 | OK | OK | OK | ERROR | |||||||||
kjohnson1 | macOS 13.6.6 Ventura / arm64 | OK | OK | OK | ERROR | |||||||||
To the developers/maintainers of the tidySummarizedExperiment package: - Allow up to 24 hours (and sometimes 48 hours) for your latest push to git@git.bioconductor.org:packages/tidySummarizedExperiment.git to reflect on this report. See Troubleshooting Build Report for more information. - Use the following Renviron settings to reproduce errors and warnings. - If 'R CMD check' started to fail recently on the Linux builder(s) over a missing dependency, add the missing dependency to 'Suggests:' in your DESCRIPTION file. See Renviron.bioc for more information. |
Package: tidySummarizedExperiment |
Version: 1.18.0 |
Command: rm -rf tidySummarizedExperiment.buildbin-libdir && mkdir tidySummarizedExperiment.buildbin-libdir && /Users/biocbuild/BBS/utils/build-universal.sh tidySummarizedExperiment_1.18.0.tar.gz /Library/Frameworks/R.framework/Resources/bin/R tidySummarizedExperiment.buildbin-libdir |
StartedAt: 2025-04-25 14:44:18 -0400 (Fri, 25 Apr 2025) |
EndedAt: 2025-04-25 14:45:25 -0400 (Fri, 25 Apr 2025) |
EllapsedTime: 67.8 seconds |
RetCode: 1 |
Status: ERROR |
PackageFile: None |
PackageFileSize: NA |
############################################################################## ############################################################################## ### ### Running command: ### ### rm -rf tidySummarizedExperiment.buildbin-libdir && mkdir tidySummarizedExperiment.buildbin-libdir && /Users/biocbuild/BBS/utils/build-universal.sh tidySummarizedExperiment_1.18.0.tar.gz /Library/Frameworks/R.framework/Resources/bin/R tidySummarizedExperiment.buildbin-libdir ### ############################################################################## ############################################################################## >>>>>>> >>>>>>> INSTALLATION WITH 'R CMD INSTALL --preclean --no-multiarch --library=tidySummarizedExperiment.buildbin-libdir tidySummarizedExperiment_1.18.0.tar.gz' >>>>>>> * installing *source* package ‘tidySummarizedExperiment’ ... ** this is package ‘tidySummarizedExperiment’ version ‘1.18.0’ ** using staged installation ** R ** data *** moving datasets to lazyload DB ** inst ** byte-compile and prepare package for lazy loading Note: wrong number of arguments to '>' ** help *** installing help indices *** copying figures ** building package indices ** installing vignettes ** testing if installed package can be loaded from temporary location ** testing if installed package can be loaded from final location ** testing if installed package keeps a record of temporary installation path * DONE (tidySummarizedExperiment) chown: tidySummarizedExperiment.buildbin-libdir/tidySummarizedExperiment/NEWS.rd: Operation not permitted chown: tidySummarizedExperiment.buildbin-libdir/tidySummarizedExperiment/R/tidySummarizedExperiment.rdb: Operation not permitted chown: tidySummarizedExperiment.buildbin-libdir/tidySummarizedExperiment/R/tidySummarizedExperiment.rdx: Operation not permitted chown: tidySummarizedExperiment.buildbin-libdir/tidySummarizedExperiment/R/tidySummarizedExperiment: Operation not permitted chown: tidySummarizedExperiment.buildbin-libdir/tidySummarizedExperiment/R: Operation not permitted chown: tidySummarizedExperiment.buildbin-libdir/tidySummarizedExperiment/Meta/vignette.rds: Operation not permitted chown: tidySummarizedExperiment.buildbin-libdir/tidySummarizedExperiment/Meta/data.rds: Operation not permitted chown: tidySummarizedExperiment.buildbin-libdir/tidySummarizedExperiment/Meta/links.rds: Operation not permitted chown: tidySummarizedExperiment.buildbin-libdir/tidySummarizedExperiment/Meta/features.rds: Operation not permitted chown: tidySummarizedExperiment.buildbin-libdir/tidySummarizedExperiment/Meta/nsInfo.rds: Operation not permitted chown: tidySummarizedExperiment.buildbin-libdir/tidySummarizedExperiment/Meta/package.rds: Operation not permitted chown: tidySummarizedExperiment.buildbin-libdir/tidySummarizedExperiment/Meta/hsearch.rds: Operation not permitted chown: tidySummarizedExperiment.buildbin-libdir/tidySummarizedExperiment/Meta/Rd.rds: Operation not permitted chown: tidySummarizedExperiment.buildbin-libdir/tidySummarizedExperiment/Meta: Operation not permitted chown: tidySummarizedExperiment.buildbin-libdir/tidySummarizedExperiment/NAMESPACE: Operation not permitted chown: tidySummarizedExperiment.buildbin-libdir/tidySummarizedExperiment/html/R.css: Operation not permitted chown: tidySummarizedExperiment.buildbin-libdir/tidySummarizedExperiment/html/00Index.html: Operation not permitted chown: tidySummarizedExperiment.buildbin-libdir/tidySummarizedExperiment/html: Operation not permitted chown: tidySummarizedExperiment.buildbin-libdir/tidySummarizedExperiment/DESCRIPTION: Operation not permitted chown: tidySummarizedExperiment.buildbin-libdir/tidySummarizedExperiment/INDEX: Operation not permitted chown: tidySummarizedExperiment.buildbin-libdir/tidySummarizedExperiment/doc/index.html: Operation not permitted chown: tidySummarizedExperiment.buildbin-libdir/tidySummarizedExperiment/doc/introduction.R: Operation not permitted chown: tidySummarizedExperiment.buildbin-libdir/tidySummarizedExperiment/doc/introduction.html: Operation not permitted chown: tidySummarizedExperiment.buildbin-libdir/tidySummarizedExperiment/doc/introduction.Rmd: Operation not permitted chown: tidySummarizedExperiment.buildbin-libdir/tidySummarizedExperiment/doc: Operation not permitted chown: tidySummarizedExperiment.buildbin-libdir/tidySummarizedExperiment/data/Rdata.rds: Operation not permitted chown: tidySummarizedExperiment.buildbin-libdir/tidySummarizedExperiment/data/Rdata.rdx: Operation not permitted chown: tidySummarizedExperiment.buildbin-libdir/tidySummarizedExperiment/data/Rdata.rdb: Operation not permitted chown: tidySummarizedExperiment.buildbin-libdir/tidySummarizedExperiment/data: Operation not permitted chown: tidySummarizedExperiment.buildbin-libdir/tidySummarizedExperiment/help/AnIndex: Operation not permitted chown: tidySummarizedExperiment.buildbin-libdir/tidySummarizedExperiment/help/aliases.rds: Operation not permitted chown: tidySummarizedExperiment.buildbin-libdir/tidySummarizedExperiment/help/tidySummarizedExperiment.rdb: Operation not permitted chown: tidySummarizedExperiment.buildbin-libdir/tidySummarizedExperiment/help/tidySummarizedExperiment.rdx: Operation not permitted chown: tidySummarizedExperiment.buildbin-libdir/tidySummarizedExperiment/help/paths.rds: Operation not permitted chown: tidySummarizedExperiment.buildbin-libdir/tidySummarizedExperiment/help/figures/lifecycle-questioning.svg: Operation not permitted chown: tidySummarizedExperiment.buildbin-libdir/tidySummarizedExperiment/help/figures/lifecycle-archived.svg: Operation not permitted chown: tidySummarizedExperiment.buildbin-libdir/tidySummarizedExperiment/help/figures/lifecycle-superseded.svg: Operation not permitted chown: tidySummarizedExperiment.buildbin-libdir/tidySummarizedExperiment/help/figures/lifecycle-experimental.svg: Operation not permitted chown: tidySummarizedExperiment.buildbin-libdir/tidySummarizedExperiment/help/figures/plot1-1.png: Operation not permitted chown: tidySummarizedExperiment.buildbin-libdir/tidySummarizedExperiment/help/figures/lifecycle-deprecated.svg: Operation not permitted chown: tidySummarizedExperiment.buildbin-libdir/tidySummarizedExperiment/help/figures/lifecycle-maturing.svg: Operation not permitted chown: tidySummarizedExperiment.buildbin-libdir/tidySummarizedExperiment/help/figures/lifecycle-defunct.svg: Operation not permitted chown: tidySummarizedExperiment.buildbin-libdir/tidySummarizedExperiment/help/figures/lifecycle-stable.svg: Operation not permitted chown: tidySummarizedExperiment.buildbin-libdir/tidySummarizedExperiment/help/figures: Operation not permitted chown: tidySummarizedExperiment.buildbin-libdir/tidySummarizedExperiment/help: Operation not permitted chown: tidySummarizedExperiment.buildbin-libdir/tidySummarizedExperiment: Operation not permitted