Back to Multiple platform build/check report for BioC 3.21:   simplified   long
ABCDEFGHIJKLMNOPQR[S]TUVWXYZ

This page was generated on 2025-04-24 13:03 -0400 (Thu, 24 Apr 2025).

HostnameOSArch (*)R versionInstalled pkgs
nebbiolo1Linux (Ubuntu 24.04.1 LTS)x86_644.5.0 RC (2025-04-04 r88126) -- "How About a Twenty-Six" 4831
palomino7Windows Server 2022 Datacenterx644.5.0 RC (2025-04-04 r88126 ucrt) -- "How About a Twenty-Six" 4573
Click on any hostname to see more info about the system (e.g. compilers)      (*) as reported by 'uname -p', except on Windows and Mac OS X

Package 2116/2341HostnameOS / ArchINSTALLBUILDCHECKBUILD BIN
stJoincount 1.10.0  (landing page)
Jiarong Song
Snapshot Date: 2025-04-22 13:40 -0400 (Tue, 22 Apr 2025)
git_url: https://git.bioconductor.org/packages/stJoincount
git_branch: RELEASE_3_21
git_last_commit: b8f2c34
git_last_commit_date: 2025-04-15 12:58:39 -0400 (Tue, 15 Apr 2025)
nebbiolo1Linux (Ubuntu 24.04.1 LTS) / x86_64  OK    OK    OK  UNNEEDED, same version is already published
palomino7Windows Server 2022 Datacenter / x64  ERROR    ERROR  skippedskipped


BUILD results for stJoincount on palomino7

To the developers/maintainers of the stJoincount package:
- Allow up to 24 hours (and sometimes 48 hours) for your latest push to git@git.bioconductor.org:packages/stJoincount.git to reflect on this report. See Troubleshooting Build Report for more information.
- Use the following Renviron settings to reproduce errors and warnings.
- If 'R CMD check' started to fail recently on the Linux builder(s) over a missing dependency, add the missing dependency to 'Suggests:' in your DESCRIPTION file. See Renviron.bioc for more information.

raw results


Summary

Package: stJoincount
Version: 1.10.0
Command: chmod a+r stJoincount -R && E:\biocbuild\bbs-3.21-bioc\R\bin\R.exe CMD build --keep-empty-dirs --no-resave-data stJoincount
StartedAt: 2025-04-22 22:41:10 -0400 (Tue, 22 Apr 2025)
EndedAt: 2025-04-22 22:41:34 -0400 (Tue, 22 Apr 2025)
EllapsedTime: 24.2 seconds
RetCode: 1
Status:   ERROR  
PackageFile: None
PackageFileSize: NA

Command output

##############################################################################
##############################################################################
###
### Running command:
###
###   chmod a+r stJoincount -R && E:\biocbuild\bbs-3.21-bioc\R\bin\R.exe CMD build --keep-empty-dirs --no-resave-data stJoincount
###
##############################################################################
##############################################################################


* checking for file 'stJoincount/DESCRIPTION' ... OK
* preparing 'stJoincount':
* checking DESCRIPTION meta-information ... OK
* installing the package to build vignettes
      -----------------------------------
* installing *source* package 'stJoincount' ...
** this is package 'stJoincount' version '1.10.0'
** using staged installation
** R
** inst
** byte-compile and prepare package for lazy loading
ERROR: lazy loading failed for package 'stJoincount'
* removing 'E:/biocbuild/bbs-3.21-bioc/tmpdir/RtmpQDblA6/Rinstf3fc355610c3/stJoincount'
      -----------------------------------
ERROR: package installation failed