Back to Multiple platform build/check report for BioC 3.21: simplified long |
|
This page was generated on 2025-04-28 13:02 -0400 (Mon, 28 Apr 2025).
Hostname | OS | Arch (*) | R version | Installed pkgs |
---|---|---|---|---|
nebbiolo1 | Linux (Ubuntu 24.04.1 LTS) | x86_64 | 4.5.0 RC (2025-04-04 r88126) -- "How About a Twenty-Six" | 4832 |
palomino7 | Windows Server 2022 Datacenter | x64 | 4.5.0 RC (2025-04-04 r88126 ucrt) -- "How About a Twenty-Six" | 4574 |
merida1 | macOS 12.7.5 Monterey | x86_64 | 4.5.0 RC (2025-04-04 r88126) -- "How About a Twenty-Six" | 4558 |
kjohnson1 | macOS 13.6.6 Ventura | arm64 | 4.5.0 RC (2025-04-04 r88129) -- "How About a Twenty-Six" | 4553 |
Click on any hostname to see more info about the system (e.g. compilers) (*) as reported by 'uname -p', except on Windows and Mac OS X |
Package 2051/2341 | Hostname | OS / Arch | INSTALL | BUILD | CHECK | BUILD BIN | ||||||||
sparseMatrixStats 1.20.0 (landing page) Constantin Ahlmann-Eltze
| nebbiolo1 | Linux (Ubuntu 24.04.1 LTS) / x86_64 | OK | OK | OK | ![]() | ||||||||
palomino7 | Windows Server 2022 Datacenter / x64 | OK | OK | OK | OK | ![]() | ||||||||
merida1 | macOS 12.7.5 Monterey / x86_64 | OK | OK | OK | ERROR | |||||||||
kjohnson1 | macOS 13.6.6 Ventura / arm64 | OK | OK | OK | ERROR | |||||||||
To the developers/maintainers of the sparseMatrixStats package: - Allow up to 24 hours (and sometimes 48 hours) for your latest push to git@git.bioconductor.org:packages/sparseMatrixStats.git to reflect on this report. See Troubleshooting Build Report for more information. - Use the following Renviron settings to reproduce errors and warnings. - If 'R CMD check' started to fail recently on the Linux builder(s) over a missing dependency, add the missing dependency to 'Suggests:' in your DESCRIPTION file. See Renviron.bioc for more information. |
Package: sparseMatrixStats |
Version: 1.20.0 |
Command: rm -rf sparseMatrixStats.buildbin-libdir && mkdir sparseMatrixStats.buildbin-libdir && /Users/biocbuild/BBS/utils/build-universal.sh sparseMatrixStats_1.20.0.tar.gz /Library/Frameworks/R.framework/Resources/bin/R sparseMatrixStats.buildbin-libdir |
StartedAt: 2025-04-26 19:21:20 -0400 (Sat, 26 Apr 2025) |
EndedAt: 2025-04-26 19:21:48 -0400 (Sat, 26 Apr 2025) |
EllapsedTime: 28.3 seconds |
RetCode: 1 |
Status: ERROR |
PackageFile: None |
PackageFileSize: NA |
############################################################################## ############################################################################## ### ### Running command: ### ### rm -rf sparseMatrixStats.buildbin-libdir && mkdir sparseMatrixStats.buildbin-libdir && /Users/biocbuild/BBS/utils/build-universal.sh sparseMatrixStats_1.20.0.tar.gz /Library/Frameworks/R.framework/Resources/bin/R sparseMatrixStats.buildbin-libdir ### ############################################################################## ############################################################################## >>>>>>> >>>>>>> INSTALLATION WITH 'R CMD INSTALL --preclean --no-multiarch --library=sparseMatrixStats.buildbin-libdir sparseMatrixStats_1.20.0.tar.gz' >>>>>>> * installing *source* package ‘sparseMatrixStats’ ... ** this is package ‘sparseMatrixStats’ version ‘1.20.0’ ** using staged installation ** libs using C++ compiler: ‘Apple clang version 15.0.0 (clang-1500.0.40.1)’ using C++11 using SDK: ‘MacOSX11.3.sdk’ clang++ -arch arm64 -std=gnu++11 -I"/Library/Frameworks/R.framework/Resources/include" -DNDEBUG -I'/Library/Frameworks/R.framework/Versions/4.5-arm64/Resources/library/Rcpp/include' -I/opt/R/arm64/include -fPIC -falign-functions=64 -Wall -g -O2 -c RcppExports.cpp -o RcppExports.o clang++ -arch arm64 -std=gnu++11 -I"/Library/Frameworks/R.framework/Resources/include" -DNDEBUG -I'/Library/Frameworks/R.framework/Versions/4.5-arm64/Resources/library/Rcpp/include' -I/opt/R/arm64/include -fPIC -falign-functions=64 -Wall -g -O2 -c SparseMatrixView.cpp -o SparseMatrixView.o clang++ -arch arm64 -std=gnu++11 -I"/Library/Frameworks/R.framework/Resources/include" -DNDEBUG -I'/Library/Frameworks/R.framework/Versions/4.5-arm64/Resources/library/Rcpp/include' -I/opt/R/arm64/include -fPIC -falign-functions=64 -Wall -g -O2 -c methods.cpp -o methods.o clang++ -arch arm64 -std=gnu++11 -I"/Library/Frameworks/R.framework/Resources/include" -DNDEBUG -I'/Library/Frameworks/R.framework/Versions/4.5-arm64/Resources/library/Rcpp/include' -I/opt/R/arm64/include -fPIC -falign-functions=64 -Wall -g -O2 -c row_methods.cpp -o row_methods.o clang++ -arch arm64 -std=gnu++11 -dynamiclib -Wl,-headerpad_max_install_names -undefined dynamic_lookup -L/Library/Frameworks/R.framework/Resources/lib -L/opt/R/arm64/lib -o sparseMatrixStats.so RcppExports.o SparseMatrixView.o methods.o row_methods.o -F/Library/Frameworks/R.framework/.. -framework R installing to /Users/biocbuild/bbs-3.21-bioc/meat/sparseMatrixStats.buildbin-libdir/00LOCK-sparseMatrixStats/00new/sparseMatrixStats/libs ** R ** inst ** byte-compile and prepare package for lazy loading ** help *** installing help indices *** copying figures ** building package indices ** installing vignettes ** testing if installed package can be loaded from temporary location ** checking absolute paths in shared objects and dynamic libraries ** testing if installed package can be loaded from final location ** testing if installed package keeps a record of temporary installation path * DONE (sparseMatrixStats) >>>>>>> >>>>>>> FIXING PATHS TO DYNAMIC LIBRARIES FOR sparseMatrixStats.buildbin-libdir/sparseMatrixStats/libs/sparseMatrixStats.so >>>>>>> >>>>>>> Paths before fix: sparseMatrixStats.buildbin-libdir/sparseMatrixStats/libs/sparseMatrixStats.so: sparseMatrixStats.so (compatibility version 0.0.0, current version 0.0.0) /Library/Frameworks/R.framework/Versions/4.5-arm64/Resources/lib/libR.dylib (compatibility version 4.5.0, current version 4.5.0) /usr/lib/libc++.1.dylib (compatibility version 1.0.0, current version 905.6.0) /usr/lib/libSystem.B.dylib (compatibility version 1.0.0, current version 1292.100.5) >>>>>>> Fix with install_name_tool: install_name_tool -change "/usr/local/lib/libgcc_s.1.1.dylib" "/Library/Frameworks/R.framework/Versions/4.5-arm64/Resources/lib/libgcc_s.1.1.dylib" "sparseMatrixStats.buildbin-libdir/sparseMatrixStats/libs/sparseMatrixStats.so" install_name_tool -change "/usr/local/lib/libgfortran.5.dylib" "/Library/Frameworks/R.framework/Versions/4.5-arm64/Resources/lib/libgfortran.5.dylib" "sparseMatrixStats.buildbin-libdir/sparseMatrixStats/libs/sparseMatrixStats.so" install_name_tool -change "/usr/local/lib/libquadmath.0.dylib" "/Library/Frameworks/R.framework/Versions/4.5-arm64/Resources/lib/libquadmath.0.dylib" "sparseMatrixStats.buildbin-libdir/sparseMatrixStats/libs/sparseMatrixStats.so" >>>>>>> Paths after fix: sparseMatrixStats.buildbin-libdir/sparseMatrixStats/libs/sparseMatrixStats.so: sparseMatrixStats.so (compatibility version 0.0.0, current version 0.0.0) /Library/Frameworks/R.framework/Versions/4.5-arm64/Resources/lib/libR.dylib (compatibility version 4.5.0, current version 4.5.0) /usr/lib/libc++.1.dylib (compatibility version 1.0.0, current version 905.6.0) /usr/lib/libSystem.B.dylib (compatibility version 1.0.0, current version 1292.100.5) chown: sparseMatrixStats.buildbin-libdir/sparseMatrixStats/LICENSE: Operation not permitted chown: sparseMatrixStats.buildbin-libdir/sparseMatrixStats/R/sparseMatrixStats.rdx: Operation not permitted chown: sparseMatrixStats.buildbin-libdir/sparseMatrixStats/R/sparseMatrixStats.rdb: Operation not permitted chown: sparseMatrixStats.buildbin-libdir/sparseMatrixStats/R/sparseMatrixStats: Operation not permitted chown: sparseMatrixStats.buildbin-libdir/sparseMatrixStats/R: Operation not permitted chown: sparseMatrixStats.buildbin-libdir/sparseMatrixStats/Meta/vignette.rds: Operation not permitted chown: sparseMatrixStats.buildbin-libdir/sparseMatrixStats/Meta/links.rds: Operation not permitted chown: sparseMatrixStats.buildbin-libdir/sparseMatrixStats/Meta/features.rds: Operation not permitted chown: sparseMatrixStats.buildbin-libdir/sparseMatrixStats/Meta/nsInfo.rds: Operation not permitted chown: sparseMatrixStats.buildbin-libdir/sparseMatrixStats/Meta/package.rds: Operation not permitted chown: sparseMatrixStats.buildbin-libdir/sparseMatrixStats/Meta/hsearch.rds: Operation not permitted chown: sparseMatrixStats.buildbin-libdir/sparseMatrixStats/Meta/Rd.rds: Operation not permitted chown: sparseMatrixStats.buildbin-libdir/sparseMatrixStats/Meta: Operation not permitted chown: sparseMatrixStats.buildbin-libdir/sparseMatrixStats/NAMESPACE: Operation not permitted chown: sparseMatrixStats.buildbin-libdir/sparseMatrixStats/html/R.css: Operation not permitted chown: sparseMatrixStats.buildbin-libdir/sparseMatrixStats/html/00Index.html: Operation not permitted chown: sparseMatrixStats.buildbin-libdir/sparseMatrixStats/html: Operation not permitted chown: sparseMatrixStats.buildbin-libdir/sparseMatrixStats/libs/sparseMatrixStats.so: Operation not permitted chown: sparseMatrixStats.buildbin-libdir/sparseMatrixStats/libs: Operation not permitted chown: sparseMatrixStats.buildbin-libdir/sparseMatrixStats/DESCRIPTION: Operation not permitted chown: sparseMatrixStats.buildbin-libdir/sparseMatrixStats/NEWS: Operation not permitted chown: sparseMatrixStats.buildbin-libdir/sparseMatrixStats/INDEX: Operation not permitted chown: sparseMatrixStats.buildbin-libdir/sparseMatrixStats/doc/index.html: Operation not permitted chown: sparseMatrixStats.buildbin-libdir/sparseMatrixStats/doc/sparseMatrixStats.Rmd: Operation not permitted chown: sparseMatrixStats.buildbin-libdir/sparseMatrixStats/doc/sparseMatrixStats.R: Operation not permitted chown: sparseMatrixStats.buildbin-libdir/sparseMatrixStats/doc/sparseMatrixStats.html: Operation not permitted chown: sparseMatrixStats.buildbin-libdir/sparseMatrixStats/doc: Operation not permitted chown: sparseMatrixStats.buildbin-libdir/sparseMatrixStats/help/AnIndex: Operation not permitted chown: sparseMatrixStats.buildbin-libdir/sparseMatrixStats/help/aliases.rds: Operation not permitted chown: sparseMatrixStats.buildbin-libdir/sparseMatrixStats/help/sparseMatrixStats.rdx: Operation not permitted chown: sparseMatrixStats.buildbin-libdir/sparseMatrixStats/help/sparseMatrixStats.rdb: Operation not permitted chown: sparseMatrixStats.buildbin-libdir/sparseMatrixStats/help/paths.rds: Operation not permitted chown: sparseMatrixStats.buildbin-libdir/sparseMatrixStats/help/figures/logo.png: Operation not permitted chown: sparseMatrixStats.buildbin-libdir/sparseMatrixStats/help/figures/logo.svg: Operation not permitted chown: sparseMatrixStats.buildbin-libdir/sparseMatrixStats/help/figures: Operation not permitted chown: sparseMatrixStats.buildbin-libdir/sparseMatrixStats/help: Operation not permitted chown: sparseMatrixStats.buildbin-libdir/sparseMatrixStats: Operation not permitted