Back to Multiple platform build/check report for BioC 3.21: simplified long |
|
This page was generated on 2025-04-24 13:02 -0400 (Thu, 24 Apr 2025).
Hostname | OS | Arch (*) | R version | Installed pkgs |
---|---|---|---|---|
nebbiolo1 | Linux (Ubuntu 24.04.1 LTS) | x86_64 | 4.5.0 RC (2025-04-04 r88126) -- "How About a Twenty-Six" | 4831 |
palomino7 | Windows Server 2022 Datacenter | x64 | 4.5.0 RC (2025-04-04 r88126 ucrt) -- "How About a Twenty-Six" | 4573 |
Click on any hostname to see more info about the system (e.g. compilers) (*) as reported by 'uname -p', except on Windows and Mac OS X |
Package 1867/2341 | Hostname | OS / Arch | INSTALL | BUILD | CHECK | BUILD BIN | ||||||||
sagenhaft 1.78.0 (landing page) Tim Beissbarth
| nebbiolo1 | Linux (Ubuntu 24.04.1 LTS) / x86_64 | OK | OK | WARNINGS | ![]() | ||||||||
palomino7 | Windows Server 2022 Datacenter / x64 | OK | OK | WARNINGS | OK | ![]() | ||||||||
To the developers/maintainers of the sagenhaft package: - Allow up to 24 hours (and sometimes 48 hours) for your latest push to git@git.bioconductor.org:packages/sagenhaft.git to reflect on this report. See Troubleshooting Build Report for more information. - Use the following Renviron settings to reproduce errors and warnings. - If 'R CMD check' started to fail recently on the Linux builder(s) over a missing dependency, add the missing dependency to 'Suggests:' in your DESCRIPTION file. See Renviron.bioc for more information. |
Package: sagenhaft |
Version: 1.78.0 |
Command: chmod a+r sagenhaft -R && E:\biocbuild\bbs-3.21-bioc\R\bin\R.exe CMD build --keep-empty-dirs --no-resave-data sagenhaft |
StartedAt: 2025-04-22 22:03:43 -0400 (Tue, 22 Apr 2025) |
EndedAt: 2025-04-22 22:04:29 -0400 (Tue, 22 Apr 2025) |
EllapsedTime: 46.5 seconds |
RetCode: 0 |
Status: OK |
PackageFile: sagenhaft_1.78.0.tar.gz |
PackageFileSize: 2.5 MiB |
############################################################################## ############################################################################## ### ### Running command: ### ### chmod a+r sagenhaft -R && E:\biocbuild\bbs-3.21-bioc\R\bin\R.exe CMD build --keep-empty-dirs --no-resave-data sagenhaft ### ############################################################################## ############################################################################## * checking for file 'sagenhaft/DESCRIPTION' ... OK * preparing 'sagenhaft': * checking DESCRIPTION meta-information ... OK * installing the package to build vignettes * creating vignettes ... OK * checking for LF line-endings in source and make files and shell scripts * checking for empty or unneeded directories * looking to see if a 'data/datalist' file should be added * building 'sagenhaft_1.78.0.tar.gz'