Back to Multiple platform build/check report for BioC 3.21: simplified long |
|
This page was generated on 2025-04-28 13:43 -0400 (Mon, 28 Apr 2025).
Hostname | OS | Arch (*) | R version | Installed pkgs |
---|---|---|---|---|
nebbiolo1 | Linux (Ubuntu 24.04.1 LTS) | x86_64 | 4.5.0 RC (2025-04-04 r88126) -- "How About a Twenty-Six" | 4832 |
palomino7 | Windows Server 2022 Datacenter | x64 | 4.5.0 RC (2025-04-04 r88126 ucrt) -- "How About a Twenty-Six" | 4574 |
Click on any hostname to see more info about the system (e.g. compilers) (*) as reported by 'uname -p', except on Windows and Mac OS X |
Package 1773/2341 | Hostname | OS / Arch | INSTALL | BUILD | CHECK | BUILD BIN | ||||||||
rgsepd 1.40.0 (landing page) Karl Stamm
| nebbiolo1 | Linux (Ubuntu 24.04.1 LTS) / x86_64 | OK | OK | OK | ![]() | ||||||||
palomino7 | Windows Server 2022 Datacenter / x64 | OK | OK | OK | OK | ![]() | ||||||||
To the developers/maintainers of the rgsepd package: - Allow up to 24 hours (and sometimes 48 hours) for your latest push to git@git.bioconductor.org:packages/rgsepd.git to reflect on this report. See Troubleshooting Build Report for more information. - Use the following Renviron settings to reproduce errors and warnings. - If 'R CMD check' started to fail recently on the Linux builder(s) over a missing dependency, add the missing dependency to 'Suggests:' in your DESCRIPTION file. See Renviron.bioc for more information. |
Package: rgsepd |
Version: 1.40.0 |
Command: /home/biocbuild/bbs-3.21-bioc/R/bin/R CMD check --install=check:rgsepd.install-out.txt --library=/home/biocbuild/bbs-3.21-bioc/R/site-library --timings rgsepd_1.40.0.tar.gz |
StartedAt: 2025-04-28 02:32:16 -0400 (Mon, 28 Apr 2025) |
EndedAt: 2025-04-28 02:41:18 -0400 (Mon, 28 Apr 2025) |
EllapsedTime: 542.0 seconds |
RetCode: 0 |
Status: OK |
CheckDir: rgsepd.Rcheck |
Warnings: 0 |
############################################################################## ############################################################################## ### ### Running command: ### ### /home/biocbuild/bbs-3.21-bioc/R/bin/R CMD check --install=check:rgsepd.install-out.txt --library=/home/biocbuild/bbs-3.21-bioc/R/site-library --timings rgsepd_1.40.0.tar.gz ### ############################################################################## ############################################################################## * using log directory ‘/home/biocbuild/bbs-3.21-bioc/meat/rgsepd.Rcheck’ * using R version 4.5.0 RC (2025-04-04 r88126) * using platform: x86_64-pc-linux-gnu * R was compiled by gcc (Ubuntu 13.3.0-6ubuntu2~24.04) 13.3.0 GNU Fortran (Ubuntu 13.3.0-6ubuntu2~24.04) 13.3.0 * running under: Ubuntu 24.04.2 LTS * using session charset: UTF-8 * checking for file ‘rgsepd/DESCRIPTION’ ... OK * checking extension type ... Package * this is package ‘rgsepd’ version ‘1.40.0’ * checking package namespace information ... OK * checking package dependencies ... OK * checking if this is a source package ... OK * checking if there is a namespace ... OK * checking for hidden files and directories ... OK * checking for portable file names ... OK * checking for sufficient/correct file permissions ... OK * checking whether package ‘rgsepd’ can be installed ... OK * checking installed package size ... OK * checking package directory ... OK * checking ‘build’ directory ... OK * checking DESCRIPTION meta-information ... OK * checking top-level files ... OK * checking for left-over files ... OK * checking index information ... OK * checking package subdirectories ... NOTE Problems with news in ‘NEWS’: Cannot process chunk/lines: Rebuilt for R 3.2.2 * checking code files for non-ASCII characters ... OK * checking R files for syntax errors ... OK * checking whether the package can be loaded ... OK * checking whether the package can be loaded with stated dependencies ... OK * checking whether the package can be unloaded cleanly ... OK * checking whether the namespace can be loaded with stated dependencies ... OK * checking whether the namespace can be unloaded cleanly ... OK * checking loading without being on the library search path ... OK * checking whether startup messages can be suppressed ... NOTE 'select()' returned 1:1 mapping between keys and columns 'select()' returned 1:1 mapping between keys and columns It looks like this package (or a package it requires) has a startup message which cannot be suppressed: see ?packageStartupMessage. * checking dependencies in R code ... OK * checking S3 generic/method consistency ... OK * checking replacement functions ... OK * checking foreign function calls ... OK * checking R code for possible problems ... OK * checking Rd files ... OK * checking Rd metadata ... OK * checking Rd cross-references ... OK * checking for missing documentation entries ... OK * checking for code/documentation mismatches ... OK * checking Rd \usage sections ... OK * checking Rd contents ... OK * checking for unstated dependencies in examples ... OK * checking contents of ‘data’ directory ... OK * checking data for non-ASCII characters ... OK * checking data for ASCII and uncompressed saves ... OK * checking files in ‘vignettes’ ... OK * checking examples ... OK Examples with CPU (user + system) or elapsed time > 5s user system elapsed ExtractProjection 56.803 1.138 57.939 * checking for unstated dependencies in vignettes ... OK * checking package vignettes ... OK * checking re-building of vignette outputs ... OK * checking PDF version of manual ... OK * DONE Status: 2 NOTEs See ‘/home/biocbuild/bbs-3.21-bioc/meat/rgsepd.Rcheck/00check.log’ for details.
rgsepd.Rcheck/00install.out
############################################################################## ############################################################################## ### ### Running command: ### ### /home/biocbuild/bbs-3.21-bioc/R/bin/R CMD INSTALL rgsepd ### ############################################################################## ############################################################################## * installing to library ‘/home/biocbuild/bbs-3.21-bioc/R/site-library’ * installing *source* package ‘rgsepd’ ... ** this is package ‘rgsepd’ version ‘1.40.0’ ** using staged installation ** R ** data ** inst ** byte-compile and prepare package for lazy loading ** help *** installing help indices ** building package indices ** installing vignettes ** testing if installed package can be loaded from temporary location 'select()' returned 1:1 mapping between keys and columns 'select()' returned 1:1 mapping between keys and columns ** testing if installed package can be loaded from final location 'select()' returned 1:1 mapping between keys and columns 'select()' returned 1:1 mapping between keys and columns ** testing if installed package keeps a record of temporary installation path * DONE (rgsepd)
rgsepd.Rcheck/rgsepd-Ex.timings
name | user | system | elapsed | |
DisplayName | 0.001 | 0.000 | 0.002 | |
ExtractProjection | 56.803 | 1.138 | 57.939 | |
GSEPD_ChangeConditions | 0.248 | 0.000 | 0.248 | |
GSEPD_ChangeOutput | 0.243 | 0.003 | 0.245 | |
GSEPD_DEGHeatmap | 3.021 | 0.009 | 3.030 | |
GSEPD_Export_DESeq | 0.631 | 0.003 | 0.634 | |
GSEPD_Heatmap | 1.828 | 0.004 | 1.832 | |
GSEPD_INIT | 0.250 | 0.003 | 0.252 | |
GSEPD_PCA_Plot | 1.912 | 0.001 | 1.912 | |
GSEPD_PCA_Spec | 1.939 | 0.001 | 1.940 | |
GSEPD_Process | 0.246 | 0.002 | 0.248 | |
GSEPD_ProcessAll | 0.247 | 0.002 | 0.249 | |
GSEPD_PullDEG | 1.855 | 0.003 | 1.859 | |
IlluminaBodymap | 0.237 | 0.005 | 0.242 | |
IlluminaBodymapMeta | 0.008 | 0.001 | 0.009 | |
Name_to_RefSeq | 0.000 | 0.000 | 0.001 | |
rgsepd-package | 0.244 | 0.004 | 0.248 | |