Back to Multiple platform build/check report for BioC 3.21:   simplified   long
ABCDEFGHIJKLMNOPQ[R]STUVWXYZ

This page was generated on 2025-04-28 13:43 -0400 (Mon, 28 Apr 2025).

HostnameOSArch (*)R versionInstalled pkgs
nebbiolo1Linux (Ubuntu 24.04.1 LTS)x86_644.5.0 RC (2025-04-04 r88126) -- "How About a Twenty-Six" 4832
palomino7Windows Server 2022 Datacenterx644.5.0 RC (2025-04-04 r88126 ucrt) -- "How About a Twenty-Six" 4574
Click on any hostname to see more info about the system (e.g. compilers)      (*) as reported by 'uname -p', except on Windows and Mac OS X

Package 1748/2341HostnameOS / ArchINSTALLBUILDCHECKBUILD BIN
regionReport 1.42.0  (landing page)
Leonardo Collado-Torres
Snapshot Date: 2025-04-24 15:01 -0400 (Thu, 24 Apr 2025)
git_url: https://git.bioconductor.org/packages/regionReport
git_branch: RELEASE_3_21
git_last_commit: f7c01f7
git_last_commit_date: 2025-04-15 10:34:50 -0400 (Tue, 15 Apr 2025)
nebbiolo1Linux (Ubuntu 24.04.1 LTS) / x86_64  OK    OK    OK  UNNEEDED, same version is already published
palomino7Windows Server 2022 Datacenter / x64  OK    OK    OK    OK  UNNEEDED, same version is already published


BUILD results for regionReport on palomino7

To the developers/maintainers of the regionReport package:
- Allow up to 24 hours (and sometimes 48 hours) for your latest push to git@git.bioconductor.org:packages/regionReport.git to reflect on this report. See Troubleshooting Build Report for more information.
- Use the following Renviron settings to reproduce errors and warnings.
- If 'R CMD check' started to fail recently on the Linux builder(s) over a missing dependency, add the missing dependency to 'Suggests:' in your DESCRIPTION file. See Renviron.bioc for more information.

raw results


Summary

Package: regionReport
Version: 1.42.0
Command: chmod a+r regionReport -R && E:\biocbuild\bbs-3.21-bioc\R\bin\R.exe CMD build --keep-empty-dirs --no-resave-data regionReport
StartedAt: 2025-04-24 23:02:31 -0400 (Thu, 24 Apr 2025)
EndedAt: 2025-04-24 23:04:09 -0400 (Thu, 24 Apr 2025)
EllapsedTime: 98.3 seconds
RetCode: 0
Status:   OK  
PackageFile: regionReport_1.42.0.tar.gz
PackageFileSize: 644.4 KiB

Command output

##############################################################################
##############################################################################
###
### Running command:
###
###   chmod a+r regionReport -R && E:\biocbuild\bbs-3.21-bioc\R\bin\R.exe CMD build --keep-empty-dirs --no-resave-data regionReport
###
##############################################################################
##############################################################################


* checking for file 'regionReport/DESCRIPTION' ... OK
* preparing 'regionReport':
* checking DESCRIPTION meta-information ... OK
* installing the package to build vignettes
* creating vignettes ... OK
* checking for LF line-endings in source and make files and shell scripts
* checking for empty or unneeded directories
Omitted 'LazyData' from DESCRIPTION
* building 'regionReport_1.42.0.tar.gz'