Back to Multiple platform build/check report for BioC 3.21:   simplified   long
ABCDEFGHIJKL[M]NOPQRSTUVWXYZ

This page was generated on 2025-04-24 13:02 -0400 (Thu, 24 Apr 2025).

HostnameOSArch (*)R versionInstalled pkgs
nebbiolo1Linux (Ubuntu 24.04.1 LTS)x86_644.5.0 RC (2025-04-04 r88126) -- "How About a Twenty-Six" 4831
palomino7Windows Server 2022 Datacenterx644.5.0 RC (2025-04-04 r88126 ucrt) -- "How About a Twenty-Six" 4573
Click on any hostname to see more info about the system (e.g. compilers)      (*) as reported by 'uname -p', except on Windows and Mac OS X

Package 1409/2341HostnameOS / ArchINSTALLBUILDCHECKBUILD BIN
muscat 1.22.0  (landing page)
Helena L. Crowell
Snapshot Date: 2025-04-22 13:40 -0400 (Tue, 22 Apr 2025)
git_url: https://git.bioconductor.org/packages/muscat
git_branch: RELEASE_3_21
git_last_commit: 2d15314
git_last_commit_date: 2025-04-15 11:49:19 -0400 (Tue, 15 Apr 2025)
nebbiolo1Linux (Ubuntu 24.04.1 LTS) / x86_64  OK    OK    OK  UNNEEDED, same version is already published
palomino7Windows Server 2022 Datacenter / x64  OK    OK    OK    OK  UNNEEDED, same version is already published


CHECK results for muscat on nebbiolo1

To the developers/maintainers of the muscat package:
- Allow up to 24 hours (and sometimes 48 hours) for your latest push to git@git.bioconductor.org:packages/muscat.git to reflect on this report. See Troubleshooting Build Report for more information.
- Use the following Renviron settings to reproduce errors and warnings.
- If 'R CMD check' started to fail recently on the Linux builder(s) over a missing dependency, add the missing dependency to 'Suggests:' in your DESCRIPTION file. See Renviron.bioc for more information.

raw results


Summary

Package: muscat
Version: 1.22.0
Command: /home/biocbuild/bbs-3.21-bioc/R/bin/R CMD check --install=check:muscat.install-out.txt --library=/home/biocbuild/bbs-3.21-bioc/R/site-library --timings muscat_1.22.0.tar.gz
StartedAt: 2025-04-24 00:46:37 -0400 (Thu, 24 Apr 2025)
EndedAt: 2025-04-24 00:57:41 -0400 (Thu, 24 Apr 2025)
EllapsedTime: 664.1 seconds
RetCode: 0
Status:   OK  
CheckDir: muscat.Rcheck
Warnings: 0

Command output

##############################################################################
##############################################################################
###
### Running command:
###
###   /home/biocbuild/bbs-3.21-bioc/R/bin/R CMD check --install=check:muscat.install-out.txt --library=/home/biocbuild/bbs-3.21-bioc/R/site-library --timings muscat_1.22.0.tar.gz
###
##############################################################################
##############################################################################


* using log directory ‘/home/biocbuild/bbs-3.21-bioc/meat/muscat.Rcheck’
* using R version 4.5.0 RC (2025-04-04 r88126)
* using platform: x86_64-pc-linux-gnu
* R was compiled by
    gcc (Ubuntu 13.3.0-6ubuntu2~24.04) 13.3.0
    GNU Fortran (Ubuntu 13.3.0-6ubuntu2~24.04) 13.3.0
* running under: Ubuntu 24.04.2 LTS
* using session charset: UTF-8
* checking for file ‘muscat/DESCRIPTION’ ... OK
* checking extension type ... Package
* this is package ‘muscat’ version ‘1.22.0’
* package encoding: UTF-8
* checking package namespace information ... OK
* checking package dependencies ... INFO
Imports includes 26 non-default packages.
Importing from so many packages makes the package vulnerable to any of
them becoming unavailable.  Move as many as possible to Suggests and
use conditionally.
* checking if this is a source package ... OK
* checking if there is a namespace ... OK
* checking for hidden files and directories ... OK
* checking for portable file names ... OK
* checking for sufficient/correct file permissions ... OK
* checking whether package ‘muscat’ can be installed ... OK
* checking installed package size ... OK
* checking package directory ... OK
* checking ‘build’ directory ... OK
* checking DESCRIPTION meta-information ... OK
* checking top-level files ... OK
* checking for left-over files ... OK
* checking index information ... OK
* checking package subdirectories ... OK
* checking code files for non-ASCII characters ... OK
* checking R files for syntax errors ... OK
* checking whether the package can be loaded ... OK
* checking whether the package can be loaded with stated dependencies ... OK
* checking whether the package can be unloaded cleanly ... OK
* checking whether the namespace can be loaded with stated dependencies ... OK
* checking whether the namespace can be unloaded cleanly ... OK
* checking loading without being on the library search path ... OK
* checking dependencies in R code ... OK
* checking S3 generic/method consistency ... OK
* checking replacement functions ... OK
* checking foreign function calls ... OK
* checking R code for possible problems ... NOTE
pbHeatmap: no visible binding for global variable ‘gene’
pbHeatmap: no visible binding for global variable ‘p_adj.loc’
pbHeatmap: no visible binding for global variable ‘logFC’
Undefined global functions or variables:
  gene logFC p_adj.loc
* checking Rd files ... OK
* checking Rd metadata ... OK
* checking Rd cross-references ... NOTE
Non-topic package-anchored link(s) in Rd file 'mmDS.Rd':
  ‘[limma:dupcor]{duplicateCorrelation}’

See section 'Cross-references' in the 'Writing R Extensions' manual.

Found the following Rd file(s) with Rd \link{} targets missing package
anchors:
  pbHeatmap.Rd: HeatmapList-class
  prepSCE.Rd: SingleCellExperiment-class
Please provide package anchors for all Rd \link{} targets not in the
package itself and the base packages.
* checking for missing documentation entries ... OK
* checking for code/documentation mismatches ... OK
* checking Rd \usage sections ... OK
* checking Rd contents ... OK
* checking for unstated dependencies in examples ... OK
* checking contents of ‘data’ directory ... OK
* checking data for non-ASCII characters ... OK
* checking data for ASCII and uncompressed saves ... OK
* checking files in ‘vignettes’ ... OK
* checking examples ... OK
Examples with CPU (user + system) or elapsed time > 5s
           user system elapsed
mmDS      7.606  0.186   7.792
simData   6.327  0.048   6.377
pbHeatmap 6.129  0.172   6.285
* checking for unstated dependencies in ‘tests’ ... OK
* checking tests ...
  Running ‘testthat.R’
 OK
* checking for unstated dependencies in vignettes ... OK
* checking package vignettes ... OK
* checking re-building of vignette outputs ... OK
* checking PDF version of manual ... OK
* DONE

Status: 2 NOTEs
See
  ‘/home/biocbuild/bbs-3.21-bioc/meat/muscat.Rcheck/00check.log’
for details.


Installation output

muscat.Rcheck/00install.out

##############################################################################
##############################################################################
###
### Running command:
###
###   /home/biocbuild/bbs-3.21-bioc/R/bin/R CMD INSTALL muscat
###
##############################################################################
##############################################################################


* installing to library ‘/home/biocbuild/bbs-3.21-bioc/R/site-library’
* installing *source* package ‘muscat’ ...
** this is package ‘muscat’ version ‘1.22.0’
** using staged installation
** R
** data
** inst
** byte-compile and prepare package for lazy loading
** help
*** installing help indices
** building package indices
** installing vignettes
** testing if installed package can be loaded from temporary location
** testing if installed package can be loaded from final location
** testing if installed package keeps a record of temporary installation path
* DONE (muscat)

Tests output

muscat.Rcheck/tests/testthat.Rout


R version 4.5.0 RC (2025-04-04 r88126) -- "How About a Twenty-Six"
Copyright (C) 2025 The R Foundation for Statistical Computing
Platform: x86_64-pc-linux-gnu

R is free software and comes with ABSOLUTELY NO WARRANTY.
You are welcome to redistribute it under certain conditions.
Type 'license()' or 'licence()' for distribution details.

R is a collaborative project with many contributors.
Type 'contributors()' for more information and
'citation()' on how to cite R or R packages in publications.

Type 'demo()' for some demos, 'help()' for on-line help, or
'help.start()' for an HTML browser interface to help.
Type 'q()' to quit R.

> library(testthat)
> library(muscat)
> 
> test_check("muscat")
[ FAIL 0 | WARN 0 | SKIP 0 | PASS 555 ]
> 
> proc.time()
   user  system elapsed 
 92.398   1.605  93.888 

Example timings

muscat.Rcheck/muscat-Ex.timings

nameusersystemelapsed
aggregateData1.8250.1441.969
calcExprFreqs0.4310.0280.452
data000
mmDS7.6060.1867.792
pbDS1.9450.0371.982
pbFlatten0.6340.0430.677
pbHeatmap6.1290.1726.285
pbMDS0.7030.0130.715
prepSCE0.3560.0090.365
prepSim4.6600.0904.751
resDS2.9860.1193.082
simData6.3270.0486.377
stagewise_DS_DD4.3700.0304.401