Back to Multiple platform build/check report for BioC 3.21:   simplified   long
ABCDEFGHIJK[L]MNOPQRSTUVWXYZ

This page was generated on 2025-05-01 11:42 -0400 (Thu, 01 May 2025).

HostnameOSArch (*)R versionInstalled pkgs
nebbiolo1Linux (Ubuntu 24.04.1 LTS)x86_644.5.0 RC (2025-04-04 r88126) -- "How About a Twenty-Six" 4832
palomino7Windows Server 2022 Datacenterx644.5.0 RC (2025-04-04 r88126 ucrt) -- "How About a Twenty-Six" 4574
merida1macOS 12.7.5 Montereyx86_644.5.0 RC (2025-04-04 r88126) -- "How About a Twenty-Six" 4599
kjohnson1macOS 13.6.6 Venturaarm644.5.0 RC (2025-04-04 r88129) -- "How About a Twenty-Six" 4553
Click on any hostname to see more info about the system (e.g. compilers)      (*) as reported by 'uname -p', except on Windows and Mac OS X

Package 1127/2341HostnameOS / ArchINSTALLBUILDCHECKBUILD BIN
limpca 1.4.0  (landing page)
Manon Martin
Snapshot Date: 2025-04-28 17:48 -0400 (Mon, 28 Apr 2025)
git_url: https://git.bioconductor.org/packages/limpca
git_branch: RELEASE_3_21
git_last_commit: 4fbe988
git_last_commit_date: 2025-04-15 13:35:42 -0400 (Tue, 15 Apr 2025)
nebbiolo1Linux (Ubuntu 24.04.1 LTS) / x86_64  OK    OK    OK  UNNEEDED, same version is already published
palomino7Windows Server 2022 Datacenter / x64  OK    OK    OK    OK  UNNEEDED, same version is already published
merida1macOS 12.7.5 Monterey / x86_64  OK    OK    OK    OK  UNNEEDED, same version is already published
kjohnson1macOS 13.6.6 Ventura / arm64  OK    OK    OK    OK  UNNEEDED, same version is already published


CHECK results for limpca on merida1

To the developers/maintainers of the limpca package:
- Allow up to 24 hours (and sometimes 48 hours) for your latest push to git@git.bioconductor.org:packages/limpca.git to reflect on this report. See Troubleshooting Build Report for more information.
- Use the following Renviron settings to reproduce errors and warnings.
- If 'R CMD check' started to fail recently on the Linux builder(s) over a missing dependency, add the missing dependency to 'Suggests:' in your DESCRIPTION file. See Renviron.bioc for more information.

raw results


Summary

Package: limpca
Version: 1.4.0
Command: /Library/Frameworks/R.framework/Resources/bin/R CMD check --install=check:limpca.install-out.txt --library=/Library/Frameworks/R.framework/Resources/library --no-vignettes --timings limpca_1.4.0.tar.gz
StartedAt: 2025-04-29 08:46:25 -0400 (Tue, 29 Apr 2025)
EndedAt: 2025-04-29 08:54:24 -0400 (Tue, 29 Apr 2025)
EllapsedTime: 479.1 seconds
RetCode: 0
Status:   OK  
CheckDir: limpca.Rcheck
Warnings: 0

Command output

##############################################################################
##############################################################################
###
### Running command:
###
###   /Library/Frameworks/R.framework/Resources/bin/R CMD check --install=check:limpca.install-out.txt --library=/Library/Frameworks/R.framework/Resources/library --no-vignettes --timings limpca_1.4.0.tar.gz
###
##############################################################################
##############################################################################


* using log directory ‘/Users/biocbuild/bbs-3.21-bioc/meat/limpca.Rcheck’
* using R version 4.5.0 RC (2025-04-04 r88126)
* using platform: x86_64-apple-darwin20
* R was compiled by
    Apple clang version 14.0.0 (clang-1400.0.29.202)
    GNU Fortran (GCC) 14.2.0
* running under: macOS Monterey 12.7.6
* using session charset: UTF-8
* using option ‘--no-vignettes’
* checking for file ‘limpca/DESCRIPTION’ ... OK
* checking extension type ... Package
* this is package ‘limpca’ version ‘1.4.0’
* package encoding: UTF-8
* checking package namespace information ... OK
* checking package dependencies ... OK
* checking if this is a source package ... OK
* checking if there is a namespace ... OK
* checking for hidden files and directories ... OK
* checking for portable file names ... OK
* checking for sufficient/correct file permissions ... OK
* checking whether package ‘limpca’ can be installed ... OK
* checking installed package size ... OK
* checking package directory ... OK
* checking ‘build’ directory ... OK
* checking DESCRIPTION meta-information ... OK
* checking top-level files ... OK
* checking for left-over files ... OK
* checking index information ... OK
* checking package subdirectories ... OK
* checking code files for non-ASCII characters ... OK
* checking R files for syntax errors ... OK
* checking whether the package can be loaded ... OK
* checking whether the package can be loaded with stated dependencies ... OK
* checking whether the package can be unloaded cleanly ... OK
* checking whether the namespace can be loaded with stated dependencies ... OK
* checking whether the namespace can be unloaded cleanly ... OK
* checking dependencies in R code ... OK
* checking S3 generic/method consistency ... OK
* checking replacement functions ... OK
* checking foreign function calls ... OK
* checking R code for possible problems ... OK
* checking Rd files ... OK
* checking Rd metadata ... OK
* checking Rd cross-references ... NOTE
Found the following Rd file(s) with Rd \link{} targets missing package
anchors:
  data2lmpDataList.Rd: SummarizedExperiment, colData
Please provide package anchors for all Rd \link{} targets not in the
package itself and the base packages.
* checking for missing documentation entries ... OK
* checking for code/documentation mismatches ... OK
* checking Rd \usage sections ... OK
* checking Rd contents ... OK
* checking for unstated dependencies in examples ... OK
* checking contents of ‘data’ directory ... OK
* checking data for non-ASCII characters ... OK
* checking data for ASCII and uncompressed saves ... OK
* checking files in ‘vignettes’ ... OK
* checking examples ... OK
Examples with CPU (user + system) or elapsed time > 5s
                    user system elapsed
lmpBootstrapTests 28.296  6.936  23.515
lmpLoading1dPlot   8.480  0.108   9.164
plotDesign         7.728  0.074   8.443
plotLine           6.542  0.061   7.203
plotScatter        4.810  0.047   5.368
lmpLoading2dPlot   4.800  0.049   5.164
* checking for unstated dependencies in ‘tests’ ... OK
* checking tests ...
  Running ‘testthat.R’
 OK
* checking for unstated dependencies in vignettes ... OK
* checking package vignettes ... OK
* checking running R code from vignettes ... SKIPPED
* checking re-building of vignette outputs ... SKIPPED
* checking PDF version of manual ... OK
* DONE

Status: 1 NOTE
See
  ‘/Users/biocbuild/bbs-3.21-bioc/meat/limpca.Rcheck/00check.log’
for details.


Installation output

limpca.Rcheck/00install.out

##############################################################################
##############################################################################
###
### Running command:
###
###   /Library/Frameworks/R.framework/Resources/bin/R CMD INSTALL limpca
###
##############################################################################
##############################################################################


* installing to library ‘/Library/Frameworks/R.framework/Versions/4.5-x86_64/Resources/library’
* installing *source* package ‘limpca’ ...
** this is package ‘limpca’ version ‘1.4.0’
** using staged installation
** R
** data
** inst
** byte-compile and prepare package for lazy loading
** help
*** installing help indices
** building package indices
** installing vignettes
** testing if installed package can be loaded from temporary location
** testing if installed package can be loaded from final location
** testing if installed package keeps a record of temporary installation path
* DONE (limpca)

Tests output

limpca.Rcheck/tests/testthat.Rout


R version 4.5.0 RC (2025-04-04 r88126) -- "How About a Twenty-Six"
Copyright (C) 2025 The R Foundation for Statistical Computing
Platform: x86_64-apple-darwin20

R is free software and comes with ABSOLUTELY NO WARRANTY.
You are welcome to redistribute it under certain conditions.
Type 'license()' or 'licence()' for distribution details.

R is a collaborative project with many contributors.
Type 'contributors()' for more information and
'citation()' on how to cite R or R packages in publications.

Type 'demo()' for some demos, 'help()' for on-line help, or
'help.start()' for an HTML browser interface to help.
Type 'q()' to quit R.

> # This file is part of the standard setup for testthat.
> # It is recommended that you do not modify it.
> #
> # Where should you do additional test configuration?
> # Learn more about the roles of various files in:
> # * https://r-pkgs.org/testing-design.html#sec-tests-files-overview
> # * https://testthat.r-lib.org/articles/special-files.html
> 
> library(testthat)
> library(limpca)
> 
> test_check("limpca")
| dim outcomes: 10x3
| formula: ~ factA + factB
| design variables (2): 
* factA (factor)
* factB (factor)
| dim outcomes: 10x3
| formula: ~ factA + factB
| design variables (2): 
* factA (factor)
* factB (factor)
| dim outcomes: 10x3
| formula: ~ factA + factB
| design variables (2): 
* factA (factor)
* factB (factor)
| dim outcomes: 10x3
| formula: ~ factA + factB
| design variables (2): 
* factA (factor)
* factB (factor)
| dim outcomes: 10x3
| formula: 
| design variables (2): 
* factA (factor)
* factB (factor)
[ FAIL 0 | WARN 0 | SKIP 0 | PASS 47 ]
> 
> proc.time()
   user  system elapsed 
 16.861   1.588  20.229 

Example timings

limpca.Rcheck/limpca-Ex.timings

nameusersystemelapsed
UCH0.0260.0060.033
data2lmpDataList0.5500.0280.636
lmpBootstrapTests28.296 6.93623.515
lmpContributions3.0550.4203.815
lmpEffectMatrices2.1930.0652.458
lmpEffectPlot3.7620.0694.166
lmpLoading1dPlot8.4800.1089.164
lmpLoading2dPlot4.8000.0495.164
lmpModelMatrix0.0110.0050.017
lmpPcaEffects2.0750.0232.224
lmpScorePlot3.0890.0413.362
lmpScoreScatterPlotM2.4030.0532.561
lmpScreePlot3.2120.2193.762
pcaBySvd0.0420.0040.052
pcaLoading1dPlot0.5570.0160.640
pcaLoading2dPlot2.6800.0222.984
pcaScorePlot0.9180.0171.094
pcaScreePlot0.2850.0060.314
plotDesign7.7280.0748.443
plotLine6.5420.0617.203
plotMeans2.8570.0273.123
plotScatter4.8100.0475.368
plotScatterM0.1250.0100.144
trout0.0020.0020.005