Back to Multiple platform build/check report for BioC 3.21: simplified long |
|
This page was generated on 2025-05-01 11:43 -0400 (Thu, 01 May 2025).
Hostname | OS | Arch (*) | R version | Installed pkgs |
---|---|---|---|---|
nebbiolo1 | Linux (Ubuntu 24.04.1 LTS) | x86_64 | 4.5.0 RC (2025-04-04 r88126) -- "How About a Twenty-Six" | 4832 |
palomino7 | Windows Server 2022 Datacenter | x64 | 4.5.0 RC (2025-04-04 r88126 ucrt) -- "How About a Twenty-Six" | 4574 |
merida1 | macOS 12.7.5 Monterey | x86_64 | 4.5.0 RC (2025-04-04 r88126) -- "How About a Twenty-Six" | 4599 |
kjohnson1 | macOS 13.6.6 Ventura | arm64 | 4.5.0 RC (2025-04-04 r88129) -- "How About a Twenty-Six" | 4553 |
Click on any hostname to see more info about the system (e.g. compilers) (*) as reported by 'uname -p', except on Windows and Mac OS X |
Package 880/2341 | Hostname | OS / Arch | INSTALL | BUILD | CHECK | BUILD BIN | ||||||||
ginmappeR 1.4.0 (landing page) Fernando Sola
| nebbiolo1 | Linux (Ubuntu 24.04.1 LTS) / x86_64 | OK | OK | OK | ![]() | ||||||||
palomino7 | Windows Server 2022 Datacenter / x64 | OK | OK | OK | OK | ![]() | ||||||||
merida1 | macOS 12.7.5 Monterey / x86_64 | OK | OK | OK | OK | ![]() | ||||||||
kjohnson1 | macOS 13.6.6 Ventura / arm64 | OK | OK | OK | OK | ![]() | ||||||||
To the developers/maintainers of the ginmappeR package: - Allow up to 24 hours (and sometimes 48 hours) for your latest push to git@git.bioconductor.org:packages/ginmappeR.git to reflect on this report. See Troubleshooting Build Report for more information. - Use the following Renviron settings to reproduce errors and warnings. - If 'R CMD check' started to fail recently on the Linux builder(s) over a missing dependency, add the missing dependency to 'Suggests:' in your DESCRIPTION file. See Renviron.bioc for more information. |
Package: ginmappeR |
Version: 1.4.0 |
Command: /Library/Frameworks/R.framework/Resources/bin/R CMD check --install=check:ginmappeR.install-out.txt --library=/Library/Frameworks/R.framework/Resources/library --no-vignettes --timings ginmappeR_1.4.0.tar.gz |
StartedAt: 2025-04-29 05:46:17 -0400 (Tue, 29 Apr 2025) |
EndedAt: 2025-04-29 05:49:31 -0400 (Tue, 29 Apr 2025) |
EllapsedTime: 194.0 seconds |
RetCode: 0 |
Status: OK |
CheckDir: ginmappeR.Rcheck |
Warnings: 0 |
############################################################################## ############################################################################## ### ### Running command: ### ### /Library/Frameworks/R.framework/Resources/bin/R CMD check --install=check:ginmappeR.install-out.txt --library=/Library/Frameworks/R.framework/Resources/library --no-vignettes --timings ginmappeR_1.4.0.tar.gz ### ############################################################################## ############################################################################## * using log directory ‘/Users/biocbuild/bbs-3.21-bioc/meat/ginmappeR.Rcheck’ * using R version 4.5.0 RC (2025-04-04 r88129) * using platform: aarch64-apple-darwin20 * R was compiled by Apple clang version 14.0.0 (clang-1400.0.29.202) GNU Fortran (GCC) 14.2.0 * running under: macOS Ventura 13.7.5 * using session charset: UTF-8 * using option ‘--no-vignettes’ * checking for file ‘ginmappeR/DESCRIPTION’ ... OK * checking extension type ... Package * this is package ‘ginmappeR’ version ‘1.4.0’ * package encoding: UTF-8 * checking package namespace information ... OK * checking package dependencies ... OK * checking if this is a source package ... OK * checking if there is a namespace ... OK * checking for hidden files and directories ... NOTE Found the following hidden files and directories: .BBSoptions These were most likely included in error. See section ‘Package structure’ in the ‘Writing R Extensions’ manual. * checking for portable file names ... OK * checking for sufficient/correct file permissions ... OK * checking whether package ‘ginmappeR’ can be installed ... OK * checking installed package size ... OK * checking package directory ... OK * checking ‘build’ directory ... OK * checking DESCRIPTION meta-information ... OK * checking top-level files ... OK * checking for left-over files ... OK * checking index information ... OK * checking package subdirectories ... OK * checking code files for non-ASCII characters ... OK * checking R files for syntax errors ... OK * checking whether the package can be loaded ... OK * checking whether the package can be loaded with stated dependencies ... OK * checking whether the package can be unloaded cleanly ... OK * checking whether the namespace can be loaded with stated dependencies ... OK * checking whether the namespace can be unloaded cleanly ... OK * checking whether startup messages can be suppressed ... OK * checking dependencies in R code ... OK * checking S3 generic/method consistency ... OK * checking replacement functions ... OK * checking foreign function calls ... OK * checking R code for possible problems ... OK * checking Rd files ... OK * checking Rd metadata ... OK * checking Rd cross-references ... OK * checking for missing documentation entries ... OK * checking for code/documentation mismatches ... OK * checking Rd \usage sections ... OK * checking Rd contents ... OK * checking for unstated dependencies in examples ... OK * checking files in ‘vignettes’ ... OK * checking examples ... OK Examples with CPU (user + system) or elapsed time > 5s user system elapsed getCARD2KEGG 3.377 0.070 14.973 getUniProt2NCBINucleotide 1.081 0.056 33.983 getNCBINucleotide2KEGG 0.363 0.025 36.633 getKEGG2NCBINucleotide 0.163 0.016 6.468 * checking for unstated dependencies in ‘tests’ ... OK * checking tests ... Running ‘runTests.R’ OK * checking for unstated dependencies in vignettes ... OK * checking package vignettes ... OK * checking running R code from vignettes ... SKIPPED * checking re-building of vignette outputs ... SKIPPED * checking PDF version of manual ... OK * DONE Status: 1 NOTE See ‘/Users/biocbuild/bbs-3.21-bioc/meat/ginmappeR.Rcheck/00check.log’ for details.
ginmappeR.Rcheck/00install.out
############################################################################## ############################################################################## ### ### Running command: ### ### /Library/Frameworks/R.framework/Resources/bin/R CMD INSTALL ginmappeR ### ############################################################################## ############################################################################## * installing to library ‘/Library/Frameworks/R.framework/Versions/4.5-arm64/Resources/library’ * installing *source* package ‘ginmappeR’ ... ** this is package ‘ginmappeR’ version ‘1.4.0’ ** using staged installation ** R ** inst ** byte-compile and prepare package for lazy loading ** help *** installing help indices ** building package indices ** installing vignettes ** testing if installed package can be loaded from temporary location ** testing if installed package can be loaded from final location ** testing if installed package keeps a record of temporary installation path * DONE (ginmappeR)
ginmappeR.Rcheck/tests/runTests.Rout
R version 4.5.0 RC (2025-04-04 r88129) -- "How About a Twenty-Six" Copyright (C) 2025 The R Foundation for Statistical Computing Platform: aarch64-apple-darwin20 R is free software and comes with ABSOLUTELY NO WARRANTY. You are welcome to redistribute it under certain conditions. Type 'license()' or 'licence()' for distribution details. R is a collaborative project with many contributors. Type 'contributors()' for more information and 'citation()' on how to cite R or R packages in publications. Type 'demo()' for some demos, 'help()' for on-line help, or 'help.start()' for an HTML browser interface to help. Type 'q()' to quit R. > BiocGenerics:::testPackage("ginmappeR") Testing getKEGG2UniProt |=.............................| Step 1: Translating from KEGG to UniProt |==............................| Step 2: Connecting to KEGG web services |===...........................| Step 3: Connecting to KEGG API and translating id aag:5579347 to Uniprot [1] "A0A1S4G4Z1" Testing getKEGG2NCBIProtein, getKEGG2NCBINucleotide, getKEGG2NCBIGene |=.............................| Step 1: Translating from KEGG to NCBI Protein |==............................| Step 2: Trying to get a direct translation for KEGG id bha:BH0380 to NCBI [1] "BAB04099" Testing getKEGG2CARD |=.............................| Step 1: Translating from KEGG to CARD Updating CARD database data... Deleting previous versions of CARD if any. Downloading latest version Extracting database CARD database downloaded successfully! Located at /var/folders/dc/2xck8b8s0_3gymbxnrltzxhm0000gs/T//RtmpWwfqOC/card-data CARD database version 4.0.0 (2024-12-17) |==............................| Step 2: Searching CARD database and translating to KEGG |===...........................| Step 3: Trying to get a direct translation for KEGG id ag:ACC85616 to CARD [1] "ARO:3002804" Testing getUniProtSimilarGenes |=.............................| Step 1: Accessing UniProt similar genes database |==............................| Step 2: Connecting to UniProt API and retrieving cluster of id G9JVE6 |===...........................| Step 3: Retrieving and parsing genes of cluster UniRef100_G9JVE6 [1] "UniRef100_G9JVE6" Testing getUniProt2KEGG |=.............................| Step 1: Translating from UniProt to KEGG |==............................| Step 2: Trying to get a direct translation for UniProt id A0A6I6H1L5 to KEGG [1] "fls:GLV81_10715" Testing getUniProt2NCBIProtein, getUniProt2NCBINucleotide, getUniProt2NCBIGene |=.............................| Step 1: Translating from UniProt to NCBI Protein |=.............................| Step 1: Trying to get a direct translation for UniProt id A0A6H2TXZ6 to NCBI [1] "QIB98918.1" Testing getUniProt2CARD |=.............................| Step 1: Translating from UniProt to CARD Using a CARD database version downloaded on Tue 04/29/2025 05:49:18, please consider updating it with updateCARDDataBase() function. |==............................| Step 2: Translating Uniprot id A0A1S7BGS4 to CARD |===...........................| Step 3: Trying to get a direct translation for Uniprot id A0A1S7BGS4 to CARD [1] "ARO:3004185" RUNIT TEST PROTOCOL -- Tue Apr 29 05:49:27 2025 *********************************************** Number of test functions: 0 Number of errors: 0 Number of failures: 0 1 Test Suite : ginmappeR RUnit Tests - 0 test functions, 0 errors, 0 failures Number of test functions: 0 Number of errors: 0 Number of failures: 0 > > proc.time() user system elapsed 5.160 0.176 14.539
ginmappeR.Rcheck/ginmappeR-Ex.timings
name | user | system | elapsed | |
getCARD2KEGG | 3.377 | 0.070 | 14.973 | |
getCARD2NCBIGene | 0.088 | 0.004 | 1.483 | |
getCARD2NCBINucleotide | 0.126 | 0.006 | 0.571 | |
getCARD2NCBIProtein | 0.002 | 0.001 | 0.443 | |
getCARD2UniProt | 0.301 | 0.025 | 4.857 | |
getKEGG2CARD | 0.064 | 0.002 | 1.053 | |
getKEGG2NCBIGene | 0.041 | 0.003 | 1.951 | |
getKEGG2NCBINucleotide | 0.163 | 0.016 | 6.468 | |
getKEGG2NCBIProtein | 0.036 | 0.004 | 1.567 | |
getKEGG2UniProt | 0.001 | 0.001 | 0.104 | |
getNCBIGene2CARD | 0.081 | 0.007 | 4.864 | |
getNCBIGene2KEGG | 0.007 | 0.001 | 1.841 | |
getNCBIGene2NCBINucleotide | 0.015 | 0.002 | 2.889 | |
getNCBIGene2NCBIProtein | 0.012 | 0.001 | 1.877 | |
getNCBIGene2UniProt | 0.114 | 0.007 | 3.218 | |
getNCBIIdenticalProteins | 0.008 | 0.001 | 2.105 | |
getNCBINucleotide2CARD | 0.029 | 0.001 | 0.600 | |
getNCBINucleotide2KEGG | 0.363 | 0.025 | 36.633 | |
getNCBINucleotide2NCBIGene | 0.010 | 0.002 | 1.314 | |
getNCBINucleotide2NCBIProtein | 0.030 | 0.001 | 0.601 | |
getNCBINucleotide2UniProt | 0.113 | 0.007 | 3.660 | |
getNCBIProtein2CARD | 0.030 | 0.002 | 0.660 | |
getNCBIProtein2KEGG | 0.008 | 0.001 | 1.968 | |
getNCBIProtein2NCBIGene | 0.009 | 0.001 | 1.230 | |
getNCBIProtein2NCBINucleotide | 0.030 | 0.002 | 0.610 | |
getNCBIProtein2UniProt | 0.115 | 0.008 | 3.285 | |
getUniProt2CARD | 0.093 | 0.003 | 0.490 | |
getUniProt2KEGG | 0.007 | 0.001 | 0.688 | |
getUniProt2NCBIGene | 0 | 0 | 0 | |
getUniProt2NCBINucleotide | 1.081 | 0.056 | 33.983 | |
getUniProt2NCBIProtein | 0 | 0 | 0 | |
getUniProtSimilarGenes | 0.015 | 0.003 | 0.205 | |