Back to Multiple platform build/check report for BioC 3.21:   simplified   long
ABCDEF[G]HIJKLMNOPQRSTUVWXYZ

This page was generated on 2025-05-01 11:41 -0400 (Thu, 01 May 2025).

HostnameOSArch (*)R versionInstalled pkgs
nebbiolo1Linux (Ubuntu 24.04.1 LTS)x86_644.5.0 RC (2025-04-04 r88126) -- "How About a Twenty-Six" 4832
palomino7Windows Server 2022 Datacenterx644.5.0 RC (2025-04-04 r88126 ucrt) -- "How About a Twenty-Six" 4574
merida1macOS 12.7.5 Montereyx86_644.5.0 RC (2025-04-04 r88126) -- "How About a Twenty-Six" 4599
kjohnson1macOS 13.6.6 Venturaarm644.5.0 RC (2025-04-04 r88129) -- "How About a Twenty-Six" 4553
Click on any hostname to see more info about the system (e.g. compilers)      (*) as reported by 'uname -p', except on Windows and Mac OS X

Package 796/2341HostnameOS / ArchINSTALLBUILDCHECKBUILD BIN
gDRutils 1.6.0  (landing page)
Arkadiusz Gladki
Snapshot Date: 2025-04-28 17:48 -0400 (Mon, 28 Apr 2025)
git_url: https://git.bioconductor.org/packages/gDRutils
git_branch: RELEASE_3_21
git_last_commit: c9fd3fb
git_last_commit_date: 2025-04-15 13:16:41 -0400 (Tue, 15 Apr 2025)
nebbiolo1Linux (Ubuntu 24.04.1 LTS) / x86_64  OK    OK    OK  UNNEEDED, same version is already published
palomino7Windows Server 2022 Datacenter / x64  OK    OK    OK    OK  UNNEEDED, same version is already published
merida1macOS 12.7.5 Monterey / x86_64  OK    OK    OK    OK  UNNEEDED, same version is already published
kjohnson1macOS 13.6.6 Ventura / arm64  OK    OK    OK    OK  UNNEEDED, same version is already published


CHECK results for gDRutils on merida1

To the developers/maintainers of the gDRutils package:
- Allow up to 24 hours (and sometimes 48 hours) for your latest push to git@git.bioconductor.org:packages/gDRutils.git to reflect on this report. See Troubleshooting Build Report for more information.
- Use the following Renviron settings to reproduce errors and warnings.
- If 'R CMD check' started to fail recently on the Linux builder(s) over a missing dependency, add the missing dependency to 'Suggests:' in your DESCRIPTION file. See Renviron.bioc for more information.

raw results


Summary

Package: gDRutils
Version: 1.6.0
Command: /Library/Frameworks/R.framework/Resources/bin/R CMD check --install=check:gDRutils.install-out.txt --library=/Library/Frameworks/R.framework/Resources/library --no-vignettes --timings gDRutils_1.6.0.tar.gz
StartedAt: 2025-04-29 07:10:37 -0400 (Tue, 29 Apr 2025)
EndedAt: 2025-04-29 07:18:04 -0400 (Tue, 29 Apr 2025)
EllapsedTime: 447.8 seconds
RetCode: 0
Status:   OK  
CheckDir: gDRutils.Rcheck
Warnings: 0

Command output

##############################################################################
##############################################################################
###
### Running command:
###
###   /Library/Frameworks/R.framework/Resources/bin/R CMD check --install=check:gDRutils.install-out.txt --library=/Library/Frameworks/R.framework/Resources/library --no-vignettes --timings gDRutils_1.6.0.tar.gz
###
##############################################################################
##############################################################################


* using log directory ‘/Users/biocbuild/bbs-3.21-bioc/meat/gDRutils.Rcheck’
* using R version 4.5.0 RC (2025-04-04 r88126)
* using platform: x86_64-apple-darwin20
* R was compiled by
    Apple clang version 14.0.0 (clang-1400.0.29.202)
    GNU Fortran (GCC) 14.2.0
* running under: macOS Monterey 12.7.6
* using session charset: UTF-8
* using option ‘--no-vignettes’
* checking for file ‘gDRutils/DESCRIPTION’ ... OK
* checking extension type ... Package
* this is package ‘gDRutils’ version ‘1.6.0’
* package encoding: UTF-8
* checking package namespace information ... OK
* checking package dependencies ... OK
* checking if this is a source package ... OK
* checking if there is a namespace ... OK
* checking for hidden files and directories ... OK
* checking for portable file names ... OK
* checking for sufficient/correct file permissions ... OK
* checking whether package ‘gDRutils’ can be installed ... OK
* checking installed package size ... OK
* checking package directory ... OK
* checking ‘build’ directory ... OK
* checking DESCRIPTION meta-information ... OK
* checking top-level files ... OK
* checking for left-over files ... OK
* checking index information ... OK
* checking package subdirectories ... OK
* checking code files for non-ASCII characters ... OK
* checking R files for syntax errors ... OK
* checking whether the package can be loaded ... OK
* checking whether the package can be loaded with stated dependencies ... OK
* checking whether the package can be unloaded cleanly ... OK
* checking whether the namespace can be loaded with stated dependencies ... OK
* checking whether the namespace can be unloaded cleanly ... OK
* checking dependencies in R code ... OK
* checking S3 generic/method consistency ... OK
* checking replacement functions ... OK
* checking foreign function calls ... OK
* checking R code for possible problems ... OK
* checking Rd files ... OK
* checking Rd metadata ... OK
* checking Rd cross-references ... NOTE
Found the following Rd file(s) with Rd \link{} targets missing package
anchors:
  SE_metadata.Rd: SummarizedExperiment-class
  convert_mae_assay_to_dt.Rd: SummarizedExperiment-class,
    MultiAssayExperiment-class
  convert_se_assay_to_dt.Rd: SummarizedExperiment-class
  is_exp_empty.Rd: SummarizedExperiment-class
  split_SE_components.Rd: SummarizedExperiment-class
  validate_se_assay_name.Rd: SummarizedExperiment-class
Please provide package anchors for all Rd \link{} targets not in the
package itself and the base packages.
* checking for missing documentation entries ... OK
* checking for code/documentation mismatches ... OK
* checking Rd \usage sections ... OK
* checking Rd contents ... OK
* checking for unstated dependencies in examples ... OK
* checking files in ‘vignettes’ ... OK
* checking examples ... OK
* checking for unstated dependencies in ‘tests’ ... OK
* checking tests ...
  Running ‘testthat.R’
 OK
* checking for unstated dependencies in vignettes ... OK
* checking package vignettes ... OK
* checking running R code from vignettes ... SKIPPED
* checking re-building of vignette outputs ... SKIPPED
* checking PDF version of manual ... OK
* DONE

Status: 1 NOTE
See
  ‘/Users/biocbuild/bbs-3.21-bioc/meat/gDRutils.Rcheck/00check.log’
for details.


Installation output

gDRutils.Rcheck/00install.out

##############################################################################
##############################################################################
###
### Running command:
###
###   /Library/Frameworks/R.framework/Resources/bin/R CMD INSTALL gDRutils
###
##############################################################################
##############################################################################


* installing to library ‘/Library/Frameworks/R.framework/Versions/4.5-x86_64/Resources/library’
* installing *source* package ‘gDRutils’ ...
** this is package ‘gDRutils’ version ‘1.6.0’
** using staged installation
** R
** inst
** byte-compile and prepare package for lazy loading
** help
*** installing help indices
** building package indices
** installing vignettes
** testing if installed package can be loaded from temporary location
** testing if installed package can be loaded from final location
** testing if installed package keeps a record of temporary installation path
* DONE (gDRutils)

Tests output

gDRutils.Rcheck/tests/testthat.Rout


R version 4.5.0 RC (2025-04-04 r88126) -- "How About a Twenty-Six"
Copyright (C) 2025 The R Foundation for Statistical Computing
Platform: x86_64-apple-darwin20

R is free software and comes with ABSOLUTELY NO WARRANTY.
You are welcome to redistribute it under certain conditions.
Type 'license()' or 'licence()' for distribution details.

R is a collaborative project with many contributors.
Type 'contributors()' for more information and
'citation()' on how to cite R or R packages in publications.

Type 'demo()' for some demos, 'help()' for on-line help, or
'help.start()' for an HTML browser interface to help.
Type 'q()' to quit R.

> library("gDRutils")
> library("testthat")
> 
> test_check("gDRutils")
[ FAIL 0 | WARN 0 | SKIP 0 | PASS 778 ]
> 
> proc.time()
   user  system elapsed 
 88.759   4.258 111.884 

Example timings

gDRutils.Rcheck/gDRutils-Ex.timings

nameusersystemelapsed
MAEpply1.0440.0481.118
SE_metadata0.0660.0110.077
addClass0.0030.0010.004
aggregate_assay1.7740.1231.959
apply_bumpy_function3.4540.1863.649
assert_choices0.0000.0010.001
average_biological_replicates_dt0.0950.0030.098
calc_sd0.0010.0000.001
capVals0.9240.0270.960
cap_assay_infinities0.5770.0110.590
cap_xc500.0010.0010.001
convert_colData_to_json0.1230.0010.124
convert_combo_data_to_dt1.2090.0501.266
convert_combo_field_to_assay0.0030.0010.004
convert_mae_assay_to_dt0.1340.0080.142
convert_mae_to_json0.0290.0020.030
convert_metadata_to_json0.0190.0010.020
convert_rowData_to_json0.0060.0010.006
convert_se_assay_to_custom_dt0.8950.0970.996
convert_se_assay_to_dt0.1390.0120.152
convert_se_to_json0.0310.0030.034
define_matrix_grid_positions0.1080.0080.117
demote_fields0.8190.0220.853
df_to_bm_assay0.2720.0020.276
dot-set_invalid_fit_params0.0000.0010.001
dot-standardize_conc0.0010.0010.001
extend_normalization_type_name0.0010.0000.001
fit_curves0.3160.0320.350
flatten0.0160.0010.018
gen_synthetic_data0.0110.0030.014
geometric_mean0.0000.0010.001
get_MAE_identifiers0.0120.0030.015
get_additional_variables0.0160.0010.017
get_assay_dt_duplicated_rows0.2740.0070.281
get_assay_names0.0000.0010.001
get_assay_req_uniq_cols0.1960.0050.202
get_combo_assay_names0.0020.0010.001
get_combo_base_assay_names0.0010.0010.002
get_combo_excess_field_names0.0040.0000.005
get_combo_score_assay_names0.0020.0010.003
get_combo_score_field_names0.0020.0010.002
get_default_identifiers0.0010.0020.003
get_duplicated_rows0.0060.0010.007
get_env_assay_names0.0010.0010.002
get_env_var0.0000.0010.001
get_expect_one_identifiers0.0010.0010.001
get_experiment_groups0.0000.0010.001
get_gDR_session_info2.5921.1253.757
get_identifiers_dt0.0110.0070.019
get_idfs_synonyms0.0000.0010.000
get_isobologram_columns0.0750.0020.078
get_non_empty_assays0.1000.0020.103
get_required_identifiers0.0010.0010.001
get_settings_from_json0.0010.0010.003
get_supported_experiments0.0010.0010.000
get_synthetic_data0.0180.0020.019
get_testdata0.1940.0660.265
get_testdata_codilution0.1720.0150.190
get_testdata_combo0.4280.0530.486
has_assay_dt_duplicated_rows0.1960.0040.202
has_dt_duplicated_rows0.0010.0000.002
has_single_codrug_data0.2410.0050.247
has_valid_codrug_data0.1750.0020.180
headers0.0290.0240.053
identifiers0.0000.0000.001
identify_unique_se_metadata_fields0.0120.0020.013
is_any_exp_empty0.0970.0020.099
is_combo_data0.2120.0150.229
is_exp_empty0.1020.0020.107
is_mae_empty0.1050.0020.107
logisticFit0.0540.0010.056
loop000
map_conc_to_standardized_conc0.0070.0010.009
mcolData0.0250.0020.028
merge_SE3.4450.0303.486
merge_assay0.7710.0270.800
merge_metadata0.0120.0010.014
modifyData0.2290.0020.231
mrowData0.0250.0020.027
predict_conc_from_efficacy0.0010.0010.001
predict_efficacy_from_conc0.0000.0000.001
prettify_flat_metrics0.0470.0000.048
promote_fields0.3860.0020.389
refine_coldata0.0190.0020.020
refine_rowdata0.0840.0030.088
remove_codrug_data0.0690.0020.071
remove_drug_batch0.0030.0020.004
rename_DFrame0.0160.0030.018
rename_bumpy0.0620.0020.065
round_concentration0.0000.0010.001
set_constant_fit_params0.0010.0010.002
set_unique_cl_names0.1030.0010.104
set_unique_cl_names_dt0.0420.0000.043
set_unique_drug_names0.1180.0010.119
set_unique_drug_names_dt0.1180.0020.120
set_unique_identifiers0.6770.0030.683
set_unique_names_dt0.0420.0000.043
shorten_normalization_type_name0.0000.0000.001
split_SE_components0.1260.0040.133
split_big_table_for_xlsx0.0100.0030.013
standardize_mae0.2740.0020.278
standardize_se0.0710.0020.074
throw_msg_if_duplicates0.1950.0050.203
update_env_idfs_from_mae0.0030.0010.004
update_idfs_synonyms0.0010.0000.001
validate_MAE0.1720.0010.176
validate_SE0.0530.0010.054
validate_identifiers0.0140.0020.016
validate_json000
validate_mae_with_schema0.6190.0750.891
validate_se_assay_name0.0090.0020.012