Back to Multiple platform build/check report for BioC 3.21:   simplified   long
A[B]CDEFGHIJKLMNOPQRSTUVWXYZ

This page was generated on 2025-05-01 11:42 -0400 (Thu, 01 May 2025).

HostnameOSArch (*)R versionInstalled pkgs
nebbiolo1Linux (Ubuntu 24.04.1 LTS)x86_644.5.0 RC (2025-04-04 r88126) -- "How About a Twenty-Six" 4832
palomino7Windows Server 2022 Datacenterx644.5.0 RC (2025-04-04 r88126 ucrt) -- "How About a Twenty-Six" 4574
merida1macOS 12.7.5 Montereyx86_644.5.0 RC (2025-04-04 r88126) -- "How About a Twenty-Six" 4599
kjohnson1macOS 13.6.6 Venturaarm644.5.0 RC (2025-04-04 r88129) -- "How About a Twenty-Six" 4553
Click on any hostname to see more info about the system (e.g. compilers)      (*) as reported by 'uname -p', except on Windows and Mac OS X

Package 175/2341HostnameOS / ArchINSTALLBUILDCHECKBUILD BIN
bioassayR 1.46.0  (landing page)
Thomas Girke
Snapshot Date: 2025-04-28 17:48 -0400 (Mon, 28 Apr 2025)
git_url: https://git.bioconductor.org/packages/bioassayR
git_branch: RELEASE_3_21
git_last_commit: 8997ea6
git_last_commit_date: 2025-04-15 10:26:46 -0400 (Tue, 15 Apr 2025)
nebbiolo1Linux (Ubuntu 24.04.1 LTS) / x86_64  OK    OK    OK  UNNEEDED, same version is already published
palomino7Windows Server 2022 Datacenter / x64  OK    OK    OK    OK  UNNEEDED, same version is already published
merida1macOS 12.7.5 Monterey / x86_64  OK    OK    OK    OK  UNNEEDED, same version is already published
kjohnson1macOS 13.6.6 Ventura / arm64  OK    OK    ERROR    OK  


CHECK results for bioassayR on kjohnson1

To the developers/maintainers of the bioassayR package:
- Allow up to 24 hours (and sometimes 48 hours) for your latest push to git@git.bioconductor.org:packages/bioassayR.git to reflect on this report. See Troubleshooting Build Report for more information.
- Use the following Renviron settings to reproduce errors and warnings.
- If 'R CMD check' started to fail recently on the Linux builder(s) over a missing dependency, add the missing dependency to 'Suggests:' in your DESCRIPTION file. See Renviron.bioc for more information.

raw results


Summary

Package: bioassayR
Version: 1.46.0
Command: /Library/Frameworks/R.framework/Resources/bin/R CMD check --install=check:bioassayR.install-out.txt --library=/Library/Frameworks/R.framework/Resources/library --no-vignettes --timings bioassayR_1.46.0.tar.gz
StartedAt: 2025-04-29 02:39:36 -0400 (Tue, 29 Apr 2025)
EndedAt: 2025-04-29 02:40:07 -0400 (Tue, 29 Apr 2025)
EllapsedTime: 31.3 seconds
RetCode: 1
Status:   ERROR  
CheckDir: bioassayR.Rcheck
Warnings: NA

Command output

##############################################################################
##############################################################################
###
### Running command:
###
###   /Library/Frameworks/R.framework/Resources/bin/R CMD check --install=check:bioassayR.install-out.txt --library=/Library/Frameworks/R.framework/Resources/library --no-vignettes --timings bioassayR_1.46.0.tar.gz
###
##############################################################################
##############################################################################


* using log directory ‘/Users/biocbuild/bbs-3.21-bioc/meat/bioassayR.Rcheck’
* using R version 4.5.0 RC (2025-04-04 r88129)
* using platform: aarch64-apple-darwin20
* R was compiled by
    Apple clang version 14.0.0 (clang-1400.0.29.202)
    GNU Fortran (GCC) 14.2.0
* running under: macOS Ventura 13.7.5
* using session charset: UTF-8
* using option ‘--no-vignettes’
* checking for file ‘bioassayR/DESCRIPTION’ ... OK
* checking extension type ... Package
* this is package ‘bioassayR’ version ‘1.46.0’
* checking package namespace information ... OK
* checking package dependencies ... OK
* checking if this is a source package ... OK
* checking if there is a namespace ... OK
* checking for hidden files and directories ... OK
* checking for portable file names ... OK
* checking for sufficient/correct file permissions ... OK
* checking whether package ‘bioassayR’ can be installed ... OK
* checking installed package size ... OK
* checking package directory ... OK
* checking ‘build’ directory ... OK
* checking DESCRIPTION meta-information ... OK
* checking top-level files ... OK
* checking for left-over files ... OK
* checking index information ... OK
* checking package subdirectories ... OK
* checking code files for non-ASCII characters ... OK
* checking R files for syntax errors ... OK
* checking whether the package can be loaded ... OK
* checking whether the package can be loaded with stated dependencies ... OK
* checking whether the package can be unloaded cleanly ... OK
* checking whether the namespace can be loaded with stated dependencies ... OK
* checking whether the namespace can be unloaded cleanly ... OK
* checking dependencies in R code ... OK
* checking S3 generic/method consistency ... OK
* checking replacement functions ... OK
* checking foreign function calls ... OK
* checking R code for possible problems ... OK
* checking Rd files ... NOTE
checkRd: (-1) disconnectBioassayDB.Rd:14: Lost braces
    14 | A code{BioassayDB} object to be disconnected.
       |       ^
* checking Rd metadata ... OK
* checking Rd cross-references ... OK
* checking for missing documentation entries ... OK
* checking for code/documentation mismatches ... OK
* checking Rd \usage sections ... OK
* checking Rd contents ... OK
* checking for unstated dependencies in examples ... OK
* checking contents of ‘data’ directory ... OK
* checking data for non-ASCII characters ... OK
* checking data for ASCII and uncompressed saves ... OK
* checking line endings in Makefiles ... OK
* checking for GNU extensions in Makefiles ... OK
* checking include directives in Makefiles ... OK
* checking files in ‘vignettes’ ... OK
* checking examples ... OK
* checking for unstated dependencies in ‘tests’ ... OK
* checking tests ...
  Running ‘testthat.R’
 ERROR
Running the tests in ‘tests/testthat.R’ failed.
Last 13 lines of output:
  > 
  > test_check("bioassayR")
  [ FAIL 2 | WARN 1 | SKIP 0 | PASS 20 ]
  
  ══ Failed tests ════════════════════════════════════════════════════════════════
  ── Failure ('test_perTargetMatrix.R:80:5'): numeric Z-score activesFirst matrix is correct ──
  as.matrix(targetMatrix) not equal to as.matrix(expectedTargetMatrix).
  Attributes: < Component "dimnames": Component 2: 2 string mismatches >
  ── Failure ('test_perTargetMatrix.R:96:5'): numeric Z-score mean matrix is correct ──
  as.matrix(targetMatrix) not equal to as.matrix(expectedTargetMatrix).
  Attributes: < Component "dimnames": Component 2: 2 string mismatches >
  
  [ FAIL 2 | WARN 1 | SKIP 0 | PASS 20 ]
  Error: Test failures
  Execution halted
* checking for unstated dependencies in vignettes ... OK
* checking package vignettes ... OK
* checking running R code from vignettes ... SKIPPED
* checking re-building of vignette outputs ... SKIPPED
* checking PDF version of manual ... OK
* DONE

Status: 1 ERROR, 1 NOTE
See
  ‘/Users/biocbuild/bbs-3.21-bioc/meat/bioassayR.Rcheck/00check.log’
for details.


Installation output

bioassayR.Rcheck/00install.out

##############################################################################
##############################################################################
###
### Running command:
###
###   /Library/Frameworks/R.framework/Resources/bin/R CMD INSTALL bioassayR
###
##############################################################################
##############################################################################


* installing to library ‘/Library/Frameworks/R.framework/Versions/4.5-arm64/Resources/library’
* installing *source* package ‘bioassayR’ ...
** this is package ‘bioassayR’ version ‘1.46.0’
** using staged installation
** R
** data
** inst
** byte-compile and prepare package for lazy loading
Creating a new generic function for ‘organism’ in package ‘bioassayR’
Creating a new generic function for ‘organism<-’ in package ‘bioassayR’
** help
*** installing help indices
** building package indices
** installing vignettes
** testing if installed package can be loaded from temporary location
** testing if installed package can be loaded from final location
** testing if installed package keeps a record of temporary installation path
* DONE (bioassayR)

Tests output

bioassayR.Rcheck/tests/testthat.Rout.fail


R version 4.5.0 RC (2025-04-04 r88129) -- "How About a Twenty-Six"
Copyright (C) 2025 The R Foundation for Statistical Computing
Platform: aarch64-apple-darwin20

R is free software and comes with ABSOLUTELY NO WARRANTY.
You are welcome to redistribute it under certain conditions.
Type 'license()' or 'licence()' for distribution details.

R is a collaborative project with many contributors.
Type 'contributors()' for more information and
'citation()' on how to cite R or R packages in publications.

Type 'demo()' for some demos, 'help()' for on-line help, or
'help.start()' for an HTML browser interface to help.
Type 'q()' to quit R.

> library(testthat)
> library(bioassayR)
Loading required package: DBI
Loading required package: RSQLite
Loading required package: Matrix
Loading required package: rjson
Loading required package: BiocGenerics
Loading required package: generics

Attaching package: 'generics'

The following objects are masked from 'package:base':

    as.difftime, as.factor, as.ordered, intersect, is.element, setdiff,
    setequal, union


Attaching package: 'BiocGenerics'

The following objects are masked from 'package:stats':

    IQR, mad, sd, var, xtabs

The following objects are masked from 'package:base':

    Filter, Find, Map, Position, Reduce, anyDuplicated, aperm, append,
    as.data.frame, basename, cbind, colnames, dirname, do.call,
    duplicated, eval, evalq, get, grep, grepl, is.unsorted, lapply,
    mapply, match, mget, order, paste, pmax, pmax.int, pmin, pmin.int,
    rank, rbind, rownames, sapply, saveRDS, table, tapply, unique,
    unsplit, which.max, which.min


Attaching package: 'bioassayR'

The following objects are masked from 'package:BiocGenerics':

    organism, organism<-

> 
> test_check("bioassayR")
[ FAIL 2 | WARN 1 | SKIP 0 | PASS 20 ]

══ Failed tests ════════════════════════════════════════════════════════════════
── Failure ('test_perTargetMatrix.R:80:5'): numeric Z-score activesFirst matrix is correct ──
as.matrix(targetMatrix) not equal to as.matrix(expectedTargetMatrix).
Attributes: < Component "dimnames": Component 2: 2 string mismatches >
── Failure ('test_perTargetMatrix.R:96:5'): numeric Z-score mean matrix is correct ──
as.matrix(targetMatrix) not equal to as.matrix(expectedTargetMatrix).
Attributes: < Component "dimnames": Component 2: 2 string mismatches >

[ FAIL 2 | WARN 1 | SKIP 0 | PASS 20 ]
Error: Test failures
Execution halted

Example timings

bioassayR.Rcheck/bioassayR-Ex.timings

nameusersystemelapsed
BioAssayDB-class000
activeAgainst0.0080.0010.010
activeTargets0.0520.0010.053
addBioassayIndex0.0050.0020.006
addDataSource0.0040.0020.006
allCids0.0020.0000.002
allTargets0.0020.0000.002
assaySetTargets0.0180.0010.018
bioactivityFingerprint0.1570.0010.157
bioassay-class0.0070.0020.008
bioassaySet-class000
connectBioassayDB0.0040.0020.006
crossReactivityProbability0.0640.0000.064
disconnectBioassayDB0.0040.0010.005
dropBioassay0.0120.0040.016
dropBioassayIndex0.0060.0040.010
getAssay0.0020.0000.003
getAssays0.0060.0000.006
getBioassaySetByCids0.0600.0010.060
inactiveTargets0.0030.0000.003
loadBioassay0.0090.0020.011
loadIdMapping0.0040.0020.005
newBioassayDB0.0020.0020.004
parsePubChemBioassay0.0040.0000.004
perTargetMatrix0.0670.0020.069
queryBioassayDB0.0060.0060.012
samplebioassay0.0000.0010.001
scaleBioassaySet0.0090.0010.010
screenedAtLeast0.0040.0010.004
selectiveAgainst0.0250.0020.027
targetSelectivity0.0060.0010.007
translateTargetId0.0040.0020.005
trinarySimilarity0.0640.0010.064