Back to Multiple platform build/check report for BioC 3.21:   simplified   long
ABCDEFGHIJKLMNOPQRSTU[V]WXYZ

This page was generated on 2025-04-28 13:01 -0400 (Mon, 28 Apr 2025).

HostnameOSArch (*)R versionInstalled pkgs
nebbiolo1Linux (Ubuntu 24.04.1 LTS)x86_644.5.0 RC (2025-04-04 r88126) -- "How About a Twenty-Six" 4832
palomino7Windows Server 2022 Datacenterx644.5.0 RC (2025-04-04 r88126 ucrt) -- "How About a Twenty-Six" 4574
merida1macOS 12.7.5 Montereyx86_644.5.0 RC (2025-04-04 r88126) -- "How About a Twenty-Six" 4558
kjohnson1macOS 13.6.6 Venturaarm644.5.0 RC (2025-04-04 r88129) -- "How About a Twenty-Six" 4553
Click on any hostname to see more info about the system (e.g. compilers)      (*) as reported by 'uname -p', except on Windows and Mac OS X

Package 2304/2341HostnameOS / ArchINSTALLBUILDCHECKBUILD BIN
VplotR 1.18.0  (landing page)
Jacques Serizay
Snapshot Date: 2025-04-24 15:01 -0400 (Thu, 24 Apr 2025)
git_url: https://git.bioconductor.org/packages/VplotR
git_branch: RELEASE_3_21
git_last_commit: 2fddd47
git_last_commit_date: 2025-04-15 12:07:04 -0400 (Tue, 15 Apr 2025)
nebbiolo1Linux (Ubuntu 24.04.1 LTS) / x86_64  OK    OK    OK  UNNEEDED, same version is already published
palomino7Windows Server 2022 Datacenter / x64  OK    ERROR  skippedskipped
merida1macOS 12.7.5 Monterey / x86_64  OK    OK    OK    ERROR  
kjohnson1macOS 13.6.6 Ventura / arm64  OK    OK    OK    ERROR  


BUILD BIN results for VplotR on merida1

To the developers/maintainers of the VplotR package:
- Allow up to 24 hours (and sometimes 48 hours) for your latest push to git@git.bioconductor.org:packages/VplotR.git to reflect on this report. See Troubleshooting Build Report for more information.
- Use the following Renviron settings to reproduce errors and warnings.
- If 'R CMD check' started to fail recently on the Linux builder(s) over a missing dependency, add the missing dependency to 'Suggests:' in your DESCRIPTION file. See Renviron.bioc for more information.

raw results


Summary

Package: VplotR
Version: 1.18.0
Command: rm -rf VplotR.buildbin-libdir && mkdir VplotR.buildbin-libdir && /Users/biocbuild/BBS/utils/build-universal.sh VplotR_1.18.0.tar.gz /Library/Frameworks/R.framework/Resources/bin/R VplotR.buildbin-libdir
StartedAt: 2025-04-25 14:48:49 -0400 (Fri, 25 Apr 2025)
EndedAt: 2025-04-25 14:49:55 -0400 (Fri, 25 Apr 2025)
EllapsedTime: 65.1 seconds
RetCode: 1
Status:   ERROR  
PackageFile: None
PackageFileSize: NA

Command output

##############################################################################
##############################################################################
###
### Running command:
###
###   rm -rf VplotR.buildbin-libdir && mkdir VplotR.buildbin-libdir && /Users/biocbuild/BBS/utils/build-universal.sh VplotR_1.18.0.tar.gz /Library/Frameworks/R.framework/Resources/bin/R VplotR.buildbin-libdir
###
##############################################################################
##############################################################################


>>>>>>> 
>>>>>>> INSTALLATION WITH 'R CMD INSTALL --preclean --no-multiarch --library=VplotR.buildbin-libdir VplotR_1.18.0.tar.gz'
>>>>>>> 

* installing *source* package ‘VplotR’ ...
** this is package ‘VplotR’ version ‘1.18.0’
** using staged installation
** R
** data
** inst
** byte-compile and prepare package for lazy loading
** help
*** installing help indices
** building package indices
** installing vignettes
** testing if installed package can be loaded from temporary location
** testing if installed package can be loaded from final location
** testing if installed package keeps a record of temporary installation path
* DONE (VplotR)


chown: VplotR.buildbin-libdir/VplotR/LICENSE: Operation not permitted
chown: VplotR.buildbin-libdir/VplotR/NEWS.md: Operation not permitted
chown: VplotR.buildbin-libdir/VplotR/R/VplotR.rdx: Operation not permitted
chown: VplotR.buildbin-libdir/VplotR/R/VplotR.rdb: Operation not permitted
chown: VplotR.buildbin-libdir/VplotR/R/VplotR: Operation not permitted
chown: VplotR.buildbin-libdir/VplotR/R: Operation not permitted
chown: VplotR.buildbin-libdir/VplotR/Meta/vignette.rds: Operation not permitted
chown: VplotR.buildbin-libdir/VplotR/Meta/data.rds: Operation not permitted
chown: VplotR.buildbin-libdir/VplotR/Meta/links.rds: Operation not permitted
chown: VplotR.buildbin-libdir/VplotR/Meta/features.rds: Operation not permitted
chown: VplotR.buildbin-libdir/VplotR/Meta/nsInfo.rds: Operation not permitted
chown: VplotR.buildbin-libdir/VplotR/Meta/package.rds: Operation not permitted
chown: VplotR.buildbin-libdir/VplotR/Meta/hsearch.rds: Operation not permitted
chown: VplotR.buildbin-libdir/VplotR/Meta/Rd.rds: Operation not permitted
chown: VplotR.buildbin-libdir/VplotR/Meta: Operation not permitted
chown: VplotR.buildbin-libdir/VplotR/NAMESPACE: Operation not permitted
chown: VplotR.buildbin-libdir/VplotR/html/R.css: Operation not permitted
chown: VplotR.buildbin-libdir/VplotR/html/00Index.html: Operation not permitted
chown: VplotR.buildbin-libdir/VplotR/html: Operation not permitted
chown: VplotR.buildbin-libdir/VplotR/DESCRIPTION: Operation not permitted
chown: VplotR.buildbin-libdir/VplotR/figures/vplot.png: Operation not permitted
chown: VplotR.buildbin-libdir/VplotR/figures/logo.png: Operation not permitted
chown: VplotR.buildbin-libdir/VplotR/figures/concept.png: Operation not permitted
chown: VplotR.buildbin-libdir/VplotR/figures/fragment_size_distribution.png: Operation not permitted
chown: VplotR.buildbin-libdir/VplotR/figures: Operation not permitted
chown: VplotR.buildbin-libdir/VplotR/INDEX: Operation not permitted
chown: VplotR.buildbin-libdir/VplotR/doc/index.html: Operation not permitted
chown: VplotR.buildbin-libdir/VplotR/doc/VplotR.Rmd: Operation not permitted
chown: VplotR.buildbin-libdir/VplotR/doc/VplotR.html: Operation not permitted
chown: VplotR.buildbin-libdir/VplotR/doc/VplotR.R: Operation not permitted
chown: VplotR.buildbin-libdir/VplotR/doc: Operation not permitted
chown: VplotR.buildbin-libdir/VplotR/data/ABF1_sacCer3.rda: Operation not permitted
chown: VplotR.buildbin-libdir/VplotR/data/MNase_sacCer3_Henikoff2011_subset.rda: Operation not permitted
chown: VplotR.buildbin-libdir/VplotR/data/REB1_sacCer3.rda: Operation not permitted
chown: VplotR.buildbin-libdir/VplotR/data/datalist: Operation not permitted
chown: VplotR.buildbin-libdir/VplotR/data/CTCF_hg38.rda: Operation not permitted
chown: VplotR.buildbin-libdir/VplotR/data/ce11_all_REs.rda: Operation not permitted
chown: VplotR.buildbin-libdir/VplotR/data/MNase_sacCer3_Henikoff2011.rda: Operation not permitted
chown: VplotR.buildbin-libdir/VplotR/data/ATAC_ce11_Serizay2020.rda: Operation not permitted
chown: VplotR.buildbin-libdir/VplotR/data/bam_test.rda: Operation not permitted
chown: VplotR.buildbin-libdir/VplotR/data/ce11_proms.rda: Operation not permitted
chown: VplotR.buildbin-libdir/VplotR/data: Operation not permitted
chown: VplotR.buildbin-libdir/VplotR/help/AnIndex: Operation not permitted
chown: VplotR.buildbin-libdir/VplotR/help/VplotR.rdx: Operation not permitted
chown: VplotR.buildbin-libdir/VplotR/help/VplotR.rdb: Operation not permitted
chown: VplotR.buildbin-libdir/VplotR/help/aliases.rds: Operation not permitted
chown: VplotR.buildbin-libdir/VplotR/help/paths.rds: Operation not permitted
chown: VplotR.buildbin-libdir/VplotR/help: Operation not permitted
chown: VplotR.buildbin-libdir/VplotR: Operation not permitted