Back to Multiple platform build/check report for BioC 3.21:   simplified   long
ABCDEFGHIJKLMNOPQRS[T]UVWXYZ

This page was generated on 2025-04-28 13:44 -0400 (Mon, 28 Apr 2025).

HostnameOSArch (*)R versionInstalled pkgs
nebbiolo1Linux (Ubuntu 24.04.1 LTS)x86_644.5.0 RC (2025-04-04 r88126) -- "How About a Twenty-Six" 4832
palomino7Windows Server 2022 Datacenterx644.5.0 RC (2025-04-04 r88126 ucrt) -- "How About a Twenty-Six" 4574
Click on any hostname to see more info about the system (e.g. compilers)      (*) as reported by 'uname -p', except on Windows and Mac OS X

Package 2252/2341HostnameOS / ArchINSTALLBUILDCHECKBUILD BIN
TSAR 1.6.0  (landing page)
Xinlin Gao
Snapshot Date: 2025-04-24 15:01 -0400 (Thu, 24 Apr 2025)
git_url: https://git.bioconductor.org/packages/TSAR
git_branch: RELEASE_3_21
git_last_commit: 501baad
git_last_commit_date: 2025-04-15 13:21:36 -0400 (Tue, 15 Apr 2025)
nebbiolo1Linux (Ubuntu 24.04.1 LTS) / x86_64  OK    OK    OK  UNNEEDED, same version is already published
palomino7Windows Server 2022 Datacenter / x64  OK    OK    OK    OK  UNNEEDED, same version is already published


CHECK results for TSAR on palomino7

To the developers/maintainers of the TSAR package:
- Allow up to 24 hours (and sometimes 48 hours) for your latest push to git@git.bioconductor.org:packages/TSAR.git to reflect on this report. See Troubleshooting Build Report for more information.
- Use the following Renviron settings to reproduce errors and warnings.
- If 'R CMD check' started to fail recently on the Linux builder(s) over a missing dependency, add the missing dependency to 'Suggests:' in your DESCRIPTION file. See Renviron.bioc for more information.

raw results


Summary

Package: TSAR
Version: 1.6.0
Command: E:\biocbuild\bbs-3.21-bioc\R\bin\R.exe CMD check --no-multiarch --install=check:TSAR.install-out.txt --library=E:\biocbuild\bbs-3.21-bioc\R\library --no-vignettes --timings TSAR_1.6.0.tar.gz
StartedAt: 2025-04-25 09:07:10 -0400 (Fri, 25 Apr 2025)
EndedAt: 2025-04-25 09:10:46 -0400 (Fri, 25 Apr 2025)
EllapsedTime: 215.9 seconds
RetCode: 0
Status:   OK  
CheckDir: TSAR.Rcheck
Warnings: 0

Command output

##############################################################################
##############################################################################
###
### Running command:
###
###   E:\biocbuild\bbs-3.21-bioc\R\bin\R.exe CMD check --no-multiarch --install=check:TSAR.install-out.txt --library=E:\biocbuild\bbs-3.21-bioc\R\library --no-vignettes --timings TSAR_1.6.0.tar.gz
###
##############################################################################
##############################################################################


* using log directory 'E:/biocbuild/bbs-3.21-bioc/meat/TSAR.Rcheck'
* using R version 4.5.0 RC (2025-04-04 r88126 ucrt)
* using platform: x86_64-w64-mingw32
* R was compiled by
    gcc.exe (GCC) 14.2.0
    GNU Fortran (GCC) 14.2.0
* running under: Windows Server 2022 x64 (build 20348)
* using session charset: UTF-8
* using option '--no-vignettes'
* checking for file 'TSAR/DESCRIPTION' ... OK
* checking extension type ... Package
* this is package 'TSAR' version '1.6.0'
* package encoding: UTF-8
* checking package namespace information ... OK
* checking package dependencies ... OK
* checking if this is a source package ... OK
* checking if there is a namespace ... OK
* checking for hidden files and directories ... OK
* checking for portable file names ... OK
* checking whether package 'TSAR' can be installed ... OK
* checking installed package size ... OK
* checking package directory ... OK
* checking 'build' directory ... OK
* checking DESCRIPTION meta-information ... OK
* checking top-level files ... OK
* checking for left-over files ... OK
* checking index information ... OK
* checking package subdirectories ... NOTE
Found the following CITATION file in a non-standard place:
  CITATION
Most likely 'inst/CITATION' should be used instead.
* checking code files for non-ASCII characters ... OK
* checking R files for syntax errors ... OK
* checking whether the package can be loaded ... OK
* checking whether the package can be loaded with stated dependencies ... OK
* checking whether the package can be unloaded cleanly ... OK
* checking whether the namespace can be loaded with stated dependencies ... OK
* checking whether the namespace can be unloaded cleanly ... OK
* checking dependencies in R code ... OK
* checking S3 generic/method consistency ... OK
* checking replacement functions ... OK
* checking foreign function calls ... OK
* checking R code for possible problems ... NOTE
TSA_Tms : <anonymous>: no visible binding for global variable 'well_ID'
TSA_Tms : <anonymous>: no visible binding for global variable 'Tm'
TSA_Tms : <anonymous>: no visible global function definition for 'sd'
TSA_Tms: no visible binding for global variable 'well_ID'
TSA_Tms: no visible binding for global variable 'Tm'
TSA_Tms: no visible binding for global variable 'condition_ID'
TSA_Tms: no visible binding for global variable 'Protein'
TSA_Tms: no visible binding for global variable 'Ligand'
TSA_average: no visible binding for global variable 'Temperature'
TSA_average: no visible binding for global variable 'Fluorescence'
TSA_average: no visible global function definition for 'sd'
TSA_average: no visible binding for global variable 'Normalized'
TSA_average: no visible global function definition for 'predict'
TSA_boxplot: no visible binding for global variable 'condition_ID'
TSA_boxplot: no visible binding for global variable 'Tm'
TSA_boxplot: no visible binding for global variable 'Ligand'
TSA_boxplot: no visible binding for global variable 'well_ID'
TSA_boxplot: no visible binding for global variable 'Protein'
TSA_compare_plot: no visible binding for global variable 'Temperature'
TSA_compare_plot: no visible binding for global variable 'avg_smooth'
TSA_compare_plot: no visible binding for global variable
  'sd_min_smooth'
TSA_compare_plot: no visible binding for global variable
  'sd_max_smooth'
TSA_compare_plot: no visible global function definition for
  'colorRampPalette'
TSA_wells_plot: no visible binding for global variable 'Temperature'
TSA_wells_plot: no visible binding for global variable 'Fluorescence'
TSA_wells_plot: no visible binding for global variable 'Normalized'
TSA_wells_plot: no visible binding for global variable 'well_ID'
TSA_wells_plot: no visible binding for global variable 'sd_min_smooth'
TSA_wells_plot: no visible binding for global variable 'sd_max_smooth'
TSA_wells_plot: no visible binding for global variable 'avg_smooth'
TSA_wells_plot: no visible binding for global variable 'sd_min'
TSA_wells_plot: no visible binding for global variable 'sd_max'
TSA_wells_plot: no visible binding for global variable 'average'
build_curves: no visible binding for global variable 'condition_ID'
build_table: no visible global function definition for 'head'
build_well: no visible global function definition for 'head'
dummy_plot: no visible binding for global variable 'x'
dummy_plot: no visible binding for global variable 'y'
gam_analysis : process_well: no visible binding for global variable
  'Well.Position'
gam_analysis : process_well: no visible global function definition for
  'all_of'
join_well_info: no visible binding for global variable 'Col'
join_well_info: no visible binding for global variable 'pos'
join_well_info: no visible binding for global variable 'Well'
join_well_info: no visible binding for global variable 'Protein'
join_well_info: no visible binding for global variable 'Ligand'
join_well_info: no visible global function definition for 'na.omit'
merge_norm : <anonymous>: no visible global function definition for
  'read.csv'
merge_norm : <anonymous>: no visible binding for global variable
  'Well.Position'
merge_norm : <anonymous>: no visible binding for global variable
  'Protein'
merge_norm : <anonymous>: no visible binding for global variable
  'Ligand'
merge_norm: no visible binding for global variable 'tm'
merge_norm: no visible binding for global variable 'Well.Position'
merge_update: no visible global function definition for 'na.omit'
model_boltzmann: no visible binding for global variable 'Temperature'
normalize: no visible global function definition for 'all_of'
preview_condition: no visible global function definition for 'head'
preview_model: no visible binding for global variable 'Well.Position'
read_analysis: no visible global function definition for 'read.delim'
read_analysis: no visible global function definition for 'read.csv'
read_raw_data: no visible global function definition for 'read.delim'
read_raw_data: no visible global function definition for 'read.csv'
remove_raw: no visible binding for global variable 'Well.Position'
remove_raw: no visible binding for global variable 'Well'
remove_selected_graph: no visible binding for global variable
  'condition_ID'
remove_selected_graph: no visible binding for global variable 'well_ID'
screen: no visible binding for global variable 'Well.Position'
screen: no visible binding for global variable 'Well'
screen : normalize_by_well: no visible binding for global variable
  'Well.Position'
screen: no visible binding for global variable 'Temperature'
screen: no visible binding for global variable 'Fluorescence'
view_deriv: no visible binding for global variable 'Temperature'
view_deriv: no visible binding for global variable 'norm_deriv'
view_deriv: no visible binding for global variable 'well_ID'
view_deriv: no visible binding for global variable 'Tm'
view_model: no visible binding for global variable 'Temperature'
view_model: no visible binding for global variable 'Normalized'
view_model: no visible binding for global variable 'fitted'
view_model: no visible global function definition for 'na.omit'
view_model: no visible binding for global variable 'norm_deriv'
view_model: no visible binding for global variable 'Well.Position'
Undefined global functions or variables:
  Col Fluorescence Ligand Normalized Protein Temperature Tm Well
  Well.Position all_of average avg_smooth colorRampPalette condition_ID
  fitted head na.omit norm_deriv pos predict read.csv read.delim sd
  sd_max sd_max_smooth sd_min sd_min_smooth tm well_ID x y
Consider adding
  importFrom("grDevices", "colorRampPalette")
  importFrom("stats", "fitted", "na.omit", "predict", "sd")
  importFrom("utils", "head", "read.csv", "read.delim")
to your NAMESPACE file.
* checking Rd files ... OK
* checking Rd metadata ... OK
* checking Rd cross-references ... NOTE
Found the following Rd file(s) with Rd \link{} targets missing package
anchors:
  model_gam.Rd: gam
Please provide package anchors for all Rd \link{} targets not in the
package itself and the base packages.
* checking for missing documentation entries ... OK
* checking for code/documentation mismatches ... OK
* checking Rd \usage sections ... OK
* checking Rd contents ... OK
* checking for unstated dependencies in examples ... OK
* checking contents of 'data' directory ... OK
* checking data for non-ASCII characters ... OK
* checking data for ASCII and uncompressed saves ... OK
* checking files in 'vignettes' ... OK
* checking examples ... OK
Examples with CPU (user + system) or elapsed time > 5s
                user system elapsed
TSA_wells_plot 26.58   1.11   27.70
gam_analysis   11.14   0.46   11.59
view_deriv      6.89   1.06   13.13
* checking for unstated dependencies in 'tests' ... OK
* checking tests ...
  Running 'testthat.R'
 OK
* checking for unstated dependencies in vignettes ... OK
* checking package vignettes ... OK
* checking running R code from vignettes ... SKIPPED
* checking re-building of vignette outputs ... SKIPPED
* checking PDF version of manual ... OK
* DONE

Status: 3 NOTEs
See
  'E:/biocbuild/bbs-3.21-bioc/meat/TSAR.Rcheck/00check.log'
for details.


Installation output

TSAR.Rcheck/00install.out

##############################################################################
##############################################################################
###
### Running command:
###
###   E:\biocbuild\bbs-3.21-bioc\R\bin\R.exe CMD INSTALL TSAR
###
##############################################################################
##############################################################################


* installing to library 'E:/biocbuild/bbs-3.21-bioc/R/library'
* installing *source* package 'TSAR' ...
** this is package 'TSAR' version '1.6.0'
** using staged installation
** R
** data
** inst
** byte-compile and prepare package for lazy loading
** help
*** installing help indices
** building package indices
** installing vignettes
** testing if installed package can be loaded from temporary location
** testing if installed package can be loaded from final location
** testing if installed package keeps a record of temporary installation path
* DONE (TSAR)

Tests output

TSAR.Rcheck/tests/testthat.Rout


R version 4.5.0 RC (2025-04-04 r88126 ucrt) -- "How About a Twenty-Six"
Copyright (C) 2025 The R Foundation for Statistical Computing
Platform: x86_64-w64-mingw32/x64

R is free software and comes with ABSOLUTELY NO WARRANTY.
You are welcome to redistribute it under certain conditions.
Type 'license()' or 'licence()' for distribution details.

R is a collaborative project with many contributors.
Type 'contributors()' for more information and
'citation()' on how to cite R or R packages in publications.

Type 'demo()' for some demos, 'help()' for on-line help, or
'help.start()' for an HTML browser interface to help.
Type 'q()' to quit R.

> # This file is part of the standard setup for testthat.
> # It is recommended that you do not modify it.
> #
> # Where should you do additional test configuration?
> # Learn more about the roles of various files in:
> # * https://r-pkgs.org/testing-design.html#sec-tests-files-overview
> # * https://testthat.r-lib.org/articles/special-files.html
> 
> library(testthat)
> library(TSAR)

Attaching package: 'TSAR'

The following object is masked from 'package:graphics':

    screen

> 
> test_check("TSAR")
[ FAIL 0 | WARN 0 | SKIP 0 | PASS 16 ]
> 
> proc.time()
   user  system elapsed 
  13.93    6.25   20.18 

Example timings

TSAR.Rcheck/TSAR-Ex.timings

nameusersystemelapsed
TSA_Tms0.360.701.06
TSA_boxplot1.240.832.07
TSA_ligands0.290.861.14
TSA_proteins0.360.691.05
TSA_wells_plot26.58 1.1127.70
Tm_difference1.110.561.67
Tm_est1.690.031.72
analyze_norm000
condition_IDs0.250.620.87
gam_analysis11.14 0.4611.59
get_legend0.670.781.47
graph_tsar000
join_well_info1.310.471.79
merge_norm1.690.031.72
merge_tsa000
model_boltzmann0.080.020.10
model_fit1.700.011.72
model_gam1.810.021.83
normalize0.060.000.06
normalize_fluorescence000
read_analysis000
read_raw_data000
read_tsar0.550.000.55
remove_raw0.750.401.15
rescale000
run_boltzmann0.080.000.08
screen1.630.051.69
tsa_average0.590.691.28
tsa_compare_plot3.280.674.13
view_deriv 6.89 1.0613.13
view_model2.420.112.62
weed_raw0.080.000.07
well_IDs0.360.641.00
write_tsar0.660.000.65