Back to Multiple platform build/check report for BioC 3.21: simplified long |
|
This page was generated on 2025-04-28 13:01 -0400 (Mon, 28 Apr 2025).
Hostname | OS | Arch (*) | R version | Installed pkgs |
---|---|---|---|---|
nebbiolo1 | Linux (Ubuntu 24.04.1 LTS) | x86_64 | 4.5.0 RC (2025-04-04 r88126) -- "How About a Twenty-Six" | 4832 |
palomino7 | Windows Server 2022 Datacenter | x64 | 4.5.0 RC (2025-04-04 r88126 ucrt) -- "How About a Twenty-Six" | 4574 |
merida1 | macOS 12.7.5 Monterey | x86_64 | 4.5.0 RC (2025-04-04 r88126) -- "How About a Twenty-Six" | 4558 |
kjohnson1 | macOS 13.6.6 Ventura | arm64 | 4.5.0 RC (2025-04-04 r88129) -- "How About a Twenty-Six" | 4553 |
Click on any hostname to see more info about the system (e.g. compilers) (*) as reported by 'uname -p', except on Windows and Mac OS X |
Package 1889/2341 | Hostname | OS / Arch | INSTALL | BUILD | CHECK | BUILD BIN | ||||||||
SCArray.sat 1.8.0 (landing page) Xiuwen Zheng
| nebbiolo1 | Linux (Ubuntu 24.04.1 LTS) / x86_64 | OK | OK | OK | ![]() | ||||||||
palomino7 | Windows Server 2022 Datacenter / x64 | OK | OK | OK | OK | ![]() | ||||||||
merida1 | macOS 12.7.5 Monterey / x86_64 | OK | OK | OK | ERROR | |||||||||
kjohnson1 | macOS 13.6.6 Ventura / arm64 | OK | OK | OK | ERROR | |||||||||
To the developers/maintainers of the SCArray.sat package: - Allow up to 24 hours (and sometimes 48 hours) for your latest push to git@git.bioconductor.org:packages/SCArray.sat.git to reflect on this report. See Troubleshooting Build Report for more information. - Use the following Renviron settings to reproduce errors and warnings. - If 'R CMD check' started to fail recently on the Linux builder(s) over a missing dependency, add the missing dependency to 'Suggests:' in your DESCRIPTION file. See Renviron.bioc for more information. |
Package: SCArray.sat |
Version: 1.8.0 |
Command: rm -rf SCArray.sat.buildbin-libdir && mkdir SCArray.sat.buildbin-libdir && /Users/biocbuild/BBS/utils/build-universal.sh SCArray.sat_1.8.0.tar.gz /Library/Frameworks/R.framework/Resources/bin/R SCArray.sat.buildbin-libdir |
StartedAt: 2025-04-25 14:27:28 -0400 (Fri, 25 Apr 2025) |
EndedAt: 2025-04-25 14:29:25 -0400 (Fri, 25 Apr 2025) |
EllapsedTime: 116.7 seconds |
RetCode: 1 |
Status: ERROR |
PackageFile: None |
PackageFileSize: NA |
############################################################################## ############################################################################## ### ### Running command: ### ### rm -rf SCArray.sat.buildbin-libdir && mkdir SCArray.sat.buildbin-libdir && /Users/biocbuild/BBS/utils/build-universal.sh SCArray.sat_1.8.0.tar.gz /Library/Frameworks/R.framework/Resources/bin/R SCArray.sat.buildbin-libdir ### ############################################################################## ############################################################################## >>>>>>> >>>>>>> INSTALLATION WITH 'R CMD INSTALL --preclean --no-multiarch --library=SCArray.sat.buildbin-libdir SCArray.sat_1.8.0.tar.gz' >>>>>>> * installing *source* package ‘SCArray.sat’ ... ** this is package ‘SCArray.sat’ version ‘1.8.0’ ** using staged installation ** R ** inst ** byte-compile and prepare package for lazy loading ** help *** installing help indices ** building package indices ** installing vignettes ** testing if installed package can be loaded from temporary location ** testing if installed package can be loaded from final location ** testing if installed package keeps a record of temporary installation path * DONE (SCArray.sat) chown: SCArray.sat.buildbin-libdir/SCArray.sat/CITATION: Operation not permitted chown: SCArray.sat.buildbin-libdir/SCArray.sat/R/SCArray.sat.rdb: Operation not permitted chown: SCArray.sat.buildbin-libdir/SCArray.sat/R/SCArray.sat: Operation not permitted chown: SCArray.sat.buildbin-libdir/SCArray.sat/R/SCArray.sat.rdx: Operation not permitted chown: SCArray.sat.buildbin-libdir/SCArray.sat/R: Operation not permitted chown: SCArray.sat.buildbin-libdir/SCArray.sat/unitTests/test_seurat.R: Operation not permitted chown: SCArray.sat.buildbin-libdir/SCArray.sat/unitTests: Operation not permitted chown: SCArray.sat.buildbin-libdir/SCArray.sat/Meta/vignette.rds: Operation not permitted chown: SCArray.sat.buildbin-libdir/SCArray.sat/Meta/links.rds: Operation not permitted chown: SCArray.sat.buildbin-libdir/SCArray.sat/Meta/features.rds: Operation not permitted chown: SCArray.sat.buildbin-libdir/SCArray.sat/Meta/nsInfo.rds: Operation not permitted chown: SCArray.sat.buildbin-libdir/SCArray.sat/Meta/package.rds: Operation not permitted chown: SCArray.sat.buildbin-libdir/SCArray.sat/Meta/hsearch.rds: Operation not permitted chown: SCArray.sat.buildbin-libdir/SCArray.sat/Meta/Rd.rds: Operation not permitted chown: SCArray.sat.buildbin-libdir/SCArray.sat/Meta: Operation not permitted chown: SCArray.sat.buildbin-libdir/SCArray.sat/NAMESPACE: Operation not permitted chown: SCArray.sat.buildbin-libdir/SCArray.sat/html/R.css: Operation not permitted chown: SCArray.sat.buildbin-libdir/SCArray.sat/html/00Index.html: Operation not permitted chown: SCArray.sat.buildbin-libdir/SCArray.sat/html: Operation not permitted chown: SCArray.sat.buildbin-libdir/SCArray.sat/DESCRIPTION: Operation not permitted chown: SCArray.sat.buildbin-libdir/SCArray.sat/NEWS: Operation not permitted chown: SCArray.sat.buildbin-libdir/SCArray.sat/INDEX: Operation not permitted chown: SCArray.sat.buildbin-libdir/SCArray.sat/doc/SCArray.sat.Rmd: Operation not permitted chown: SCArray.sat.buildbin-libdir/SCArray.sat/doc/index.html: Operation not permitted chown: SCArray.sat.buildbin-libdir/SCArray.sat/doc/SCArray.sat.R: Operation not permitted chown: SCArray.sat.buildbin-libdir/SCArray.sat/doc/SCArray.sat.html: Operation not permitted chown: SCArray.sat.buildbin-libdir/SCArray.sat/doc: Operation not permitted chown: SCArray.sat.buildbin-libdir/SCArray.sat/help/AnIndex: Operation not permitted chown: SCArray.sat.buildbin-libdir/SCArray.sat/help/SCArray.sat.rdb: Operation not permitted chown: SCArray.sat.buildbin-libdir/SCArray.sat/help/SCArray.sat.rdx: Operation not permitted chown: SCArray.sat.buildbin-libdir/SCArray.sat/help/aliases.rds: Operation not permitted chown: SCArray.sat.buildbin-libdir/SCArray.sat/help/paths.rds: Operation not permitted chown: SCArray.sat.buildbin-libdir/SCArray.sat/help: Operation not permitted chown: SCArray.sat.buildbin-libdir/SCArray.sat: Operation not permitted