Back to Multiple platform build/check report for BioC 3.21:   simplified   long
ABCDEFGHIJKLMNOPQ[R]STUVWXYZ

This page was generated on 2025-04-28 13:43 -0400 (Mon, 28 Apr 2025).

HostnameOSArch (*)R versionInstalled pkgs
nebbiolo1Linux (Ubuntu 24.04.1 LTS)x86_644.5.0 RC (2025-04-04 r88126) -- "How About a Twenty-Six" 4832
palomino7Windows Server 2022 Datacenterx644.5.0 RC (2025-04-04 r88126 ucrt) -- "How About a Twenty-Six" 4574
Click on any hostname to see more info about the system (e.g. compilers)      (*) as reported by 'uname -p', except on Windows and Mac OS X

Package 1851/2341HostnameOS / ArchINSTALLBUILDCHECKBUILD BIN
Rtpca 1.18.0  (landing page)
Nils Kurzawa
Snapshot Date: 2025-04-24 15:01 -0400 (Thu, 24 Apr 2025)
git_url: https://git.bioconductor.org/packages/Rtpca
git_branch: RELEASE_3_21
git_last_commit: 9688ca6
git_last_commit_date: 2025-04-15 12:04:10 -0400 (Tue, 15 Apr 2025)
nebbiolo1Linux (Ubuntu 24.04.1 LTS) / x86_64  OK    OK    OK  UNNEEDED, same version is already published
palomino7Windows Server 2022 Datacenter / x64  OK    OK    OK    OK  UNNEEDED, same version is already published


CHECK results for Rtpca on palomino7

To the developers/maintainers of the Rtpca package:
- Allow up to 24 hours (and sometimes 48 hours) for your latest push to git@git.bioconductor.org:packages/Rtpca.git to reflect on this report. See Troubleshooting Build Report for more information.
- Use the following Renviron settings to reproduce errors and warnings.
- If 'R CMD check' started to fail recently on the Linux builder(s) over a missing dependency, add the missing dependency to 'Suggests:' in your DESCRIPTION file. See Renviron.bioc for more information.

raw results


Summary

Package: Rtpca
Version: 1.18.0
Command: E:\biocbuild\bbs-3.21-bioc\R\bin\R.exe CMD check --no-multiarch --install=check:Rtpca.install-out.txt --library=E:\biocbuild\bbs-3.21-bioc\R\library --no-vignettes --timings Rtpca_1.18.0.tar.gz
StartedAt: 2025-04-25 07:22:39 -0400 (Fri, 25 Apr 2025)
EndedAt: 2025-04-25 07:24:15 -0400 (Fri, 25 Apr 2025)
EllapsedTime: 96.6 seconds
RetCode: 0
Status:   OK  
CheckDir: Rtpca.Rcheck
Warnings: 0

Command output

##############################################################################
##############################################################################
###
### Running command:
###
###   E:\biocbuild\bbs-3.21-bioc\R\bin\R.exe CMD check --no-multiarch --install=check:Rtpca.install-out.txt --library=E:\biocbuild\bbs-3.21-bioc\R\library --no-vignettes --timings Rtpca_1.18.0.tar.gz
###
##############################################################################
##############################################################################


* using log directory 'E:/biocbuild/bbs-3.21-bioc/meat/Rtpca.Rcheck'
* using R version 4.5.0 RC (2025-04-04 r88126 ucrt)
* using platform: x86_64-w64-mingw32
* R was compiled by
    gcc.exe (GCC) 14.2.0
    GNU Fortran (GCC) 14.2.0
* running under: Windows Server 2022 x64 (build 20348)
* using session charset: UTF-8
* using option '--no-vignettes'
* checking for file 'Rtpca/DESCRIPTION' ... OK
* this is package 'Rtpca' version '1.18.0'
* package encoding: UTF-8
* checking package namespace information ... OK
* checking package dependencies ... OK
* checking if this is a source package ... OK
* checking if there is a namespace ... OK
* checking for hidden files and directories ... OK
* checking for portable file names ... OK
* checking whether package 'Rtpca' can be installed ... OK
* checking installed package size ... OK
* checking package directory ... OK
* checking 'build' directory ... OK
* checking DESCRIPTION meta-information ... OK
* checking top-level files ... OK
* checking for left-over files ... OK
* checking index information ... OK
* checking package subdirectories ... OK
* checking code files for non-ASCII characters ... OK
* checking R files for syntax errors ... OK
* checking whether the package can be loaded ... OK
* checking whether the package can be loaded with stated dependencies ... OK
* checking whether the package can be unloaded cleanly ... OK
* checking whether the namespace can be loaded with stated dependencies ... OK
* checking whether the namespace can be unloaded cleanly ... OK
* checking dependencies in R code ... NOTE
Namespace in Imports field not imported from: 'tibble'
  All declared Imports should be used.
* checking S3 generic/method consistency ... OK
* checking replacement functions ... OK
* checking foreign function calls ... OK
* checking R code for possible problems ... NOTE
.getRandomProteinPairs: no visible binding for global variable 'pair'
Undefined global functions or variables:
  pair
* checking Rd files ... OK
* checking Rd metadata ... OK
* checking Rd cross-references ... OK
* checking for missing documentation entries ... OK
* checking for code/documentation mismatches ... OK
* checking Rd \usage sections ... OK
* checking Rd contents ... OK
* checking for unstated dependencies in examples ... OK
* checking contents of 'data' directory ... OK
* checking data for non-ASCII characters ... OK
* checking data for ASCII and uncompressed saves ... OK
* checking files in 'vignettes' ... OK
* checking examples ... OK
* checking for unstated dependencies in 'tests' ... OK
* checking tests ...
  Running 'testthat.R'
 OK
* checking for unstated dependencies in vignettes ... OK
* checking package vignettes ... OK
* checking running R code from vignettes ... SKIPPED
* checking re-building of vignette outputs ... SKIPPED
* checking PDF version of manual ... OK
* DONE

Status: 2 NOTEs
See
  'E:/biocbuild/bbs-3.21-bioc/meat/Rtpca.Rcheck/00check.log'
for details.


Installation output

Rtpca.Rcheck/00install.out

##############################################################################
##############################################################################
###
### Running command:
###
###   E:\biocbuild\bbs-3.21-bioc\R\bin\R.exe CMD INSTALL Rtpca
###
##############################################################################
##############################################################################


* installing to library 'E:/biocbuild/bbs-3.21-bioc/R/library'
* installing *source* package 'Rtpca' ...
** this is package 'Rtpca' version '1.18.0'
** using staged installation
** R
** data
** inst
** byte-compile and prepare package for lazy loading
** help
*** installing help indices
** building package indices
** installing vignettes
** testing if installed package can be loaded from temporary location
** testing if installed package can be loaded from final location
** testing if installed package keeps a record of temporary installation path
* DONE (Rtpca)

Tests output

Rtpca.Rcheck/tests/testthat.Rout


R version 4.5.0 RC (2025-04-04 r88126 ucrt) -- "How About a Twenty-Six"
Copyright (C) 2025 The R Foundation for Statistical Computing
Platform: x86_64-w64-mingw32/x64

R is free software and comes with ABSOLUTELY NO WARRANTY.
You are welcome to redistribute it under certain conditions.
Type 'license()' or 'licence()' for distribution details.

R is a collaborative project with many contributors.
Type 'contributors()' for more information and
'citation()' on how to cite R or R packages in publications.

Type 'demo()' for some demos, 'help()' for on-line help, or
'help.start()' for an HTML browser interface to help.
Type 'q()' to quit R.

> library(testthat)
> library(Rtpca)
Loading required package: dplyr

Attaching package: 'dplyr'

The following object is masked from 'package:testthat':

    matches

The following objects are masked from 'package:stats':

    filter, lag

The following objects are masked from 'package:base':

    intersect, setdiff, setequal, union

Loading required package: tidyr

Attaching package: 'tidyr'

The following object is masked from 'package:testthat':

    matches

> 
> test_check("Rtpca")
[ FAIL 0 | WARN 1 | SKIP 0 | PASS 38 ]

[ FAIL 0 | WARN 1 | SKIP 0 | PASS 38 ]
> 
> proc.time()
   user  system elapsed 
   5.65    0.28    5.93 

Example timings

Rtpca.Rcheck/Rtpca-Ex.timings

nameusersystemelapsed
CommonFeatures-tpcaResult-method0.390.020.41
ComplexAnnotation-tpcaResult-method000
ComplexBackgroundDistributionList-tpcaResult-method000
ComplexRocTable-tpcaResult-method000
ContrastCondName-tpcaResult-method000
ContrastDistMat-tpcaResult-method000
ContrastList-tpcaResult-method000
CtrlCondName-tpcaResult-method000
DistMat-tpcaResult-method000
DistMethod-tpcaResult-method000
ObjList-tpcaResult-method000
PPiAnnotation-tpcaResult-method000
PPiRocTable-tpcaResult-method0.020.000.02
PPiRocTableAnno-tpcaResult-method000
SetCommonFeatures-tpcaResult-method000
SetComplexAnnotation-tpcaResult-method0.020.000.02
SetComplexBackgroundDistributionList-tpcaResult-method000
SetComplexRocTable-tpcaResult-method0.010.000.02
SetContrastCondName-tpcaResult-method000
SetContrastDistMat-tpcaResult-method000
SetCtrlCondName-tpcaResult-method000
SetDiffTpcaResultTable-tpcaResult-method000
SetDistMat-tpcaResult-method000
SetDistMethod-tpcaResult-method0.020.000.02
SetPPiRocTable-tpcaResult-method000
SetPPiRocTableAnno-tpcaResult-method0.010.000.01
SetSummaryMethod-tpcaResult-method000
SetTpcaResultTable-tpcaResult-method0.020.000.02
SummaryMethod-tpcaResult-method000
createDistMat0.370.000.38
diffTpcaResultTable-tpcaResult-method000
ori_et_al_complex_ppis0.080.140.22
ori_et_al_complexes_df0.000.060.07
plotComplexRoc0.410.000.41
plotDiffTpcaVolcano0.400.020.44
plotPPiProfiles2.210.162.37
plotPPiRoc0.200.000.23
plotTpcaVolcano1.080.031.13
runDiffTPCA0.160.010.17
runTPCA0.420.000.42
string_ppi_df1.420.051.47
tpcaResult-class000
tpcaResultTable-tpcaResult-method000