Back to Multiple platform build/check report for BioC 3.21: simplified long |
|
This page was generated on 2025-04-28 13:02 -0400 (Mon, 28 Apr 2025).
Hostname | OS | Arch (*) | R version | Installed pkgs |
---|---|---|---|---|
nebbiolo1 | Linux (Ubuntu 24.04.1 LTS) | x86_64 | 4.5.0 RC (2025-04-04 r88126) -- "How About a Twenty-Six" | 4832 |
palomino7 | Windows Server 2022 Datacenter | x64 | 4.5.0 RC (2025-04-04 r88126 ucrt) -- "How About a Twenty-Six" | 4574 |
merida1 | macOS 12.7.5 Monterey | x86_64 | 4.5.0 RC (2025-04-04 r88126) -- "How About a Twenty-Six" | 4558 |
kjohnson1 | macOS 13.6.6 Ventura | arm64 | 4.5.0 RC (2025-04-04 r88129) -- "How About a Twenty-Six" | 4553 |
Click on any hostname to see more info about the system (e.g. compilers) (*) as reported by 'uname -p', except on Windows and Mac OS X |
Package 1728/2341 | Hostname | OS / Arch | INSTALL | BUILD | CHECK | BUILD BIN | ||||||||
ReactomeGSA 1.22.0 (landing page) Johannes Griss
| nebbiolo1 | Linux (Ubuntu 24.04.1 LTS) / x86_64 | OK | OK | OK | ![]() | ||||||||
palomino7 | Windows Server 2022 Datacenter / x64 | OK | OK | OK | OK | ![]() | ||||||||
merida1 | macOS 12.7.5 Monterey / x86_64 | OK | OK | ERROR | ERROR | |||||||||
kjohnson1 | macOS 13.6.6 Ventura / arm64 | OK | OK | OK | ERROR | |||||||||
To the developers/maintainers of the ReactomeGSA package: - Allow up to 24 hours (and sometimes 48 hours) for your latest push to git@git.bioconductor.org:packages/ReactomeGSA.git to reflect on this report. See Troubleshooting Build Report for more information. - Use the following Renviron settings to reproduce errors and warnings. - If 'R CMD check' started to fail recently on the Linux builder(s) over a missing dependency, add the missing dependency to 'Suggests:' in your DESCRIPTION file. See Renviron.bioc for more information. |
Package: ReactomeGSA |
Version: 1.22.0 |
Command: /Library/Frameworks/R.framework/Resources/bin/R CMD check --install=check:ReactomeGSA.install-out.txt --library=/Library/Frameworks/R.framework/Resources/library --no-vignettes --timings ReactomeGSA_1.22.0.tar.gz |
StartedAt: 2025-04-26 08:07:12 -0400 (Sat, 26 Apr 2025) |
EndedAt: 2025-04-26 08:24:37 -0400 (Sat, 26 Apr 2025) |
EllapsedTime: 1045.1 seconds |
RetCode: 0 |
Status: OK |
CheckDir: ReactomeGSA.Rcheck |
Warnings: 0 |
############################################################################## ############################################################################## ### ### Running command: ### ### /Library/Frameworks/R.framework/Resources/bin/R CMD check --install=check:ReactomeGSA.install-out.txt --library=/Library/Frameworks/R.framework/Resources/library --no-vignettes --timings ReactomeGSA_1.22.0.tar.gz ### ############################################################################## ############################################################################## * using log directory ‘/Users/biocbuild/bbs-3.21-bioc/meat/ReactomeGSA.Rcheck’ * using R version 4.5.0 RC (2025-04-04 r88129) * using platform: aarch64-apple-darwin20 * R was compiled by Apple clang version 14.0.0 (clang-1400.0.29.202) GNU Fortran (GCC) 14.2.0 * running under: macOS Ventura 13.7.5 * using session charset: UTF-8 * using option ‘--no-vignettes’ * checking for file ‘ReactomeGSA/DESCRIPTION’ ... OK * checking extension type ... Package * this is package ‘ReactomeGSA’ version ‘1.22.0’ * package encoding: UTF-8 * checking package namespace information ... OK * checking package dependencies ... OK * checking if this is a source package ... OK * checking if there is a namespace ... OK * checking for hidden files and directories ... OK * checking for portable file names ... OK * checking for sufficient/correct file permissions ... OK * checking whether package ‘ReactomeGSA’ can be installed ... OK * checking installed package size ... OK * checking package directory ... OK * checking ‘build’ directory ... OK * checking DESCRIPTION meta-information ... OK * checking top-level files ... OK * checking for left-over files ... OK * checking index information ... OK * checking package subdirectories ... OK * checking code files for non-ASCII characters ... OK * checking R files for syntax errors ... OK * checking whether the package can be loaded ... OK * checking whether the package can be loaded with stated dependencies ... OK * checking whether the package can be unloaded cleanly ... OK * checking whether the namespace can be loaded with stated dependencies ... OK * checking whether the namespace can be unloaded cleanly ... OK * checking whether startup messages can be suppressed ... OK * checking dependencies in R code ... OK * checking S3 generic/method consistency ... OK * checking replacement functions ... OK * checking foreign function calls ... OK * checking R code for possible problems ... NOTE plot_correlations,ReactomeAnalysisResult: no visible binding for global variable ‘combined_sig’ plot_correlations,ReactomeAnalysisResult: no visible binding for global variable ‘alpha’ plot_gsva_pathway,ReactomeAnalysisResult: no visible binding for global variable ‘cluster_id’ plot_gsva_pathway,ReactomeAnalysisResult: no visible binding for global variable ‘expr’ plot_gsva_pca,ReactomeAnalysisResult: no visible binding for global variable ‘gsva_result’ plot_gsva_pca,ReactomeAnalysisResult: no visible binding for global variable ‘PC1’ plot_gsva_pca,ReactomeAnalysisResult: no visible binding for global variable ‘PC2’ plot_heatmap,ReactomeAnalysisResult: no visible global function definition for ‘desc’ plot_heatmap,ReactomeAnalysisResult: no visible binding for global variable ‘n_sig’ plot_heatmap,ReactomeAnalysisResult: no visible binding for global variable ‘dataset’ plot_heatmap,ReactomeAnalysisResult: no visible binding for global variable ‘Name’ plot_volcano,ReactomeAnalysisResult: no visible binding for global variable ‘av_foldchange’ plot_volcano,ReactomeAnalysisResult: no visible binding for global variable ‘FDR’ Undefined global functions or variables: FDR Name PC1 PC2 alpha av_foldchange cluster_id combined_sig dataset desc expr gsva_result n_sig * checking Rd files ... OK * checking Rd metadata ... OK * checking Rd cross-references ... OK * checking for missing documentation entries ... OK * checking for code/documentation mismatches ... OK * checking Rd \usage sections ... OK * checking Rd contents ... OK * checking for unstated dependencies in examples ... OK * checking files in ‘vignettes’ ... OK * checking examples ... OK Examples with CPU (user + system) or elapsed time > 5s user system elapsed plot_gsva_heatmap-ReactomeAnalysisResult-method 32.274 2.112 112.742 analyse_sc_clusters 30.829 2.223 218.442 plot_gsva_heatmap 30.217 2.011 62.568 analyse_sc_clusters-Seurat-method 29.935 2.012 63.171 plot_gsva_pca 29.216 2.278 64.193 analyse_sc_clusters-SingleCellExperiment-method 29.487 1.977 62.952 plot_gsva_pca-ReactomeAnalysisResult-method 29.171 2.119 63.091 plot_gsva_pathway 28.973 1.956 63.184 plot_gsva_pathway-ReactomeAnalysisResult-method 28.437 1.772 62.814 generate_pseudo_bulk_data 17.384 1.296 18.801 ReactomeAnalysisRequest 6.055 0.319 6.384 perform_reactome_analysis 4.640 0.513 127.035 load_public_dataset 1.584 0.173 41.181 * checking for unstated dependencies in ‘tests’ ... OK * checking tests ... Running ‘testthat.R’ OK * checking for unstated dependencies in vignettes ... OK * checking package vignettes ... OK * checking running R code from vignettes ... SKIPPED * checking re-building of vignette outputs ... SKIPPED * checking PDF version of manual ... OK * DONE Status: 1 NOTE See ‘/Users/biocbuild/bbs-3.21-bioc/meat/ReactomeGSA.Rcheck/00check.log’ for details.
ReactomeGSA.Rcheck/00install.out
############################################################################## ############################################################################## ### ### Running command: ### ### /Library/Frameworks/R.framework/Resources/bin/R CMD INSTALL ReactomeGSA ### ############################################################################## ############################################################################## * installing to library ‘/Library/Frameworks/R.framework/Versions/4.5-arm64/Resources/library’ * installing *source* package ‘ReactomeGSA’ ... ** this is package ‘ReactomeGSA’ version ‘1.22.0’ ** using staged installation ** R ** inst ** byte-compile and prepare package for lazy loading in method for ‘analyse_sc_clusters’ with signature ‘object="Seurat"’: no definition for class “Seurat” in method for ‘analyse_sc_clusters’ with signature ‘object="SingleCellExperiment"’: no definition for class “SingleCellExperiment” in method for ‘add_dataset’ with signature ‘request="ReactomeAnalysisRequest",expression_values="EList"’: no definition for class “EList” in method for ‘add_dataset’ with signature ‘request="ReactomeAnalysisRequest",expression_values="DGEList"’: no definition for class “DGEList” in method for ‘generate_pseudo_bulk_data’ with signature ‘object="Seurat"’: no definition for class “Seurat” in method for ‘generate_pseudo_bulk_data’ with signature ‘object="SingleCellExperiment"’: no definition for class “SingleCellExperiment” ** help *** installing help indices ** building package indices ** installing vignettes ** testing if installed package can be loaded from temporary location ** testing if installed package can be loaded from final location ** testing if installed package keeps a record of temporary installation path * DONE (ReactomeGSA)
ReactomeGSA.Rcheck/tests/testthat.Rout
R version 4.5.0 RC (2025-04-04 r88129) -- "How About a Twenty-Six" Copyright (C) 2025 The R Foundation for Statistical Computing Platform: aarch64-apple-darwin20 R is free software and comes with ABSOLUTELY NO WARRANTY. You are welcome to redistribute it under certain conditions. Type 'license()' or 'licence()' for distribution details. R is a collaborative project with many contributors. Type 'contributors()' for more information and 'citation()' on how to cite R or R packages in publications. Type 'demo()' for some demos, 'help()' for on-line help, or 'help.start()' for an HTML browser interface to help. Type 'q()' to quit R. > library(testthat) > library(ReactomeGSA) > > test_check("ReactomeGSA") [ FAIL 0 | WARN 0 | SKIP 0 | PASS 17 ] > > proc.time() user system elapsed 1.930 0.158 2.087
ReactomeGSA.Rcheck/ReactomeGSA-Ex.timings
name | user | system | elapsed | |
ReactomeAnalysisRequest | 6.055 | 0.319 | 6.384 | |
ReactomeAnalysisResult-class | 0.267 | 0.012 | 0.281 | |
add_dataset-ReactomeAnalysisRequest-DGEList-method | 0.836 | 0.078 | 0.914 | |
add_dataset-ReactomeAnalysisRequest-EList-method | 0.842 | 0.062 | 0.904 | |
add_dataset-ReactomeAnalysisRequest-ExpressionSet-method | 0.847 | 0.054 | 0.901 | |
add_dataset-ReactomeAnalysisRequest-data.frame-method | 0.846 | 0.070 | 0.918 | |
add_dataset-ReactomeAnalysisRequest-matrix-method | 0.857 | 0.056 | 0.913 | |
add_dataset | 0.844 | 0.075 | 0.919 | |
analyse_sc_clusters-Seurat-method | 29.935 | 2.012 | 63.171 | |
analyse_sc_clusters-SingleCellExperiment-method | 29.487 | 1.977 | 62.952 | |
analyse_sc_clusters | 30.829 | 2.223 | 218.442 | |
find_public_datasets | 0.117 | 0.017 | 1.734 | |
generate_metadata | 0.002 | 0.000 | 0.002 | |
generate_pseudo_bulk_data | 17.384 | 1.296 | 18.801 | |
get_public_species | 0.032 | 0.004 | 0.277 | |
get_reactome_data_types | 0.065 | 0.008 | 0.361 | |
get_reactome_methods | 0.107 | 0.015 | 0.496 | |
get_result-ReactomeAnalysisResult-method | 0.319 | 0.017 | 0.336 | |
get_result | 0.295 | 0.015 | 0.310 | |
load_public_dataset | 1.584 | 0.173 | 41.181 | |
names-ReactomeAnalysisResult-method | 0.264 | 0.012 | 0.277 | |
open_reactome-ReactomeAnalysisResult-method | 0.291 | 0.015 | 0.305 | |
open_reactome | 0.326 | 0.020 | 0.345 | |
pathways-ReactomeAnalysisResult-method | 0.329 | 0.015 | 0.344 | |
pathways | 0.341 | 0.015 | 0.357 | |
perform_reactome_analysis | 4.640 | 0.513 | 127.035 | |
plot_correlations-ReactomeAnalysisResult-method | 0.372 | 0.015 | 0.386 | |
plot_correlations | 0.339 | 0.015 | 0.354 | |
plot_gsva_heatmap-ReactomeAnalysisResult-method | 32.274 | 2.112 | 112.742 | |
plot_gsva_heatmap | 30.217 | 2.011 | 62.568 | |
plot_gsva_pathway-ReactomeAnalysisResult-method | 28.437 | 1.772 | 62.814 | |
plot_gsva_pathway | 28.973 | 1.956 | 63.184 | |
plot_gsva_pca-ReactomeAnalysisResult-method | 29.171 | 2.119 | 63.091 | |
plot_gsva_pca | 29.216 | 2.278 | 64.193 | |
plot_heatmap-ReactomeAnalysisResult-method | 0.533 | 0.025 | 0.577 | |
plot_heatmap | 0.639 | 0.016 | 0.656 | |
plot_volcano-ReactomeAnalysisResult-method | 0.297 | 0.015 | 0.312 | |
plot_volcano | 0.314 | 0.015 | 0.328 | |
print-ReactomeAnalysisRequest-method | 0.001 | 0.000 | 0.002 | |
print-ReactomeAnalysisResult-method | 0.299 | 0.015 | 0.316 | |
reactome_links-ReactomeAnalysisResult-method | 0.294 | 0.014 | 0.308 | |
reactome_links | 0.290 | 0.016 | 0.307 | |
result_types-ReactomeAnalysisResult-method | 0.303 | 0.016 | 0.321 | |
result_types | 0.336 | 0.016 | 0.352 | |
set_method-ReactomeAnalysisRequest-method | 0.002 | 0.002 | 0.005 | |
set_method | 0.002 | 0.002 | 0.003 | |
set_parameters-ReactomeAnalysisRequest-method | 0.002 | 0.000 | 0.002 | |
set_parameters | 0.002 | 0.001 | 0.001 | |
show-ReactomeAnalysisRequest-method | 0.001 | 0.001 | 0.002 | |
show-ReactomeAnalysisResult-method | 0.303 | 0.015 | 0.319 | |